{"text_format":"1","workbook":"xlsx","n_sheets":17,"sheets":["Стенды","Строки","Таблички","Буквы","Печать","ФТабл.","ФБуквы","Короба","ФКороба","Бланк заказа","Лист3","Матер","ЗП буквы","Световые короба","Световые короба калькулятор","Смета","Смета (образец)"],"not_rendered":{"charts":0,"images":1,"macros":1,"external_links":0,"defined_names":19,"comments":5,"pivot_tables":0},"unopened":[],"bounds":{"document_bytes":16777216,"sheet_cells":100000,"rows_first":2000,"rows_last":500,"rows_between":2000,"halvings":0,"cell_chars":16384,"cell_head_chars":4096},"cells_cut":0,"cells_raw":0,"read":"whole","date_system":"1900"}

{"sheet":"Стенды","index":0,"n_rows":20,"n_cols":17,"rows_kept":20,"cut":false,"hidden":true,"merged":[[0,0,1,16],[3,0,3,8],[3,11,3,16],[4,11,4,12],[4,14,5,14],[5,0,5,1],[5,2,6,3],[5,4,6,4],[5,5,6,5],[5,6,6,7],[14,13,17,16],[19,1,20,4],[5,8,6,8],[5,9,6,9],[7,0,11,0],[7,1,11,1],[13,2,13,8],[13,11,13,12]]}
["Рекламно производственная компания \"Белый Сокол\""]
[]
[]
["Нестандартные информационные стенды",null,null,null,null,null,null,null,null,null,null,"Стандартные информационные стенды"]
[null,null,null,null,null,null,null,null,null,null,null,"Стенды",null,null,"Кол-во"]
["Размер в см.",null,"Карманы",null,"Кол-во","Ст-ть","Объёмные карманы",null,"Кол-во","Ст-ть",null,"Карманы","Размеры"]
["Ширина","высота",null,null,null,null,null,null,null,null,null,1,"30х45",null,1,true,{"$f":"IF(P7,300)*O7","v":300}]
[80,100,"А5",80,0,{"$f":"D8*E8","v":0},"Под визитки",150,null,{"$f":"I8*H8","v":0},null,2,"60х50",null,1,{"$f":"FALSE","v":false},{"$f":"IF(P8,650)*O8","v":0}]
[null,null,"А4",150,6,{"$f":"D9*E9","v":900},"А5",250,1,{"$f":"I9*H9","v":250},null,3,"80х50",null,1,{"$f":"FALSE","v":false},{"$f":"IF(P9,900)*O9","v":0}]
[null,null,"А3",200,0,{"$f":"D10*E10","v":0},"А4",300,0,{"$f":"I10*H10","v":0},null,4,"60х80",null,1,false,{"$f":"IF(P10,1120)*O10","v":0}]
[null,null,"А2",300,0,{"$f":"D11*E11","v":0},"А3",450,null,{"$f":"I11*H11","v":0},null,6,"80х80",null,1,{"$f":"FALSE","v":false},{"$f":"IF(P11,1560)*O11","v":0}]
[null,null,"А1",400,null,{"$f":"D12*E12","v":0},"А2",600,null,{"$f":"I12*H11","v":0},null,8,"105х85",null,1,{"$f":"FALSE","v":false},{"$f":"IF(P12,1940)*O12","v":0}]
[null,null,{"$f":"A8*B8/10000","v":0.8},null,{"$f":"(0.035*E8)+(0.077*E9)+(0.154*E10)+(0.3*E11)+(0.62*E12)+(0.005*I8)+(0.035*I9)+(0.077*I10)+(0.154*I11)+(0.3*I12)","v":0.497},null,null,null,null,null,null,10,"130х85",null,1,{"$f":"FALSE","v":false},{"$f":"IF(P13,2258)*O13","v":0}]
["Количество стендов",1,{"$f":"IF(E13<C13,\"\",\"Карманы не помещаются на стенд\")","v":""},null,null,null,null,null,null,null,null,"Итого",null,null,null,null,{"$f":"SUM(Q7:Q13)","v":300}]
[null,null,null,null,null,null,null,null,null,null,null,null,null,{"$f":"IF(Q14>20000,\"Возможна скидка до 20%\",\"Возможна скидка до 10 %\")","v":"Возможна скидка до 10 %"}]
["Клемшина",{"$f":"(((A8*0.2)+(B8*0.2))*0.1)*150","v":540},{"$f":"B14","v":1},null,{"$f":"B16*C16","v":540}]
["Нильсен",{"$f":"(((A8*0.2)+(B8*0.2))*0.1)*350","v":1260},{"$f":"B14","v":1},null,{"$f":"B17*C17","v":1260}]
[null,null,"клемшина",null,"Нильсен"]
["Стоимость",{"$f":"(((A8*B8)*0.2)+F8+F9+F10+J8+J9+J10+J12+F11+F12+J11)*B14","v":2750},{"$f":"B19+E16","v":3290},null,{"$f":"B19+E17","v":4010}]
[null,{"$f":"IF(B19>20000,\"Возможна скидка до 20%\",\"Возможна скидка до 10%\")","v":"Возможна скидка до 10%"}]

{"sheet":"Строки","index":1,"n_rows":1083,"n_cols":117,"rows_kept":1083,"cut":false,"hidden":true,"merged":[[5,0,5,1],[5,2,5,4],[11,0,11,1],[49,3,55,3],[72,5,72,6]]}
[null,"Ширина, см","Высота, см","Количество"]
[null,null,null,1,"Курс доллара"]
["Количество модулей",11,2,{"$f":"B3*C3","v":22},64]
["Габаритные размеры",{"$f":"(B3*320)+70","v":3590},{"$f":"(C3*160)+70","v":390}]
[]
["Доп. опции",null,"Способ передачи информации"]
[]
[]
["Итого",null,null,null,{"$f":"E43","v":39233.091188571423},{"$f":"F43","v":613.01704982142849}]
["Цена для РА",null,null,null,{"$f":"E9-(E9*0.1)","v":35309.782069714282},{"$f":"E10+E10*0.1","v":38840.760276685709},"Для РА с монтажом"]
["Энергопотребление, Вт",{"$f":"D3*E46","v":275}]
["Итого с монтажом (Без АГП)",null,null,null,{"$f":"E9+E9*10%","v":43156.400307428565}]
["Видимость строки, м.",{"$f":"VLOOKUP(G49,C49:F56,4,0)","v":150}]
["Эконом ",null,null,null,{"$f":"E9-(E9*0.1)","v":35309.782069714282},{"$f":"E14+E14*0.2","v":42371.738483657136},"Эконом с монтажом"]
["Стандарт",null,null,null,{"$f":"E12","v":43156.400307428565},{"$f":"E9","v":39233.091188571423},"Стандарт без монтажа",{"$f":"E15-F15","v":3923.3091188571416}]
["Профи",null,null,null,{"$f":"E12+(E12*0.2)","v":51787.680368914276}]
[]
[]
[]
[]
[]
[]
[]
[]
[]
[null,null,"количество","Цена, ед","стоимость"]
[{"$f":"VLOOKUP(A73,A74:C80,3,0)","v":"CL P-10G 16*32WP"},null,{"$f":"C3*B3*D2","v":22},{"$f":"VLOOKUP(A73,A74:D80,4,0)","v":597.76},{"$f":"D27*C27","v":13150.72}]
[{"$f":"VLOOKUP(C27,A84:B339,2,0)","v":"BX 5U0"},null,{"$f":"D2","v":1},{"$f":"VLOOKUP(C27,A84:C1083,3,0)","v":704},704]
["Магниты",null,{"$f":"C27*4*D2","v":88},6,528]
["Профиль",null,{"$f":"((((B3*320)+(C3*160))*2)*D2)/1000","v":7.68},{"$f":"F30*E3","v":217.6},1671.1679999999999,3.4]
["Блоки Питания",null,{"$f":"C27/7","v":3.1428571428571428},{"$f":"F31*E3","v":729.6},2293.0285714285715,11.4]
["Уголки",null,{"$f":"4*D2","v":4},{"$f":"F32*E3","v":48},192,0.75]
["Задник",null,{"$f":"B4*C4/1000000","v":1.4000999999999999},302,422.83019999999999]
["USB провод",null,null,null,180]
["Провода",null,{"$f":"B4/1000","v":3.59},28.5,{"$f":"D35*C35","v":102.315}]
["Сумма со скидкой 25%",null,null,0,{"$f":"SUM(E27:E35)-(SUM(E27:E35)*D36)","v":19244.061771428569}]
["Датчики",null,null,null,{"$f":"VLOOKUP(C60,A61:C65,3,0)","v":1152}]
["Заливка инфо",null,null,null,{"$f":"VLOOKUP(C66,A67:C71,3,0)","v":0}]
[null,null,null,null,null,null,null,null,null,null,null,null,null,null,null,null,null,null,null,null,null,null,null,null,null,null,null,null,null,null,null,null,null,null,null,null,null,null,null,null,null,null,null,null,null,null,null,null,null,null,null,null,null,null,null,null,null,null,null,null,null,null,null,null,null,null,null,null,null,null,null,null,null,null,null,null,null,null,null,null,null,null,null,null,null,null,null,null,null,null,null,null,null,null,null,null,null,null,null,null,null,null,null,null,null,null,null,null,null,null,null,"USB","ширина","высота","выс. Мод","шир. Мод.","Всего"]
["Сборка",null,{"$f":"D2","v":1},{"$f":"B4*C4*0.001*D2","v":1400.1000000000001},{"$f":"D40*C40","v":1400.1000000000001},null,null,null,null,null,null,null,null,null,null,null,null,null,16,null,16,32,48,64,80,96,112,128,144,160,176,192,208,224,240,256,272,288,304,320,336,352,368,384,400,416,432,448,464,480,496,512,528,544,560,576,592,608,624,640,656,672,688,704,720,736,752,768,784,800,816,832,848,864,880,896,912,928,944,960,976,992,1008,1024,1040,1056,1072,1088,1104,1120,1136,1152,1168,1184,1200,1216,1232,1248,1264,1280,1296,1312,1328,1344,1360,1376,1392,1408,1424,1440,null,"BX 5UT",512,16,{"$f":"DJ40/16","v":1},{"$f":"DI40/32","v":16},{"$f":"DL40*DK40","v":16}]
["Итого",null,null,null,{"$f":"E36+E40+E37+E38","v":21796.161771428568},null,null,null,null,null,null,null,null,null,null,null,null,null,32,32,1,2,3,4,5,6,7,8,9,10,11,12,13,14,15,16,17,18,19,20,21,22,23,24,25,26,27,28,29,30,31,32,33,34,35,36,37,38,39,40,41,42,43,44,45,46,47,48,49,50,51,52,53,54,55,56,57,58,59,60,61,62,63,64,65,66,67,68,69,70,71,72,73,74,75,76,77,78,79,80,81,82,83,84,85,86,87,88,89,90,null,null,256,32,2,8,16]
["Прибыль",null,null,0.8,{"$f":"E41*D42","v":17436.929417142856},null,null,null,null,null,null,null,null,null,null,null,null,null,48,64,2,4,6,8,10,12,14,16,18,20,22,24,26,28,30,32,34,36,38,40,42,44,46,48,50,52,54,56,58,60,62,64,66,68,70,72,74,76,78,80,82,84,86,88,90,92,94,96,98,100,102,104,106,108,110,112,114,116,118,120,122,124,126,128,130,132,134,136,138,140,142,144,146,148,150,152,154,156,158,160,162,164,166,168,170,172,174,176,178,180,null,"BX 5U0",1024,16,1,32,32]
["Итого",null,null,null,{"$f":"E41+E42","v":39233.091188571423},{"$f":"E43/E3","v":613.01704982142849},null,null,null,null,null,null,null,null,null,null,null,null,64,96,3,6,9,12,15,18,21,24,27,30,33,36,39,42,45,48,51,54,57,60,63,66,69,72,75,78,81,84,87,90,93,96,99,102,105,108,111,114,117,120,123,126,129,132,135,138,141,144,147,150,153,156,159,162,165,168,171,174,177,180,183,186,189,192,195,198,201,204,207,210,213,216,219,222,225,228,231,234,237,240,243,246,249,252,255,258,261,264,267,270,null,null,512,32,2,16,32]
[null,null,null,null,null,null,null,null,null,null,null,null,null,null,null,null,null,null,80,128,4,8,12,16,20,24,28,32,36,40,44,48,52,56,60,64,68,72,76,80,84,88,92,96,100,104,108,112,116,120,124,128,132,136,140,144,148,152,156,160,164,168,172,176,180,184,188,192,196,200,204,208,212,216,220,224,228,232,236,240,244,248,252,256,260,264,268,272,276,280,284,288,292,296,300,304,308,312,316,320,324,328,332,336,340,344,348,352,356,360,null,null,320,48,3,10,30]
[null,null,null,null,null,null,null,null,null,null,null,null,null,null,null,null,null,null,96,160,5,10,15,20,25,30,35,40,45,50,55,60,65,70,75,80,85,90,95,100,105,110,115,120,125,130,135,140,145,150,155,160,165,170,175,180,185,190,195,200,205,210,215,220,225,230,235,240,245,250,255,260,265,270,275,280,285,290,295,300,305,310,315,320,325,330,335,340,345,350,355,360,365,370,375,380,385,390,395,400,405,410,415,420,425,430,435,440,445,450,null,null,256,64,4,8,32]
["1. Внести расчёт энергопотребления  монохромной вывески",null,null,null,12.5,null,null,null,null,null,null,null,null,null,null,null,null,null,112,192,6,12,18,24,30,36,42,48,54,60,66,72,78,84,90,96,102,108,114,120,126,132,138,144,150,156,162,168,174,180,186,192,198,204,210,216,222,228,234,240,246,252,258,264,270,276,282,288,294,300,306,312,318,324,330,336,342,348,354,360,366,372,378,384,390,396,402,408,414,420,426,432,438,444,450,456,462,468,474,480,486,492,498,504,510,516,522,528,534,540,null,"BX 5U1",2048,16,1,64,64]
["2. Внести расчёт энергопотребления трёхцветной вывески",null,null,null,17.5,null,null,null,null,null,null,null,null,null,null,null,null,null,128,224,7,14,21,28,35,42,49,56,63,70,77,84,91,98,105,112,119,126,133,140,147,154,161,168,175,182,189,196,203,210,217,224,231,238,245,252,259,266,273,280,287,294,301,308,315,322,329,336,343,350,357,364,371,378,385,392,399,406,413,420,427,434,441,448,455,462,469,476,483,490,497,504,511,518,525,532,539,546,553,560,567,574,581,588,595,602,609,616,623,630,null,null,1024,32,2,32,64]
["3. Добавить кнопку \"Поддержка видео\"",null,null,null,null,null,null,null,null,null,null,null,null,null,null,null,null,null,144,256,8,16,24,32,40,48,56,64,72,80,88,96,104,112,120,128,136,144,152,160,168,176,184,192,200,208,216,224,232,240,248,256,264,272,280,288,296,304,312,320,328,336,344,352,360,368,376,384,392,400,408,416,424,432,440,448,456,464,472,480,488,496,504,512,520,528,536,544,552,560,568,576,584,592,600,608,616,624,632,640,648,656,664,672,680,688,696,704,712,720,null,null,672,48,3,21,63]
["4. Добавить кнопку \"WIFI\"",null,null,null,"модули","метр",{"$f":"C3","v":2},null,null,null,null,null,null,null,null,null,null,null,160,288,9,18,27,36,45,54,63,72,81,90,99,108,117,126,135,144,153,162,171,180,189,198,207,216,225,234,243,252,261,270,279,288,297,306,315,324,333,342,351,360,369,378,387,396,405,414,423,432,441,450,459,468,477,486,495,504,513,522,531,540,549,558,567,576,585,594,603,612,621,630,639,648,657,666,675,684,693,702,711,720,729,738,747,756,765,774,783,792,801,810,null,null,512,64,4,16,64]
[null,null,1,"Видимость строки",16,65,null,null,null,null,null,null,null,null,null,null,null,null,176,320,10,20,30,40,50,60,70,80,90,100,110,120,130,140,150,160,170,180,190,200,210,220,230,240,250,260,270,280,290,300,310,320,330,340,350,360,370,380,390,400,410,420,430,440,450,460,470,480,490,500,510,520,530,540,550,560,570,580,590,600,610,620,630,640,650,660,670,680,690,700,710,720,730,740,750,760,770,780,790,800,810,820,830,840,850,860,870,880,890,900,null,"BX 5U2",3200,16,1,100,100]
[null,null,2,null,32,150,null,null,null,null,null,null,null,null,null,null,null,null,192,352,11,22,33,44,55,66,77,88,99,110,121,132,143,154,165,176,187,198,209,220,231,242,253,264,275,286,297,308,319,330,341,352,363,374,385,396,407,418,429,440,451,462,473,484,495,506,517,528,539,550,561,572,583,594,605,616,627,638,649,660,671,682,693,704,715,726,737,748,759,770,781,792,803,814,825,836,847,858,869,880,891,902,913,924,935,946,957,968,979,990,null,null,2048,32,2,64,128]
[null,null,3,null,48,215,null,null,null,null,null,null,null,null,null,null,null,null,208,384,12,24,36,48,60,72,84,96,108,120,132,144,156,168,180,192,204,216,228,240,252,264,276,288,300,312,324,336,348,360,372,384,396,408,420,432,444,456,468,480,492,504,516,528,540,552,564,576,588,600,612,624,636,648,660,672,684,696,708,720,732,744,756,768,780,792,804,816,828,840,852,864,876,888,900,912,924,936,948,960,972,984,996,1008,1020,1032,1044,1056,1068,1080,null,null,1344,48,3,42,126]
[null,null,4,null,64,320,null,null,null,null,null,null,null,null,null,null,null,null,224,416,13,26,39,52,65,78,91,104,117,130,143,156,169,182,195,208,221,234,247,260,273,286,299,312,325,338,351,364,377,390,403,416,429,442,455,468,481,494,507,520,533,546,559,572,585,598,611,624,637,650,663,676,689,702,715,728,741,754,767,780,793,806,819,832,845,858,871,884,897,910,923,936,949,962,975,988,1001,1014,1027,1040,1053,1066,1079,1092,1105,1118,1131,1144,1157,1170,null,null,1024,64,4,32,128]
[null,null,5,null,80,400,null,null,null,null,null,null,null,null,null,null,null,null,240,448,14,28,42,56,70,84,98,112,126,140,154,168,182,196,210,224,238,252,266,280,294,308,322,336,350,364,378,392,406,420,434,448,462,476,490,504,518,532,546,560,574,588,602,616,630,644,658,672,686,700,714,728,742,756,770,784,798,812,826,840,854,868,882,896,910,924,938,952,966,980,994,1008,1022,1036,1050,1064,1078,1092,1106,1120,1134,1148,1162,1176,1190,1204,1218,1232,1246,1260,null,"BX 5U3",3200,32,2,100,200]
[null,"BX 5UT",6,null,96,480,null,null,null,null,null,null,null,null,null,null,null,null,256,480,15,30,45,60,75,90,105,120,135,150,165,180,195,210,225,240,255,270,285,300,315,330,345,360,375,390,405,420,435,450,465,480,495,510,525,540,555,570,585,600,615,630,645,660,675,690,705,720,735,750,765,780,795,810,825,840,855,870,885,900,915,930,945,960,975,990,1005,1020,1035,1050,1065,1080,1095,1110,1125,1140,1155,1170,1185,1200,1215,1230,1245,1260,1275,1290,1305,1320,1335,1350,null,"хаб 128",2720,48,3,85,255]
[null,"BX 5U1",7,null,112,560,null,null,null,null,null,null,null,null,null,null,null,null,272,512,16,32,48,64,80,96,112,128,144,160,176,192,208,224,240,256,272,288,304,320,336,352,368,384,400,416,432,448,464,480,496,512,528,544,560,576,592,608,624,640,656,672,688,704,720,736,752,768,784,800,816,832,848,864,880,896,912,928,944,960,976,992,1008,1024,1040,1056,1072,1088,1104,1120,1136,1152,1168,1184,1200,1216,1232,1248,1264,1280,1296,1312,1328,1344,1360,1376,1392,1408,1424,1440,null,null,2048,64,4,64,256]
[null,"BX 5U2",null,null,null,null,null,null,null,null,null,null,null,null,null,null,null,null,288,544,17,34,51,68,85,102,119,136,153,170,187,204,221,238,255,272,289,306,323,340,357,374,391,408,425,442,459,476,493,510,527,544,561,578,595,612,629,646,663,680,697,714,731,748,765,782,799,816,833,850,867,884,901,918,935,952,969,986,1003,1020,1037,1054,1071,1088,1105,1122,1139,1156,1173,1190,1207,1224,1241,1258,1275,1292,1309,1326,1343,1360,1377,1394,1411,1428,1445,1462,1479,1496,1513,1530,null,null,1632,80,5,51,255]
[null,"BX 5U3",null,null,null,null,null,null,null,null,null,null,null,null,null,null,null,null,304,576,18,36,54,72,90,108,126,144,162,180,198,216,234,252,270,288,306,324,342,360,378,396,414,432,450,468,486,504,522,540,558,576,594,612,630,648,666,684,702,720,738,756,774,792,810,828,846,864,882,900,918,936,954,972,990,1008,1026,1044,1062,1080,1098,1116,1134,1152,1170,1188,1206,1224,1242,1260,1278,1296,1314,1332,1350,1368,1386,1404,1422,1440,1458,1476,1494,1512,1530,1548,1566,1584,1602,1620,null,null,1344,96,6,42,252]
[null,"BX-5QS","Контроллер BX-5QS применятся для воспроизведения видео на одноцветных табло",null,null,null,null,null,null,null,null,null,null,null,null,null,null,null,320,608,19,38,57,76,95,114,133,152,171,190,209,228,247,266,285,304,323,342,361,380,399,418,437,456,475,494,513,532,551,570,589,608,627,646,665,684,703,722,741,760,779,798,817,836,855,874,893,912,931,950,969,988,1007,1026,1045,1064,1083,1102,1121,1140,1159,1178,1197,1216,1235,1254,1273,1292,1311,1330,1349,1368,1387,1406,1425,1444,1463,1482,1501,1520,1539,1558,1577,1596,1615,1634,1653,1672,1691,1710,null,null,1152,112,7,36,252]
[null,null,3,null,null,null,null,null,null,null,null,null,null,null,null,null,null,null,336,640,20,40,60,80,100,120,140,160,180,200,220,240,260,280,300,320,340,360,380,400,420,440,460,480,500,520,540,560,580,600,620,640,660,680,700,720,740,760,780,800,820,840,860,880,900,920,940,960,980,1000,1020,1040,1060,1080,1100,1120,1140,1160,1180,1200,1220,1240,1260,1280,1300,1320,1340,1360,1380,1400,1420,1440,1460,1480,1500,1520,1540,1560,1580,1600,1620,1640,1660,1680,1700,1720,1740,1760,1780,1800,null,null,1024,128,8,32,256]
[1,"Без датчика",null,null,null,null,null,null,null,null,null,null,null,null,null,null,null,null,352,672,21,42,63,84,105,126,147,168,189,210,231,252,273,294,315,336,357,378,399,420,441,462,483,504,525,546,567,588,609,630,651,672,693,714,735,756,777,798,819,840,861,882,903,924,945,966,987,1008,1029,1050,1071,1092,1113,1134,1155,1176,1197,1218,1239,1260,1281,1302,1323,1344,1365,1386,1407,1428,1449,1470,1491,1512,1533,1554,1575,1596,1617,1638,1659,1680,1701,1722,1743,1764,1785,1806,1827,1848,1869,1890,null,"BX 5U4",3200,32,2,100,200]
[2,"Датчик температуры",{"$f":"D62*E3","v":384},6,null,null,null,null,null,null,null,null,null,null,null,null,null,null,368,704,22,44,66,88,110,132,154,176,198,220,242,264,286,308,330,352,374,396,418,440,462,484,506,528,550,572,594,616,638,660,682,704,726,748,770,792,814,836,858,880,902,924,946,968,990,1012,1034,1056,1078,1100,1122,1144,1166,1188,1210,1232,1254,1276,1298,1320,1342,1364,1386,1408,1430,1452,1474,1496,1518,1540,1562,1584,1606,1628,1650,1672,1694,1716,1738,1760,1782,1804,1826,1848,1870,1892,1914,1936,1958,1980,null,"хаб 128",3200,48,3,100,300]
[3,"Датчик температуры и влажности",{"$f":"D63*E3","v":1152},18,null,null,null,null,null,null,null,null,null,null,null,null,null,null,384,736,23,46,69,92,115,138,161,184,207,230,253,276,299,322,345,368,391,414,437,460,483,506,529,552,575,598,621,644,667,690,713,736,759,782,805,828,851,874,897,920,943,966,989,1012,1035,1058,1081,1104,1127,1150,1173,1196,1219,1242,1265,1288,1311,1334,1357,1380,1403,1426,1449,1472,1495,1518,1541,1564,1587,1610,1633,1656,1679,1702,1725,1748,1771,1794,1817,1840,1863,1886,1909,1932,1955,1978,2001,2024,2047,2070,null,"хаб 256",2688,64,4,84,336]
[4,"Датчик с ИК с пультом",{"$f":"D64*E3","v":384},6,null,null,null,null,null,null,null,null,null,null,null,null,null,null,400,768,24,48,72,96,120,144,168,192,216,240,264,288,312,336,360,384,408,432,456,480,504,528,552,576,600,624,648,672,696,720,744,768,792,816,840,864,888,912,936,960,984,1008,1032,1056,1080,1104,1128,1152,1176,1200,1224,1248,1272,1296,1320,1344,1368,1392,1416,1440,1464,1488,1512,1536,1560,1584,1608,1632,1656,1680,1704,1728,1752,1776,1800,1824,1848,1872,1896,1920,1944,1968,1992,2016,2040,2064,2088,2112,2136,2160,null,null,2048,80,5,64,320]
[5,"Видеоконтроллер",5000,null,null,null,null,null,null,null,null,null,null,null,null,null,null,null,416,800,25,50,75,100,125,150,175,200,225,250,275,300,325,350,375,400,425,450,475,500,525,550,575,600,625,650,675,700,725,750,775,800,825,850,875,900,925,950,975,1000,1025,1050,1075,1100,1125,1150,1175,1200,1225,1250,1275,1300,1325,1350,1375,1400,1425,1450,1475,1500,1525,1550,1575,1600,1625,1650,1675,1700,1725,1750,1775,1800,1825,1850,1875,1900,1925,1950,1975,2000,2025,2050,2075,2100,2125,2150,2175,2200,2225,2250,null,null,1792,96,6,56,336]
[null,null,1,null,null,null,null,null,null,null,null,null,null,null,null,null,null,null,432,832,26,52,78,104,130,156,182,208,234,260,286,312,338,364,390,416,442,468,494,520,546,572,598,624,650,676,702,728,754,780,806,832,858,884,910,936,962,988,1014,1040,1066,1092,1118,1144,1170,1196,1222,1248,1274,1300,1326,1352,1378,1404,1430,1456,1482,1508,1534,1560,1586,1612,1638,1664,1690,1716,1742,1768,1794,1820,1846,1872,1898,1924,1950,1976,2002,2028,2054,2080,2106,2132,2158,2184,2210,2236,2262,2288,2314,2340,null,null,1280,112,7,40,280]
[1,"USB",null,null,null,null,null,null,null,null,null,null,null,null,null,null,null,null,448,864,27,54,81,108,135,162,189,216,243,270,297,324,351,378,405,432,459,486,513,540,567,594,621,648,675,702,729,756,783,810,837,864,891,918,945,972,999,1026,1053,1080,1107,1134,1161,1188,1215,1242,1269,1296,1323,1350,1377,1404,1431,1458,1485,1512,1539,1566,1593,1620,1647,1674,1701,1728,1755,1782,1809,1836,1863,1890,1917,1944,1971,1998,2025,2052,2079,2106,2133,2160,2187,2214,2241,2268,2295,2322,2349,2376,2403,2430,null,null,1024,128,8,32,256]
[2,"LAN",null,null,null,null,null,null,null,null,null,null,null,null,null,null,null,null,464,896,28,56,84,112,140,168,196,224,252,280,308,336,364,392,420,448,476,504,532,560,588,616,644,672,700,728,756,784,812,840,868,896,924,952,980,1008,1036,1064,1092,1120,1148,1176,1204,1232,1260,1288,1316,1344,1372,1400,1428,1456,1484,1512,1540,1568,1596,1624,1652,1680,1708,1736,1764,1792,1820,1848,1876,1904,1932,1960,1988,2016,2044,2072,2100,2128,2156,2184,2212,2240,2268,2296,2324,2352,2380,2408,2436,2464,2492,2520,null,null,896,144,9,28,252]
[3,"WI-FI",1000,null,null,null,null,null,null,null,null,null,null,null,null,null,null,null,480,928,29,58,87,116,145,174,203,232,261,290,319,348,377,406,435,464,493,522,551,580,609,638,667,696,725,754,783,812,841,870,899,928,957,986,1015,1044,1073,1102,1131,1160,1189,1218,1247,1276,1305,1334,1363,1392,1421,1450,1479,1508,1537,1566,1595,1624,1653,1682,1711,1740,1769,1798,1827,1856,1885,1914,1943,1972,2001,2030,2059,2088,2117,2146,2175,2204,2233,2262,2291,2320,2349,2378,2407,2436,2465,2494,2523,2552,2581,2610,null,null,768,160,10,24,240]
[4,"WIFI RF",8000,null,null,null,null,null,null,null,null,null,null,null,null,null,null,null,496,960,30,60,90,120,150,180,210,240,270,300,330,360,390,420,450,480,510,540,570,600,630,660,690,720,750,780,810,840,870,900,930,960,990,1020,1050,1080,1110,1140,1170,1200,1230,1260,1290,1320,1350,1380,1410,1440,1470,1500,1530,1560,1590,1620,1650,1680,1710,1740,1770,1800,1830,1860,1890,1920,1950,1980,2010,2040,2070,2100,2130,2160,2190,2220,2250,2280,2310,2340,2370,2400,2430,2460,2490,2520,2550,2580,2610,2640,2670,2700,null,null,704,176,11,22,242]
[5,"GPRS",8000,null,null,null,null,null,null,null,null,null,null,null,null,null,null,null,512,992,31,62,93,124,155,186,217,248,279,310,341,372,403,434,465,496,527,558,589,620,651,682,713,744,775,806,837,868,899,930,961,992,1023,1054,1085,1116,1147,1178,1209,1240,1271,1302,1333,1364,1395,1426,1457,1488,1519,1550,1581,1612,1643,1674,1705,1736,1767,1798,1829,1860,1891,1922,1953,1984,2015,2046,2077,2108,2139,2170,2201,2232,2263,2294,2325,2356,2387,2418,2449,2480,2511,2542,2573,2604,2635,2666,2697,2728,2759,2790,null,null,640,192,12,20,240]
[null,null,null,null,null,null,null,null,null,null,null,null,null,null,null,null,null,null,528,1024,32,64,96,128,160,192,224,256,288,320,352,384,416,448,480,512,544,576,608,640,672,704,736,768,800,832,864,896,928,960,992,1024,1056,1088,1120,1152,1184,1216,1248,1280,1312,1344,1376,1408,1440,1472,1504,1536,1568,1600,1632,1664,1696,1728,1760,1792,1824,1856,1888,1920,1952,1984,2016,2048,2080,2112,2144,2176,2208,2240,2272,2304,2336,2368,2400,2432,2464,2496,2528,2560,2592,2624,2656,2688,2720,2752,2784,2816,2848,2880,null,null,608,208,13,19,247]
[4,null,null,null,null,"На продажу",null,null,null,null,null,null,null,null,null,null,null,null,544,1056,33,66,99,132,165,198,231,264,297,330,363,396,429,462,495,528,561,594,627,660,693,726,759,792,825,858,891,924,957,990,1023,1056,1089,1122,1155,1188,1221,1254,1287,1320,1353,1386,1419,1452,1485,1518,1551,1584,1617,1650,1683,1716,1749,1782,1815,1848,1881,1914,1947,1980,2013,2046,2079,2112,2145,2178,2211,2244,2277,2310,2343,2376,2409,2442,2475,2508,2541,2574,2607,2640,2673,2706,2739,2772,2805,2838,2871,2904,2937,2970,null,null,576,224,14,18,252]
[1,"Красные ","CL P-10R 16*32WP",{"$f":"E74*E3","v":441.6},6.9,{"$f":"E74+E74*0.2","v":8.2800000000000011},{"$f":"F74*E3","v":529.92000000000007},null,null,null,null,null,null,null,null,null,null,null,560,1088,34,68,102,136,170,204,238,272,306,340,374,408,442,476,510,544,578,612,646,680,714,748,782,816,850,884,918,952,986,1020,1054,1088,1122,1156,1190,1224,1258,1292,1326,1360,1394,1428,1462,1496,1530,1564,1598,1632,1666,1700,1734,1768,1802,1836,1870,1904,1938,1972,2006,2040,2074,2108,2142,2176,2210,2244,2278,2312,2346,2380,2414,2448,2482,2516,2550,2584,2618,2652,2686,2720,2754,2788,2822,2856,2890,2924,2958,2992,3026,3060,null,null,544,240,15,17,255]
[2,"Синие","CL P-10B 16*32WP",{"$f":"E75*E3","v":665.6},10.4,{"$f":"E75+E75*0.2","v":12.48},{"$f":"F75*E3","v":798.72},null,null,null,null,null,null,null,null,null,null,null,576,1120,35,70,105,140,175,210,245,280,315,350,385,420,455,490,525,560,595,630,665,700,735,770,805,840,875,910,945,980,1015,1050,1085,1120,1155,1190,1225,1260,1295,1330,1365,1400,1435,1470,1505,1540,1575,1610,1645,1680,1715,1750,1785,1820,1855,1890,1925,1960,1995,2030,2065,2100,2135,2170,2205,2240,2275,2310,2345,2380,2415,2450,2485,2520,2555,2590,2625,2660,2695,2730,2765,2800,2835,2870,2905,2940,2975,3010,3045,3080,3115,3150,null,null,512,256,16,16,256]
[3,"Жёлтые","CL P-10Y 16*32WP",{"$f":"E76*E3","v":704},11,13.2,{"$f":"F76*E3","v":844.8},null,null,null,null,null,null,null,null,null,null,null,592,1152,36,72,108,144,180,216,252,288,324,360,396,432,468,504,540,576,612,648,684,720,756,792,828,864,900,936,972,1008,1044,1080,1116,1152,1188,1224,1260,1296,1332,1368,1404,1440,1476,1512,1548,1584,1620,1656,1692,1728,1764,1800,1836,1872,1908,1944,1980,2016,2052,2088,2124,2160,2196,2232,2268,2304,2340,2376,2412,2448,2484,2520,2556,2592,2628,2664,2700,2736,2772,2808,2844,2880,2916,2952,2988,3024,3060,3096,3132,3168,3204,3240,null,"COM-порт"]
[4,"Зелёные","CL P-10G 16*32WP",{"$f":"E77*E3","v":597.76},9.34,11.208,{"$f":"F77*E3","v":717.31200000000001},null,null,null,null,null,null,null,null,null,null,null,608,1184,37,74,111,148,185,222,259,296,333,370,407,444,481,518,555,592,629,666,703,740,777,814,851,888,925,962,999,1036,1073,1110,1147,1184,1221,1258,1295,1332,1369,1406,1443,1480,1517,1554,1591,1628,1665,1702,1739,1776,1813,1850,1887,1924,1961,1998,2035,2072,2109,2146,2183,2220,2257,2294,2331,2368,2405,2442,2479,2516,2553,2590,2627,2664,2701,2738,2775,2812,2849,2886,2923,2960,2997,3034,3071,3108,3145,3182,3219,3256,3293,3330,null,"BX 5А0",1024,16,{"$f":"DJ77/16","v":1},{"$f":"DI77/32","v":32},{"$f":"DL77*DK77","v":32}]
[5,"Белые","CL P-10W 16*32WP",{"$f":"E78*E3","v":704},11,13.2,{"$f":"F78*E3","v":844.8},null,null,null,null,null,null,null,null,null,null,null,624,1216,38,76,114,152,190,228,266,304,342,380,418,456,494,532,570,608,646,684,722,760,798,836,874,912,950,988,1026,1064,1102,1140,1178,1216,1254,1292,1330,1368,1406,1444,1482,1520,1558,1596,1634,1672,1710,1748,1786,1824,1862,1900,1938,1976,2014,2052,2090,2128,2166,2204,2242,2280,2318,2356,2394,2432,2470,2508,2546,2584,2622,2660,2698,2736,2774,2812,2850,2888,2926,2964,3002,3040,3078,3116,3154,3192,3230,3268,3306,3344,3382,3420,null,null,512,32,2,16,32]
[6,"Трёхцвет. P10","CL P10-2RG-WP-320*160",{"$f":"E79*E3","v":1017.6},15.9,19.080000000000002,{"$f":"F79*E3","v":1221.1200000000001},null,null,null,null,null,null,null,null,null,null,null,640,1248,39,78,117,156,195,234,273,312,351,390,429,468,507,546,585,624,663,702,741,780,819,858,897,936,975,1014,1053,1092,1131,1170,1209,1248,1287,1326,1365,1404,1443,1482,1521,1560,1599,1638,1677,1716,1755,1794,1833,1872,1911,1950,1989,2028,2067,2106,2145,2184,2223,2262,2301,2340,2379,2418,2457,2496,2535,2574,2613,2652,2691,2730,2769,2808,2847,2886,2925,2964,3003,3042,3081,3120,3159,3198,3237,3276,3315,3354,3393,3432,3471,3510,null,null,320,48,3,10,30]
[7,"Полноцвет RGB","PH10-RGB-32x16 WP",{"$f":"E80*E3","v":1382.4},21.6,25.92,{"$f":"F80*E3","v":1658.88},null,null,null,null,null,null,null,null,null,null,null,656,1280,40,80,120,160,200,240,280,320,360,400,440,480,520,560,600,640,680,720,760,800,840,880,920,960,1000,1040,1080,1120,1160,1200,1240,1280,1320,1360,1400,1440,1480,1520,1560,1600,1640,1680,1720,1760,1800,1840,1880,1920,1960,2000,2040,2080,2120,2160,2200,2240,2280,2320,2360,2400,2440,2480,2520,2560,2600,2640,2680,2720,2760,2800,2840,2880,2920,2960,3000,3040,3080,3120,3160,3200,3240,3280,3320,3360,3400,3440,3480,3520,3560,3600,null,null,256,64,4,8,32]
[null,null,null,null,null,null,null,null,null,null,null,null,null,null,null,null,null,null,672,1312,41,82,123,164,205,246,287,328,369,410,451,492,533,574,615,656,697,738,779,820,861,902,943,984,1025,1066,1107,1148,1189,1230,1271,1312,1353,1394,1435,1476,1517,1558,1599,1640,1681,1722,1763,1804,1845,1886,1927,1968,2009,2050,2091,2132,2173,2214,2255,2296,2337,2378,2419,2460,2501,2542,2583,2624,2665,2706,2747,2788,2829,2870,2911,2952,2993,3034,3075,3116,3157,3198,3239,3280,3321,3362,3403,3444,3485,3526,3567,3608,3649,3690,null,"BX 5A1",2048,16,1,64,64]
[null,null,null,null,null,null,null,null,null,null,null,null,null,null,null,null,null,null,688,1344,42,84,126,168,210,252,294,336,378,420,462,504,546,588,630,672,714,756,798,840,882,924,966,1008,1050,1092,1134,1176,1218,1260,1302,1344,1386,1428,1470,1512,1554,1596,1638,1680,1722,1764,1806,1848,1890,1932,1974,2016,2058,2100,2142,2184,2226,2268,2310,2352,2394,2436,2478,2520,2562,2604,2646,2688,2730,2772,2814,2856,2898,2940,2982,3024,3066,3108,3150,3192,3234,3276,3318,3360,3402,3444,3486,3528,3570,3612,3654,3696,3738,3780,null,null,1024,32,2,32,64]
[null,null,null,"Цена, руб","Цена, $",null,null,null,null,null,null,null,null,null,null,null,null,null,704,1376,43,86,129,172,215,258,301,344,387,430,473,516,559,602,645,688,731,774,817,860,903,946,989,1032,1075,1118,1161,1204,1247,1290,1333,1376,1419,1462,1505,1548,1591,1634,1677,1720,1763,1806,1849,1892,1935,1978,2021,2064,2107,2150,2193,2236,2279,2322,2365,2408,2451,2494,2537,2580,2623,2666,2709,2752,2795,2838,2881,2924,2967,3010,3053,3096,3139,3182,3225,3268,3311,3354,3397,3440,3483,3526,3569,3612,3655,3698,3741,3784,3827,3870,null,null,672,48,3,21,63]
[1,"BX 5UT",{"$f":"D84","v":544},{"$f":"E84*E3","v":544},8.5,null,null,null,null,null,null,null,null,null,null,null,null,null,720,1408,44,88,132,176,220,264,308,352,396,440,484,528,572,616,660,704,748,792,836,880,924,968,1012,1056,1100,1144,1188,1232,1276,1320,1364,1408,1452,1496,1540,1584,1628,1672,1716,1760,1804,1848,1892,1936,1980,2024,2068,2112,2156,2200,2244,2288,2332,2376,2420,2464,2508,2552,2596,2640,2684,2728,2772,2816,2860,2904,2948,2992,3036,3080,3124,3168,3212,3256,3300,3344,3388,3432,3476,3520,3564,3608,3652,3696,3740,3784,3828,3872,3916,3960,null,null,512,64,4,16,64]
[2,"BX 5UT",{"$f":"C84","v":544},null,null,null,null,null,null,null,null,null,null,null,null,null,null,null,736,1440,45,90,135,180,225,270,315,360,405,450,495,540,585,630,675,720,765,810,855,900,945,990,1035,1080,1125,1170,1215,1260,1305,1350,1395,1440,1485,1530,1575,1620,1665,1710,1755,1800,1845,1890,1935,1980,2025,2070,2115,2160,2205,2250,2295,2340,2385,2430,2475,2520,2565,2610,2655,2700,2745,2790,2835,2880,2925,2970,3015,3060,3105,3150,3195,3240,3285,3330,3375,3420,3465,3510,3555,3600,3645,3690,3735,3780,3825,3870,3915,3960,4005,4050,null,"BX 5A2",3200,16,1,100,100]
[3,"BX 5UT",544,null,null,null,null,null,null,null,null,null,null,null,null,null,null,null,752,1472,46,92,138,184,230,276,322,368,414,460,506,552,598,644,690,736,782,828,874,920,966,1012,1058,1104,1150,1196,1242,1288,1334,1380,1426,1472,1518,1564,1610,1656,1702,1748,1794,1840,1886,1932,1978,2024,2070,2116,2162,2208,2254,2300,2346,2392,2438,2484,2530,2576,2622,2668,2714,2760,2806,2852,2898,2944,2990,3036,3082,3128,3174,3220,3266,3312,3358,3404,3450,3496,3542,3588,3634,3680,3726,3772,3818,3864,3910,3956,4002,4048,4094,4140,null,null,2048,32,2,64,128]
[4,"BX 5UT",544,null,null,null,null,null,null,null,null,null,null,null,null,null,null,null,768,1504,47,94,141,188,235,282,329,376,423,470,517,564,611,658,705,752,799,846,893,940,987,1034,1081,1128,1175,1222,1269,1316,1363,1410,1457,1504,1551,1598,1645,1692,1739,1786,1833,1880,1927,1974,2021,2068,2115,2162,2209,2256,2303,2350,2397,2444,2491,2538,2585,2632,2679,2726,2773,2820,2867,2914,2961,3008,3055,3102,3149,3196,3243,3290,3337,3384,3431,3478,3525,3572,3619,3666,3713,3760,3807,3854,3901,3948,3995,4042,4089,4136,4183,4230,null,null,1344,48,3,42,126]
[5,"BX 5UT",544,null,null,null,null,null,null,null,null,null,null,null,null,null,null,null,784,1536,48,96,144,192,240,288,336,384,432,480,528,576,624,672,720,768,816,864,912,960,1008,1056,1104,1152,1200,1248,1296,1344,1392,1440,1488,1536,1584,1632,1680,1728,1776,1824,1872,1920,1968,2016,2064,2112,2160,2208,2256,2304,2352,2400,2448,2496,2544,2592,2640,2688,2736,2784,2832,2880,2928,2976,3024,3072,3120,3168,3216,3264,3312,3360,3408,3456,3504,3552,3600,3648,3696,3744,3792,3840,3888,3936,3984,4032,4080,4128,4176,4224,4272,4320,null,null,1024,64,4,32,128]
[6,"BX 5UT",544,null,null,null,null,null,null,null,null,null,null,null,null,null,null,null,800,1568,49,98,147,196,245,294,343,392,441,490,539,588,637,686,735,784,833,882,931,980,1029,1078,1127,1176,1225,1274,1323,1372,1421,1470,1519,1568,1617,1666,1715,1764,1813,1862,1911,1960,2009,2058,2107,2156,2205,2254,2303,2352,2401,2450,2499,2548,2597,2646,2695,2744,2793,2842,2891,2940,2989,3038,3087,3136,3185,3234,3283,3332,3381,3430,3479,3528,3577,3626,3675,3724,3773,3822,3871,3920,3969,4018,4067,4116,4165,4214,4263,4312,4361,4410,null,"BX 5A3",3200,32,2,100,200]
[7,"BX 5UT",544,null,null,null,null,null,null,null,null,null,null,null,null,null,null,null,816,1600,50,100,150,200,250,300,350,400,450,500,550,600,650,700,750,800,850,900,950,1000,1050,1100,1150,1200,1250,1300,1350,1400,1450,1500,1550,1600,1650,1700,1750,1800,1850,1900,1950,2000,2050,2100,2150,2200,2250,2300,2350,2400,2450,2500,2550,2600,2650,2700,2750,2800,2850,2900,2950,3000,3050,3100,3150,3200,3250,3300,3350,3400,3450,3500,3550,3600,3650,3700,3750,3800,3850,3900,3950,4000,4050,4100,4150,4200,4250,4300,4350,4400,4450,4500,null,"хаб 128",2720,48,3,85,255]
[8,"BX 5UT",544,null,null,null,null,null,null,null,null,null,null,null,null,null,null,null,832,1632,51,102,153,204,255,306,357,408,459,510,561,612,663,714,765,816,867,918,969,1020,1071,1122,1173,1224,1275,1326,1377,1428,1479,1530,1581,1632,1683,1734,1785,1836,1887,1938,1989,2040,2091,2142,2193,2244,2295,2346,2397,2448,2499,2550,2601,2652,2703,2754,2805,2856,2907,2958,3009,3060,3111,3162,3213,3264,3315,3366,3417,3468,3519,3570,3621,3672,3723,3774,3825,3876,3927,3978,4029,4080,4131,4182,4233,4284,4335,4386,4437,4488,4539,4590,null,null,2048,64,4,64,256]
[9,"BX 5UT",544,null,null,null,null,null,null,null,null,null,null,null,null,null,null,null,848,1664,52,104,156,208,260,312,364,416,468,520,572,624,676,728,780,832,884,936,988,1040,1092,1144,1196,1248,1300,1352,1404,1456,1508,1560,1612,1664,1716,1768,1820,1872,1924,1976,2028,2080,2132,2184,2236,2288,2340,2392,2444,2496,2548,2600,2652,2704,2756,2808,2860,2912,2964,3016,3068,3120,3172,3224,3276,3328,3380,3432,3484,3536,3588,3640,3692,3744,3796,3848,3900,3952,4004,4056,4108,4160,4212,4264,4316,4368,4420,4472,4524,4576,4628,4680,null,null,1632,80,5,51,255]
[10,"BX 5UT",544,null,null,null,null,null,null,null,null,null,null,null,null,null,null,null,864,1696,53,106,159,212,265,318,371,424,477,530,583,636,689,742,795,848,901,954,1007,1060,1113,1166,1219,1272,1325,1378,1431,1484,1537,1590,1643,1696,1749,1802,1855,1908,1961,2014,2067,2120,2173,2226,2279,2332,2385,2438,2491,2544,2597,2650,2703,2756,2809,2862,2915,2968,3021,3074,3127,3180,3233,3286,3339,3392,3445,3498,3551,3604,3657,3710,3763,3816,3869,3922,3975,4028,4081,4134,4187,4240,4293,4346,4399,4452,4505,4558,4611,4664,4717,4770,null,null,1344,96,6,42,252]
[11,"BX 5UT",544,null,null,null,null,null,null,null,null,null,null,null,null,null,null,null,880,1728,54,108,162,216,270,324,378,432,486,540,594,648,702,756,810,864,918,972,1026,1080,1134,1188,1242,1296,1350,1404,1458,1512,1566,1620,1674,1728,1782,1836,1890,1944,1998,2052,2106,2160,2214,2268,2322,2376,2430,2484,2538,2592,2646,2700,2754,2808,2862,2916,2970,3024,3078,3132,3186,3240,3294,3348,3402,3456,3510,3564,3618,3672,3726,3780,3834,3888,3942,3996,4050,4104,4158,4212,4266,4320,4374,4428,4482,4536,4590,4644,4698,4752,4806,4860,null,null,1152,112,7,36,252]
[12,"BX 5UT",544,null,null,null,null,null,null,null,null,null,null,null,null,null,null,null,896,1760,55,110,165,220,275,330,385,440,495,550,605,660,715,770,825,880,935,990,1045,1100,1155,1210,1265,1320,1375,1430,1485,1540,1595,1650,1705,1760,1815,1870,1925,1980,2035,2090,2145,2200,2255,2310,2365,2420,2475,2530,2585,2640,2695,2750,2805,2860,2915,2970,3025,3080,3135,3190,3245,3300,3355,3410,3465,3520,3575,3630,3685,3740,3795,3850,3905,3960,4015,4070,4125,4180,4235,4290,4345,4400,4455,4510,4565,4620,4675,4730,4785,4840,4895,4950,null,null,1024,128,8,32,256]
[13,"BX 5UT",544,null,null,null,null,null,null,null,null,null,null,null,null,null,null,null,912,1792,56,112,168,224,280,336,392,448,504,560,616,672,728,784,840,896,952,1008,1064,1120,1176,1232,1288,1344,1400,1456,1512,1568,1624,1680,1736,1792,1848,1904,1960,2016,2072,2128,2184,2240,2296,2352,2408,2464,2520,2576,2632,2688,2744,2800,2856,2912,2968,3024,3080,3136,3192,3248,3304,3360,3416,3472,3528,3584,3640,3696,3752,3808,3864,3920,3976,4032,4088,4144,4200,4256,4312,4368,4424,4480,4536,4592,4648,4704,4760,4816,4872,4928,4984,5040,null,"BX 5A4",3200,32,2,100,200]
[14,"BX 5UT",544,null,null,null,null,null,null,null,null,null,null,null,null,null,null,null,928,1824,57,114,171,228,285,342,399,456,513,570,627,684,741,798,855,912,969,1026,1083,1140,1197,1254,1311,1368,1425,1482,1539,1596,1653,1710,1767,1824,1881,1938,1995,2052,2109,2166,2223,2280,2337,2394,2451,2508,2565,2622,2679,2736,2793,2850,2907,2964,3021,3078,3135,3192,3249,3306,3363,3420,3477,3534,3591,3648,3705,3762,3819,3876,3933,3990,4047,4104,4161,4218,4275,4332,4389,4446,4503,4560,4617,4674,4731,4788,4845,4902,4959,5016,5073,5130,null,"хаб 128",3200,48,3,100,300]
[15,"BX 5UT",544,null,null,null,null,null,null,null,null,null,null,null,null,null,null,null,944,1856,58,116,174,232,290,348,406,464,522,580,638,696,754,812,870,928,986,1044,1102,1160,1218,1276,1334,1392,1450,1508,1566,1624,1682,1740,1798,1856,1914,1972,2030,2088,2146,2204,2262,2320,2378,2436,2494,2552,2610,2668,2726,2784,2842,2900,2958,3016,3074,3132,3190,3248,3306,3364,3422,3480,3538,3596,3654,3712,3770,3828,3886,3944,4002,4060,4118,4176,4234,4292,4350,4408,4466,4524,4582,4640,4698,4756,4814,4872,4930,4988,5046,5104,5162,5220,null,"хаб 256",2688,64,4,84,336]
[16,"BX 5UT",544,null,null,null,null,null,null,null,null,null,null,null,null,null,null,null,960,1888,59,118,177,236,295,354,413,472,531,590,649,708,767,826,885,944,1003,1062,1121,1180,1239,1298,1357,1416,1475,1534,1593,1652,1711,1770,1829,1888,1947,2006,2065,2124,2183,2242,2301,2360,2419,2478,2537,2596,2655,2714,2773,2832,2891,2950,3009,3068,3127,3186,3245,3304,3363,3422,3481,3540,3599,3658,3717,3776,3835,3894,3953,4012,4071,4130,4189,4248,4307,4366,4425,4484,4543,4602,4661,4720,4779,4838,4897,4956,5015,5074,5133,5192,5251,5310,null,null,2048,80,5,64,320]
[17,"BX 5U0",{"$f":"D100","v":704},{"$f":"E100*E3","v":704},11,null,null,null,null,null,null,null,null,null,null,null,null,null,976,1920,60,120,180,240,300,360,420,480,540,600,660,720,780,840,900,960,1020,1080,1140,1200,1260,1320,1380,1440,1500,1560,1620,1680,1740,1800,1860,1920,1980,2040,2100,2160,2220,2280,2340,2400,2460,2520,2580,2640,2700,2760,2820,2880,2940,3000,3060,3120,3180,3240,3300,3360,3420,3480,3540,3600,3660,3720,3780,3840,3900,3960,4020,4080,4140,4200,4260,4320,4380,4440,4500,4560,4620,4680,4740,4800,4860,4920,4980,5040,5100,5160,5220,5280,5340,5400,null,null,1792,96,6,56,336]
[18,"BX 5U0",{"$f":"C100","v":704},null,null,null,null,null,null,null,null,null,null,null,null,null,null,null,992,1952,61,122,183,244,305,366,427,488,549,610,671,732,793,854,915,976,1037,1098,1159,1220,1281,1342,1403,1464,1525,1586,1647,1708,1769,1830,1891,1952,2013,2074,2135,2196,2257,2318,2379,2440,2501,2562,2623,2684,2745,2806,2867,2928,2989,3050,3111,3172,3233,3294,3355,3416,3477,3538,3599,3660,3721,3782,3843,3904,3965,4026,4087,4148,4209,4270,4331,4392,4453,4514,4575,4636,4697,4758,4819,4880,4941,5002,5063,5124,5185,5246,5307,5368,5429,5490,null,null,1280,112,7,40,280]
[19,"BX 5U0",704,null,null,null,null,null,null,null,null,null,null,null,null,null,null,null,1008,1984,62,124,186,248,310,372,434,496,558,620,682,744,806,868,930,992,1054,1116,1178,1240,1302,1364,1426,1488,1550,1612,1674,1736,1798,1860,1922,1984,2046,2108,2170,2232,2294,2356,2418,2480,2542,2604,2666,2728,2790,2852,2914,2976,3038,3100,3162,3224,3286,3348,3410,3472,3534,3596,3658,3720,3782,3844,3906,3968,4030,4092,4154,4216,4278,4340,4402,4464,4526,4588,4650,4712,4774,4836,4898,4960,5022,5084,5146,5208,5270,5332,5394,5456,5518,5580,null,null,1024,128,8,32,256]
[20,"BX 5U0",704,null,null,null,null,null,null,null,null,null,null,null,null,null,null,null,1024,2016,63,126,189,252,315,378,441,504,567,630,693,756,819,882,945,1008,1071,1134,1197,1260,1323,1386,1449,1512,1575,1638,1701,1764,1827,1890,1953,2016,2079,2142,2205,2268,2331,2394,2457,2520,2583,2646,2709,2772,2835,2898,2961,3024,3087,3150,3213,3276,3339,3402,3465,3528,3591,3654,3717,3780,3843,3906,3969,4032,4095,4158,4221,4284,4347,4410,4473,4536,4599,4662,4725,4788,4851,4914,4977,5040,5103,5166,5229,5292,5355,5418,5481,5544,5607,5670,null,null,896,144,9,28,252]
[21,"BX 5U0",704,null,null,null,null,null,null,null,null,null,null,null,null,null,null,null,1040,2048,64,128,192,256,320,384,448,512,576,640,704,768,832,896,960,1024,1088,1152,1216,1280,1344,1408,1472,1536,1600,1664,1728,1792,1856,1920,1984,2048,2112,2176,2240,2304,2368,2432,2496,2560,2624,2688,2752,2816,2880,2944,3008,3072,3136,3200,3264,3328,3392,3456,3520,3584,3648,3712,3776,3840,3904,3968,4032,4096,4160,4224,4288,4352,4416,4480,4544,4608,4672,4736,4800,4864,4928,4992,5056,5120,5184,5248,5312,5376,5440,5504,5568,5632,5696,5760,null,null,768,160,10,24,240]
[22,"BX 5U0",704,null,null,null,null,null,null,null,null,null,null,null,null,null,null,null,1056,2080,65,130,195,260,325,390,455,520,585,650,715,780,845,910,975,1040,1105,1170,1235,1300,1365,1430,1495,1560,1625,1690,1755,1820,1885,1950,2015,2080,2145,2210,2275,2340,2405,2470,2535,2600,2665,2730,2795,2860,2925,2990,3055,3120,3185,3250,3315,3380,3445,3510,3575,3640,3705,3770,3835,3900,3965,4030,4095,4160,4225,4290,4355,4420,4485,4550,4615,4680,4745,4810,4875,4940,5005,5070,5135,5200,5265,5330,5395,5460,5525,5590,5655,5720,5785,5850,null,null,704,176,11,22,242]
[23,"BX 5U0",704,null,null,null,null,null,null,null,null,null,null,null,null,null,null,null,1072,2112,66,132,198,264,330,396,462,528,594,660,726,792,858,924,990,1056,1122,1188,1254,1320,1386,1452,1518,1584,1650,1716,1782,1848,1914,1980,2046,2112,2178,2244,2310,2376,2442,2508,2574,2640,2706,2772,2838,2904,2970,3036,3102,3168,3234,3300,3366,3432,3498,3564,3630,3696,3762,3828,3894,3960,4026,4092,4158,4224,4290,4356,4422,4488,4554,4620,4686,4752,4818,4884,4950,5016,5082,5148,5214,5280,5346,5412,5478,5544,5610,5676,5742,5808,5874,5940,null,null,640,192,12,20,240]
[24,"BX 5U0",704,null,null,null,null,null,null,null,null,null,null,null,null,null,null,null,1088,2144,67,134,201,268,335,402,469,536,603,670,737,804,871,938,1005,1072,1139,1206,1273,1340,1407,1474,1541,1608,1675,1742,1809,1876,1943,2010,2077,2144,2211,2278,2345,2412,2479,2546,2613,2680,2747,2814,2881,2948,3015,3082,3149,3216,3283,3350,3417,3484,3551,3618,3685,3752,3819,3886,3953,4020,4087,4154,4221,4288,4355,4422,4489,4556,4623,4690,4757,4824,4891,4958,5025,5092,5159,5226,5293,5360,5427,5494,5561,5628,5695,5762,5829,5896,5963,6030,null,null,608,208,13,19,247]
[25,"BX 5U0",704,null,null,null,null,null,null,null,null,null,null,null,null,null,null,null,1104,2176,68,136,204,272,340,408,476,544,612,680,748,816,884,952,1020,1088,1156,1224,1292,1360,1428,1496,1564,1632,1700,1768,1836,1904,1972,2040,2108,2176,2244,2312,2380,2448,2516,2584,2652,2720,2788,2856,2924,2992,3060,3128,3196,3264,3332,3400,3468,3536,3604,3672,3740,3808,3876,3944,4012,4080,4148,4216,4284,4352,4420,4488,4556,4624,4692,4760,4828,4896,4964,5032,5100,5168,5236,5304,5372,5440,5508,5576,5644,5712,5780,5848,5916,5984,6052,6120,null,null,576,224,14,18,252]
[26,"BX 5U0",704,null,null,null,null,null,null,null,null,null,null,null,null,null,null,null,1120,2208,69,138,207,276,345,414,483,552,621,690,759,828,897,966,1035,1104,1173,1242,1311,1380,1449,1518,1587,1656,1725,1794,1863,1932,2001,2070,2139,2208,2277,2346,2415,2484,2553,2622,2691,2760,2829,2898,2967,3036,3105,3174,3243,3312,3381,3450,3519,3588,3657,3726,3795,3864,3933,4002,4071,4140,4209,4278,4347,4416,4485,4554,4623,4692,4761,4830,4899,4968,5037,5106,5175,5244,5313,5382,5451,5520,5589,5658,5727,5796,5865,5934,6003,6072,6141,6210,null,null,544,240,15,17,255]
[27,"BX 5U0",704,null,null,null,null,null,null,null,null,null,null,null,null,null,null,null,1136,2240,70,140,210,280,350,420,490,560,630,700,770,840,910,980,1050,1120,1190,1260,1330,1400,1470,1540,1610,1680,1750,1820,1890,1960,2030,2100,2170,2240,2310,2380,2450,2520,2590,2660,2730,2800,2870,2940,3010,3080,3150,3220,3290,3360,3430,3500,3570,3640,3710,3780,3850,3920,3990,4060,4130,4200,4270,4340,4410,4480,4550,4620,4690,4760,4830,4900,4970,5040,5110,5180,5250,5320,5390,5460,5530,5600,5670,5740,5810,5880,5950,6020,6090,6160,6230,6300,null,null,512,256,16,16,256]
[28,"BX 5U0",704,null,null,null,null,null,null,null,null,null,null,null,null,null,null,null,1152,2272,71,142,213,284,355,426,497,568,639,710,781,852,923,994,1065,1136,1207,1278,1349,1420,1491,1562,1633,1704,1775,1846,1917,1988,2059,2130,2201,2272,2343,2414,2485,2556,2627,2698,2769,2840,2911,2982,3053,3124,3195,3266,3337,3408,3479,3550,3621,3692,3763,3834,3905,3976,4047,4118,4189,4260,4331,4402,4473,4544,4615,4686,4757,4828,4899,4970,5041,5112,5183,5254,5325,5396,5467,5538,5609,5680,5751,5822,5893,5964,6035,6106,6177,6248,6319,6390]
[29,"BX 5U0",704,null,null,null,null,null,null,null,null,null,null,null,null,null,null,null,1168,2304,72,144,216,288,360,432,504,576,648,720,792,864,936,1008,1080,1152,1224,1296,1368,1440,1512,1584,1656,1728,1800,1872,1944,2016,2088,2160,2232,2304,2376,2448,2520,2592,2664,2736,2808,2880,2952,3024,3096,3168,3240,3312,3384,3456,3528,3600,3672,3744,3816,3888,3960,4032,4104,4176,4248,4320,4392,4464,4536,4608,4680,4752,4824,4896,4968,5040,5112,5184,5256,5328,5400,5472,5544,5616,5688,5760,5832,5904,5976,6048,6120,6192,6264,6336,6408,6480]
[30,"BX 5U0",704,null,null,null,null,null,null,null,null,null,null,null,null,null,null,null,1184,2336,73,146,219,292,365,438,511,584,657,730,803,876,949,1022,1095,1168,1241,1314,1387,1460,1533,1606,1679,1752,1825,1898,1971,2044,2117,2190,2263,2336,2409,2482,2555,2628,2701,2774,2847,2920,2993,3066,3139,3212,3285,3358,3431,3504,3577,3650,3723,3796,3869,3942,4015,4088,4161,4234,4307,4380,4453,4526,4599,4672,4745,4818,4891,4964,5037,5110,5183,5256,5329,5402,5475,5548,5621,5694,5767,5840,5913,5986,6059,6132,6205,6278,6351,6424,6497,6570]
[31,"BX 5U0",704,null,null,null,null,null,null,null,null,null,null,null,null,null,null,null,1200,2368,74,148,222,296,370,444,518,592,666,740,814,888,962,1036,1110,1184,1258,1332,1406,1480,1554,1628,1702,1776,1850,1924,1998,2072,2146,2220,2294,2368,2442,2516,2590,2664,2738,2812,2886,2960,3034,3108,3182,3256,3330,3404,3478,3552,3626,3700,3774,3848,3922,3996,4070,4144,4218,4292,4366,4440,4514,4588,4662,4736,4810,4884,4958,5032,5106,5180,5254,5328,5402,5476,5550,5624,5698,5772,5846,5920,5994,6068,6142,6216,6290,6364,6438,6512,6586,6660]
[32,"BX 5U0",704,null,null,null,null,null,null,null,null,null,null,null,null,null,null,null,1216,2400,75,150,225,300,375,450,525,600,675,750,825,900,975,1050,1125,1200,1275,1350,1425,1500,1575,1650,1725,1800,1875,1950,2025,2100,2175,2250,2325,2400,2475,2550,2625,2700,2775,2850,2925,3000,3075,3150,3225,3300,3375,3450,3525,3600,3675,3750,3825,3900,3975,4050,4125,4200,4275,4350,4425,4500,4575,4650,4725,4800,4875,4950,5025,5100,5175,5250,5325,5400,5475,5550,5625,5700,5775,5850,5925,6000,6075,6150,6225,6300,6375,6450,6525,6600,6675,6750]
[33,"BX 5U1",{"$f":"D116","v":992},{"$f":"E116*E3","v":992},15.5,null,null,null,null,null,null,null,null,null,null,null,null,null,1232,2432,76,152,228,304,380,456,532,608,684,760,836,912,988,1064,1140,1216,1292,1368,1444,1520,1596,1672,1748,1824,1900,1976,2052,2128,2204,2280,2356,2432,2508,2584,2660,2736,2812,2888,2964,3040,3116,3192,3268,3344,3420,3496,3572,3648,3724,3800,3876,3952,4028,4104,4180,4256,4332,4408,4484,4560,4636,4712,4788,4864,4940,5016,5092,5168,5244,5320,5396,5472,5548,5624,5700,5776,5852,5928,6004,6080,6156,6232,6308,6384,6460,6536,6612,6688,6764,6840]
[34,"BX 5U1",{"$f":"C116","v":992},null,null,null,null,null,null,null,null,null,null,null,null,null,null,null,1248,2464,77,154,231,308,385,462,539,616,693,770,847,924,1001,1078,1155,1232,1309,1386,1463,1540,1617,1694,1771,1848,1925,2002,2079,2156,2233,2310,2387,2464,2541,2618,2695,2772,2849,2926,3003,3080,3157,3234,3311,3388,3465,3542,3619,3696,3773,3850,3927,4004,4081,4158,4235,4312,4389,4466,4543,4620,4697,4774,4851,4928,5005,5082,5159,5236,5313,5390,5467,5544,5621,5698,5775,5852,5929,6006,6083,6160,6237,6314,6391,6468,6545,6622,6699,6776,6853,6930]
[35,"BX 5U1",992,null,null,null,null,null,null,null,null,null,null,null,null,null,null,null,1264,2496,78,156,234,312,390,468,546,624,702,780,858,936,1014,1092,1170,1248,1326,1404,1482,1560,1638,1716,1794,1872,1950,2028,2106,2184,2262,2340,2418,2496,2574,2652,2730,2808,2886,2964,3042,3120,3198,3276,3354,3432,3510,3588,3666,3744,3822,3900,3978,4056,4134,4212,4290,4368,4446,4524,4602,4680,4758,4836,4914,4992,5070,5148,5226,5304,5382,5460,5538,5616,5694,5772,5850,5928,6006,6084,6162,6240,6318,6396,6474,6552,6630,6708,6786,6864,6942,7020]
[36,"BX 5U1",992,null,null,null,null,null,null,null,null,null,null,null,null,null,null,null,1280,2528,79,158,237,316,395,474,553,632,711,790,869,948,1027,1106,1185,1264,1343,1422,1501,1580,1659,1738,1817,1896,1975,2054,2133,2212,2291,2370,2449,2528,2607,2686,2765,2844,2923,3002,3081,3160,3239,3318,3397,3476,3555,3634,3713,3792,3871,3950,4029,4108,4187,4266,4345,4424,4503,4582,4661,4740,4819,4898,4977,5056,5135,5214,5293,5372,5451,5530,5609,5688,5767,5846,5925,6004,6083,6162,6241,6320,6399,6478,6557,6636,6715,6794,6873,6952,7031,7110]
[37,"BX 5U1",992,null,null,null,null,null,null,null,null,null,null,null,null,null,null,null,1296,2560,80,160,240,320,400,480,560,640,720,800,880,960,1040,1120,1200,1280,1360,1440,1520,1600,1680,1760,1840,1920,2000,2080,2160,2240,2320,2400,2480,2560,2640,2720,2800,2880,2960,3040,3120,3200,3280,3360,3440,3520,3600,3680,3760,3840,3920,4000,4080,4160,4240,4320,4400,4480,4560,4640,4720,4800,4880,4960,5040,5120,5200,5280,5360,5440,5520,5600,5680,5760,5840,5920,6000,6080,6160,6240,6320,6400,6480,6560,6640,6720,6800,6880,6960,7040,7120,7200]
[38,"BX 5U1",992,null,null,null,null,null,null,null,null,null,null,null,null,null,null,null,1312,2592,81,162,243,324,405,486,567,648,729,810,891,972,1053,1134,1215,1296,1377,1458,1539,1620,1701,1782,1863,1944,2025,2106,2187,2268,2349,2430,2511,2592,2673,2754,2835,2916,2997,3078,3159,3240,3321,3402,3483,3564,3645,3726,3807,3888,3969,4050,4131,4212,4293,4374,4455,4536,4617,4698,4779,4860,4941,5022,5103,5184,5265,5346,5427,5508,5589,5670,5751,5832,5913,5994,6075,6156,6237,6318,6399,6480,6561,6642,6723,6804,6885,6966,7047,7128,7209,7290]
[39,"BX 5U1",992,null,null,null,null,null,null,null,null,null,null,null,null,null,null,null,1328,2624,82,164,246,328,410,492,574,656,738,820,902,984,1066,1148,1230,1312,1394,1476,1558,1640,1722,1804,1886,1968,2050,2132,2214,2296,2378,2460,2542,2624,2706,2788,2870,2952,3034,3116,3198,3280,3362,3444,3526,3608,3690,3772,3854,3936,4018,4100,4182,4264,4346,4428,4510,4592,4674,4756,4838,4920,5002,5084,5166,5248,5330,5412,5494,5576,5658,5740,5822,5904,5986,6068,6150,6232,6314,6396,6478,6560,6642,6724,6806,6888,6970,7052,7134,7216,7298,7380]
[40,"BX 5U1",992,null,null,null,null,null,null,null,null,null,null,null,null,null,null,null,1344,2656,83,166,249,332,415,498,581,664,747,830,913,996,1079,1162,1245,1328,1411,1494,1577,1660,1743,1826,1909,1992,2075,2158,2241,2324,2407,2490,2573,2656,2739,2822,2905,2988,3071,3154,3237,3320,3403,3486,3569,3652,3735,3818,3901,3984,4067,4150,4233,4316,4399,4482,4565,4648,4731,4814,4897,4980,5063,5146,5229,5312,5395,5478,5561,5644,5727,5810,5893,5976,6059,6142,6225,6308,6391,6474,6557,6640,6723,6806,6889,6972,7055,7138,7221,7304,7387,7470]
[41,"BX 5U1",992,null,null,null,null,null,null,null,null,null,null,null,null,null,null,null,1360,2688,84,168,252,336,420,504,588,672,756,840,924,1008,1092,1176,1260,1344,1428,1512,1596,1680,1764,1848,1932,2016,2100,2184,2268,2352,2436,2520,2604,2688,2772,2856,2940,3024,3108,3192,3276,3360,3444,3528,3612,3696,3780,3864,3948,4032,4116,4200,4284,4368,4452,4536,4620,4704,4788,4872,4956,5040,5124,5208,5292,5376,5460,5544,5628,5712,5796,5880,5964,6048,6132,6216,6300,6384,6468,6552,6636,6720,6804,6888,6972,7056,7140,7224,7308,7392,7476,7560]
[42,"BX 5U1",992,null,null,null,null,null,null,null,null,null,null,null,null,null,null,null,1376,2720,85,170,255,340,425,510,595,680,765,850,935,1020,1105,1190,1275,1360,1445,1530,1615,1700,1785,1870,1955,2040,2125,2210,2295,2380,2465,2550,2635,2720,2805,2890,2975,3060,3145,3230,3315,3400,3485,3570,3655,3740,3825,3910,3995,4080,4165,4250,4335,4420,4505,4590,4675,4760,4845,4930,5015,5100,5185,5270,5355,5440,5525,5610,5695,5780,5865,5950,6035,6120,6205,6290,6375,6460,6545,6630,6715,6800,6885,6970,7055,7140,7225,7310,7395,7480,7565,7650]
[43,"BX 5U1",992,null,null,null,null,null,null,null,null,null,null,null,null,null,null,null,1392,2752,86,172,258,344,430,516,602,688,774,860,946,1032,1118,1204,1290,1376,1462,1548,1634,1720,1806,1892,1978,2064,2150,2236,2322,2408,2494,2580,2666,2752,2838,2924,3010,3096,3182,3268,3354,3440,3526,3612,3698,3784,3870,3956,4042,4128,4214,4300,4386,4472,4558,4644,4730,4816,4902,4988,5074,5160,5246,5332,5418,5504,5590,5676,5762,5848,5934,6020,6106,6192,6278,6364,6450,6536,6622,6708,6794,6880,6966,7052,7138,7224,7310,7396,7482,7568,7654,7740]
[44,"BX 5U1",992,null,null,null,null,null,null,null,null,null,null,null,null,null,null,null,1408,2784,87,174,261,348,435,522,609,696,783,870,957,1044,1131,1218,1305,1392,1479,1566,1653,1740,1827,1914,2001,2088,2175,2262,2349,2436,2523,2610,2697,2784,2871,2958,3045,3132,3219,3306,3393,3480,3567,3654,3741,3828,3915,4002,4089,4176,4263,4350,4437,4524,4611,4698,4785,4872,4959,5046,5133,5220,5307,5394,5481,5568,5655,5742,5829,5916,6003,6090,6177,6264,6351,6438,6525,6612,6699,6786,6873,6960,7047,7134,7221,7308,7395,7482,7569,7656,7743,7830]
[45,"BX 5U1",992,null,null,null,null,null,null,null,null,null,null,null,null,null,null,null,1424,2816,88,176,264,352,440,528,616,704,792,880,968,1056,1144,1232,1320,1408,1496,1584,1672,1760,1848,1936,2024,2112,2200,2288,2376,2464,2552,2640,2728,2816,2904,2992,3080,3168,3256,3344,3432,3520,3608,3696,3784,3872,3960,4048,4136,4224,4312,4400,4488,4576,4664,4752,4840,4928,5016,5104,5192,5280,5368,5456,5544,5632,5720,5808,5896,5984,6072,6160,6248,6336,6424,6512,6600,6688,6776,6864,6952,7040,7128,7216,7304,7392,7480,7568,7656,7744,7832,7920]
[46,"BX 5U1",992,null,null,null,null,null,null,null,null,null,null,null,null,null,null,null,1440,2848,89,178,267,356,445,534,623,712,801,890,979,1068,1157,1246,1335,1424,1513,1602,1691,1780,1869,1958,2047,2136,2225,2314,2403,2492,2581,2670,2759,2848,2937,3026,3115,3204,3293,3382,3471,3560,3649,3738,3827,3916,4005,4094,4183,4272,4361,4450,4539,4628,4717,4806,4895,4984,5073,5162,5251,5340,5429,5518,5607,5696,5785,5874,5963,6052,6141,6230,6319,6408,6497,6586,6675,6764,6853,6942,7031,7120,7209,7298,7387,7476,7565,7654,7743,7832,7921,8010]
[47,"BX 5U1",992,null,null,null,null,null,null,null,null,null,null,null,null,null,null,null,1456,2880,90,180,270,360,450,540,630,720,810,900,990,1080,1170,1260,1350,1440,1530,1620,1710,1800,1890,1980,2070,2160,2250,2340,2430,2520,2610,2700,2790,2880,2970,3060,3150,3240,3330,3420,3510,3600,3690,3780,3870,3960,4050,4140,4230,4320,4410,4500,4590,4680,4770,4860,4950,5040,5130,5220,5310,5400,5490,5580,5670,5760,5850,5940,6030,6120,6210,6300,6390,6480,6570,6660,6750,6840,6930,7020,7110,7200,7290,7380,7470,7560,7650,7740,7830,7920,8010,8100]
[48,"BX 5U1",992,null,null,null,null,null,null,null,null,null,null,null,null,null,null,null,1472,2912,91,182,273,364,455,546,637,728,819,910,1001,1092,1183,1274,1365,1456,1547,1638,1729,1820,1911,2002,2093,2184,2275,2366,2457,2548,2639,2730,2821,2912,3003,3094,3185,3276,3367,3458,3549,3640,3731,3822,3913,4004,4095,4186,4277,4368,4459,4550,4641,4732,4823,4914,5005,5096,5187,5278,5369,5460,5551,5642,5733,5824,5915,6006,6097,6188,6279,6370,6461,6552,6643,6734,6825,6916,7007,7098,7189,7280,7371,7462,7553,7644,7735,7826,7917,8008,8099,8190]
[49,"BX 5U1",992,null,null,null,null,null,null,null,null,null,null,null,null,null,null,null,1488,2944,92,184,276,368,460,552,644,736,828,920,1012,1104,1196,1288,1380,1472,1564,1656,1748,1840,1932,2024,2116,2208,2300,2392,2484,2576,2668,2760,2852,2944,3036,3128,3220,3312,3404,3496,3588,3680,3772,3864,3956,4048,4140,4232,4324,4416,4508,4600,4692,4784,4876,4968,5060,5152,5244,5336,5428,5520,5612,5704,5796,5888,5980,6072,6164,6256,6348,6440,6532,6624,6716,6808,6900,6992,7084,7176,7268,7360,7452,7544,7636,7728,7820,7912,8004,8096,8188,8280]
[50,"BX 5U1",992,null,null,null,null,null,null,null,null,null,null,null,null,null,null,null,1504,2976,93,186,279,372,465,558,651,744,837,930,1023,1116,1209,1302,1395,1488,1581,1674,1767,1860,1953,2046,2139,2232,2325,2418,2511,2604,2697,2790,2883,2976,3069,3162,3255,3348,3441,3534,3627,3720,3813,3906,3999,4092,4185,4278,4371,4464,4557,4650,4743,4836,4929,5022,5115,5208,5301,5394,5487,5580,5673,5766,5859,5952,6045,6138,6231,6324,6417,6510,6603,6696,6789,6882,6975,7068,7161,7254,7347,7440,7533,7626,7719,7812,7905,7998,8091,8184,8277,8370]
[51,"BX 5U1",992,null,null,null,null,null,null,null,null,null,null,null,null,null,null,null,1520,3008,94,188,282,376,470,564,658,752,846,940,1034,1128,1222,1316,1410,1504,1598,1692,1786,1880,1974,2068,2162,2256,2350,2444,2538,2632,2726,2820,2914,3008,3102,3196,3290,3384,3478,3572,3666,3760,3854,3948,4042,4136,4230,4324,4418,4512,4606,4700,4794,4888,4982,5076,5170,5264,5358,5452,5546,5640,5734,5828,5922,6016,6110,6204,6298,6392,6486,6580,6674,6768,6862,6956,7050,7144,7238,7332,7426,7520,7614,7708,7802,7896,7990,8084,8178,8272,8366,8460]
[52,"BX 5U1",992,null,null,null,null,null,null,null,null,null,null,null,null,null,null,null,1536,3040,95,190,285,380,475,570,665,760,855,950,1045,1140,1235,1330,1425,1520,1615,1710,1805,1900,1995,2090,2185,2280,2375,2470,2565,2660,2755,2850,2945,3040,3135,3230,3325,3420,3515,3610,3705,3800,3895,3990,4085,4180,4275,4370,4465,4560,4655,4750,4845,4940,5035,5130,5225,5320,5415,5510,5605,5700,5795,5890,5985,6080,6175,6270,6365,6460,6555,6650,6745,6840,6935,7030,7125,7220,7315,7410,7505,7600,7695,7790,7885,7980,8075,8170,8265,8360,8455,8550]
[53,"BX 5U1",992,null,null,null,null,null,null,null,null,null,null,null,null,null,null,null,1552,3072,96,192,288,384,480,576,672,768,864,960,1056,1152,1248,1344,1440,1536,1632,1728,1824,1920,2016,2112,2208,2304,2400,2496,2592,2688,2784,2880,2976,3072,3168,3264,3360,3456,3552,3648,3744,3840,3936,4032,4128,4224,4320,4416,4512,4608,4704,4800,4896,4992,5088,5184,5280,5376,5472,5568,5664,5760,5856,5952,6048,6144,6240,6336,6432,6528,6624,6720,6816,6912,7008,7104,7200,7296,7392,7488,7584,7680,7776,7872,7968,8064,8160,8256,8352,8448,8544,8640]
[54,"BX 5U1",992,null,null,null,null,null,null,null,null,null,null,null,null,null,null,null,1568,3104,97,194,291,388,485,582,679,776,873,970,1067,1164,1261,1358,1455,1552,1649,1746,1843,1940,2037,2134,2231,2328,2425,2522,2619,2716,2813,2910,3007,3104,3201,3298,3395,3492,3589,3686,3783,3880,3977,4074,4171,4268,4365,4462,4559,4656,4753,4850,4947,5044,5141,5238,5335,5432,5529,5626,5723,5820,5917,6014,6111,6208,6305,6402,6499,6596,6693,6790,6887,6984,7081,7178,7275,7372,7469,7566,7663,7760,7857,7954,8051,8148,8245,8342,8439,8536,8633,8730]
[55,"BX 5U1",992,null,null,null,null,null,null,null,null,null,null,null,null,null,null,null,1584,3136,98,196,294,392,490,588,686,784,882,980,1078,1176,1274,1372,1470,1568,1666,1764,1862,1960,2058,2156,2254,2352,2450,2548,2646,2744,2842,2940,3038,3136,3234,3332,3430,3528,3626,3724,3822,3920,4018,4116,4214,4312,4410,4508,4606,4704,4802,4900,4998,5096,5194,5292,5390,5488,5586,5684,5782,5880,5978,6076,6174,6272,6370,6468,6566,6664,6762,6860,6958,7056,7154,7252,7350,7448,7546,7644,7742,7840,7938,8036,8134,8232,8330,8428,8526,8624,8722,8820]
[56,"BX 5U1",992,null,null,null,null,null,null,null,null,null,null,null,null,null,null,null,1600,3168,99,198,297,396,495,594,693,792,891,990,1089,1188,1287,1386,1485,1584,1683,1782,1881,1980,2079,2178,2277,2376,2475,2574,2673,2772,2871,2970,3069,3168,3267,3366,3465,3564,3663,3762,3861,3960,4059,4158,4257,4356,4455,4554,4653,4752,4851,4950,5049,5148,5247,5346,5445,5544,5643,5742,5841,5940,6039,6138,6237,6336,6435,6534,6633,6732,6831,6930,7029,7128,7227,7326,7425,7524,7623,7722,7821,7920,8019,8118,8217,8316,8415,8514,8613,8712,8811,8910]
[57,"BX 5U1",992,null,null,null,null,null,null,null,null,null,null,null,null,null,null,null,1616,3200,100,200,300,400,500,600,700,800,900,1000,1100,1200,1300,1400,1500,1600,1700,1800,1900,2000,2100,2200,2300,2400,2500,2600,2700,2800,2900,3000,3100,3200,3300,3400,3500,3600,3700,3800,3900,4000,4100,4200,4300,4400,4500,4600,4700,4800,4900,5000,5100,5200,5300,5400,5500,5600,5700,5800,5900,6000,6100,6200,6300,6400,6500,6600,6700,6800,6900,7000,7100,7200,7300,7400,7500,7600,7700,7800,7900,8000,8100,8200,8300,8400,8500,8600,8700,8800,8900,9000]
[58,"BX 5U1",992,null,null,null,null,null,null,null,null,null,null,null,null,null,null,null,1632,3232,101,202,303,404,505,606,707,808,909,1010,1111,1212,1313,1414,1515,1616,1717,1818,1919,2020,2121,2222,2323,2424,2525,2626,2727,2828,2929,3030,3131,3232,3333,3434,3535,3636,3737,3838,3939,4040,4141,4242,4343,4444,4545,4646,4747,4848,4949,5050,5151,5252,5353,5454,5555,5656,5757,5858,5959,6060,6161,6262,6363,6464,6565,6666,6767,6868,6969,7070,7171,7272,7373,7474,7575,7676,7777,7878,7979,8080,8181,8282,8383,8484,8585,8686,8787,8888,8989,9090]
[59,"BX 5U1",992,null,null,null,null,null,null,null,null,null,null,null,null,null,null,null,1648,3264,102,204,306,408,510,612,714,816,918,1020,1122,1224,1326,1428,1530,1632,1734,1836,1938,2040,2142,2244,2346,2448,2550,2652,2754,2856,2958,3060,3162,3264,3366,3468,3570,3672,3774,3876,3978,4080,4182,4284,4386,4488,4590,4692,4794,4896,4998,5100,5202,5304,5406,5508,5610,5712,5814,5916,6018,6120,6222,6324,6426,6528,6630,6732,6834,6936,7038,7140,7242,7344,7446,7548,7650,7752,7854,7956,8058,8160,8262,8364,8466,8568,8670,8772,8874,8976,9078,9180]
[60,"BX 5U1",992,null,null,null,null,null,null,null,null,null,null,null,null,null,null,null,1664,3296,103,206,309,412,515,618,721,824,927,1030,1133,1236,1339,1442,1545,1648,1751,1854,1957,2060,2163,2266,2369,2472,2575,2678,2781,2884,2987,3090,3193,3296,3399,3502,3605,3708,3811,3914,4017,4120,4223,4326,4429,4532,4635,4738,4841,4944,5047,5150,5253,5356,5459,5562,5665,5768,5871,5974,6077,6180,6283,6386,6489,6592,6695,6798,6901,7004,7107,7210,7313,7416,7519,7622,7725,7828,7931,8034,8137,8240,8343,8446,8549,8652,8755,8858,8961,9064,9167,9270]
[61,"BX 5U1",992,null,null,null,null,null,null,null,null,null,null,null,null,null,null,null,1680,3328,104,208,312,416,520,624,728,832,936,1040,1144,1248,1352,1456,1560,1664,1768,1872,1976,2080,2184,2288,2392,2496,2600,2704,2808,2912,3016,3120,3224,3328,3432,3536,3640,3744,3848,3952,4056,4160,4264,4368,4472,4576,4680,4784,4888,4992,5096,5200,5304,5408,5512,5616,5720,5824,5928,6032,6136,6240,6344,6448,6552,6656,6760,6864,6968,7072,7176,7280,7384,7488,7592,7696,7800,7904,8008,8112,8216,8320,8424,8528,8632,8736,8840,8944,9048,9152,9256,9360]
[62,"BX 5U1",992,null,null,null,null,null,null,null,null,null,null,null,null,null,null,null,1696,3360,105,210,315,420,525,630,735,840,945,1050,1155,1260,1365,1470,1575,1680,1785,1890,1995,2100,2205,2310,2415,2520,2625,2730,2835,2940,3045,3150,3255,3360,3465,3570,3675,3780,3885,3990,4095,4200,4305,4410,4515,4620,4725,4830,4935,5040,5145,5250,5355,5460,5565,5670,5775,5880,5985,6090,6195,6300,6405,6510,6615,6720,6825,6930,7035,7140,7245,7350,7455,7560,7665,7770,7875,7980,8085,8190,8295,8400,8505,8610,8715,8820,8925,9030,9135,9240,9345,9450]
[63,"BX 5U1",992,null,null,null,null,null,null,null,null,null,null,null,null,null,null,null,1712,3392,106,212,318,424,530,636,742,848,954,1060,1166,1272,1378,1484,1590,1696,1802,1908,2014,2120,2226,2332,2438,2544,2650,2756,2862,2968,3074,3180,3286,3392,3498,3604,3710,3816,3922,4028,4134,4240,4346,4452,4558,4664,4770,4876,4982,5088,5194,5300,5406,5512,5618,5724,5830,5936,6042,6148,6254,6360,6466,6572,6678,6784,6890,6996,7102,7208,7314,7420,7526,7632,7738,7844,7950,8056,8162,8268,8374,8480,8586,8692,8798,8904,9010,9116,9222,9328,9434,9540]
[64,"BX 5U1",992,null,null,null,null,null,null,null,null,null,null,null,null,null,null,null,1728,3424,107,214,321,428,535,642,749,856,963,1070,1177,1284,1391,1498,1605,1712,1819,1926,2033,2140,2247,2354,2461,2568,2675,2782,2889,2996,3103,3210,3317,3424,3531,3638,3745,3852,3959,4066,4173,4280,4387,4494,4601,4708,4815,4922,5029,5136,5243,5350,5457,5564,5671,5778,5885,5992,6099,6206,6313,6420,6527,6634,6741,6848,6955,7062,7169,7276,7383,7490,7597,7704,7811,7918,8025,8132,8239,8346,8453,8560,8667,8774,8881,8988,9095,9202,9309,9416,9523,9630]
[65,"BX 5U2",{"$f":"D148","v":1440},{"$f":"E148*E3","v":1440},22.5,null,null,null,null,null,null,null,null,null,null,null,null,null,1744,3456,108,216,324,432,540,648,756,864,972,1080,1188,1296,1404,1512,1620,1728,1836,1944,2052,2160,2268,2376,2484,2592,2700,2808,2916,3024,3132,3240,3348,3456,3564,3672,3780,3888,3996,4104,4212,4320,4428,4536,4644,4752,4860,4968,5076,5184,5292,5400,5508,5616,5724,5832,5940,6048,6156,6264,6372,6480,6588,6696,6804,6912,7020,7128,7236,7344,7452,7560,7668,7776,7884,7992,8100,8208,8316,8424,8532,8640,8748,8856,8964,9072,9180,9288,9396,9504,9612,9720]
[66,"BX 5U2",{"$f":"C148","v":1440},null,null,null,null,null,null,null,null,null,null,null,null,null,null,null,1760,3488,109,218,327,436,545,654,763,872,981,1090,1199,1308,1417,1526,1635,1744,1853,1962,2071,2180,2289,2398,2507,2616,2725,2834,2943,3052,3161,3270,3379,3488,3597,3706,3815,3924,4033,4142,4251,4360,4469,4578,4687,4796,4905,5014,5123,5232,5341,5450,5559,5668,5777,5886,5995,6104,6213,6322,6431,6540,6649,6758,6867,6976,7085,7194,7303,7412,7521,7630,7739,7848,7957,8066,8175,8284,8393,8502,8611,8720,8829,8938,9047,9156,9265,9374,9483,9592,9701,9810]
[67,"BX 5U2",1440,null,null,null,null,null,null,null,null,null,null,null,null,null,null,null,1776,3520,110,220,330,440,550,660,770,880,990,1100,1210,1320,1430,1540,1650,1760,1870,1980,2090,2200,2310,2420,2530,2640,2750,2860,2970,3080,3190,3300,3410,3520,3630,3740,3850,3960,4070,4180,4290,4400,4510,4620,4730,4840,4950,5060,5170,5280,5390,5500,5610,5720,5830,5940,6050,6160,6270,6380,6490,6600,6710,6820,6930,7040,7150,7260,7370,7480,7590,7700,7810,7920,8030,8140,8250,8360,8470,8580,8690,8800,8910,9020,9130,9240,9350,9460,9570,9680,9790,9900]
[68,"BX 5U2",1440,null,null,null,null,null,null,null,null,null,null,null,null,null,null,null,1792,3552,111,222,333,444,555,666,777,888,999,1110,1221,1332,1443,1554,1665,1776,1887,1998,2109,2220,2331,2442,2553,2664,2775,2886,2997,3108,3219,3330,3441,3552,3663,3774,3885,3996,4107,4218,4329,4440,4551,4662,4773,4884,4995,5106,5217,5328,5439,5550,5661,5772,5883,5994,6105,6216,6327,6438,6549,6660,6771,6882,6993,7104,7215,7326,7437,7548,7659,7770,7881,7992,8103,8214,8325,8436,8547,8658,8769,8880,8991,9102,9213,9324,9435,9546,9657,9768,9879,9990]
[69,"BX 5U2",1440,null,null,null,null,null,null,null,null,null,null,null,null,null,null,null,1808,3584,112,224,336,448,560,672,784,896,1008,1120,1232,1344,1456,1568,1680,1792,1904,2016,2128,2240,2352,2464,2576,2688,2800,2912,3024,3136,3248,3360,3472,3584,3696,3808,3920,4032,4144,4256,4368,4480,4592,4704,4816,4928,5040,5152,5264,5376,5488,5600,5712,5824,5936,6048,6160,6272,6384,6496,6608,6720,6832,6944,7056,7168,7280,7392,7504,7616,7728,7840,7952,8064,8176,8288,8400,8512,8624,8736,8848,8960,9072,9184,9296,9408,9520,9632,9744,9856,9968,10080]
[70,"BX 5U2",1440,null,null,null,null,null,null,null,null,null,null,null,null,null,null,null,1824,3616,113,226,339,452,565,678,791,904,1017,1130,1243,1356,1469,1582,1695,1808,1921,2034,2147,2260,2373,2486,2599,2712,2825,2938,3051,3164,3277,3390,3503,3616,3729,3842,3955,4068,4181,4294,4407,4520,4633,4746,4859,4972,5085,5198,5311,5424,5537,5650,5763,5876,5989,6102,6215,6328,6441,6554,6667,6780,6893,7006,7119,7232,7345,7458,7571,7684,7797,7910,8023,8136,8249,8362,8475,8588,8701,8814,8927,9040,9153,9266,9379,9492,9605,9718,9831,9944,10057,10170]
[71,"BX 5U2",1440,null,null,null,null,null,null,null,null,null,null,null,null,null,null,null,1840,3648,114,228,342,456,570,684,798,912,1026,1140,1254,1368,1482,1596,1710,1824,1938,2052,2166,2280,2394,2508,2622,2736,2850,2964,3078,3192,3306,3420,3534,3648,3762,3876,3990,4104,4218,4332,4446,4560,4674,4788,4902,5016,5130,5244,5358,5472,5586,5700,5814,5928,6042,6156,6270,6384,6498,6612,6726,6840,6954,7068,7182,7296,7410,7524,7638,7752,7866,7980,8094,8208,8322,8436,8550,8664,8778,8892,9006,9120,9234,9348,9462,9576,9690,9804,9918,10032,10146,10260]
[72,"BX 5U2",1440,null,null,null,null,null,null,null,null,null,null,null,null,null,null,null,1856,3680,115,230,345,460,575,690,805,920,1035,1150,1265,1380,1495,1610,1725,1840,1955,2070,2185,2300,2415,2530,2645,2760,2875,2990,3105,3220,3335,3450,3565,3680,3795,3910,4025,4140,4255,4370,4485,4600,4715,4830,4945,5060,5175,5290,5405,5520,5635,5750,5865,5980,6095,6210,6325,6440,6555,6670,6785,6900,7015,7130,7245,7360,7475,7590,7705,7820,7935,8050,8165,8280,8395,8510,8625,8740,8855,8970,9085,9200,9315,9430,9545,9660,9775,9890,10005,10120,10235,10350]
[73,"BX 5U2",1440,null,null,null,null,null,null,null,null,null,null,null,null,null,null,null,1872,3712,116,232,348,464,580,696,812,928,1044,1160,1276,1392,1508,1624,1740,1856,1972,2088,2204,2320,2436,2552,2668,2784,2900,3016,3132,3248,3364,3480,3596,3712,3828,3944,4060,4176,4292,4408,4524,4640,4756,4872,4988,5104,5220,5336,5452,5568,5684,5800,5916,6032,6148,6264,6380,6496,6612,6728,6844,6960,7076,7192,7308,7424,7540,7656,7772,7888,8004,8120,8236,8352,8468,8584,8700,8816,8932,9048,9164,9280,9396,9512,9628,9744,9860,9976,10092,10208,10324,10440]
[74,"BX 5U2",1440,null,null,null,null,null,null,null,null,null,null,null,null,null,null,null,1888,3744,117,234,351,468,585,702,819,936,1053,1170,1287,1404,1521,1638,1755,1872,1989,2106,2223,2340,2457,2574,2691,2808,2925,3042,3159,3276,3393,3510,3627,3744,3861,3978,4095,4212,4329,4446,4563,4680,4797,4914,5031,5148,5265,5382,5499,5616,5733,5850,5967,6084,6201,6318,6435,6552,6669,6786,6903,7020,7137,7254,7371,7488,7605,7722,7839,7956,8073,8190,8307,8424,8541,8658,8775,8892,9009,9126,9243,9360,9477,9594,9711,9828,9945,10062,10179,10296,10413,10530]
[75,"BX 5U2",1440,null,null,null,null,null,null,null,null,null,null,null,null,null,null,null,1904,3776,118,236,354,472,590,708,826,944,1062,1180,1298,1416,1534,1652,1770,1888,2006,2124,2242,2360,2478,2596,2714,2832,2950,3068,3186,3304,3422,3540,3658,3776,3894,4012,4130,4248,4366,4484,4602,4720,4838,4956,5074,5192,5310,5428,5546,5664,5782,5900,6018,6136,6254,6372,6490,6608,6726,6844,6962,7080,7198,7316,7434,7552,7670,7788,7906,8024,8142,8260,8378,8496,8614,8732,8850,8968,9086,9204,9322,9440,9558,9676,9794,9912,10030,10148,10266,10384,10502,10620]
[76,"BX 5U2",1440,null,null,null,null,null,null,null,null,null,null,null,null,null,null,null,1920,3808,119,238,357,476,595,714,833,952,1071,1190,1309,1428,1547,1666,1785,1904,2023,2142,2261,2380,2499,2618,2737,2856,2975,3094,3213,3332,3451,3570,3689,3808,3927,4046,4165,4284,4403,4522,4641,4760,4879,4998,5117,5236,5355,5474,5593,5712,5831,5950,6069,6188,6307,6426,6545,6664,6783,6902,7021,7140,7259,7378,7497,7616,7735,7854,7973,8092,8211,8330,8449,8568,8687,8806,8925,9044,9163,9282,9401,9520,9639,9758,9877,9996,10115,10234,10353,10472,10591,10710]
[77,"BX 5U2",1440,null,null,null,null,null,null,null,null,null,null,null,null,null,null,null,1936,3840,120,240,360,480,600,720,840,960,1080,1200,1320,1440,1560,1680,1800,1920,2040,2160,2280,2400,2520,2640,2760,2880,3000,3120,3240,3360,3480,3600,3720,3840,3960,4080,4200,4320,4440,4560,4680,4800,4920,5040,5160,5280,5400,5520,5640,5760,5880,6000,6120,6240,6360,6480,6600,6720,6840,6960,7080,7200,7320,7440,7560,7680,7800,7920,8040,8160,8280,8400,8520,8640,8760,8880,9000,9120,9240,9360,9480,9600,9720,9840,9960,10080,10200,10320,10440,10560,10680,10800]
[78,"BX 5U2",1440,null,null,null,null,null,null,null,null,null,null,null,null,null,null,null,1952,3872,121,242,363,484,605,726,847,968,1089,1210,1331,1452,1573,1694,1815,1936,2057,2178,2299,2420,2541,2662,2783,2904,3025,3146,3267,3388,3509,3630,3751,3872,3993,4114,4235,4356,4477,4598,4719,4840,4961,5082,5203,5324,5445,5566,5687,5808,5929,6050,6171,6292,6413,6534,6655,6776,6897,7018,7139,7260,7381,7502,7623,7744,7865,7986,8107,8228,8349,8470,8591,8712,8833,8954,9075,9196,9317,9438,9559,9680,9801,9922,10043,10164,10285,10406,10527,10648,10769,10890]
[79,"BX 5U2",1440,null,null,null,null,null,null,null,null,null,null,null,null,null,null,null,1968,3904,122,244,366,488,610,732,854,976,1098,1220,1342,1464,1586,1708,1830,1952,2074,2196,2318,2440,2562,2684,2806,2928,3050,3172,3294,3416,3538,3660,3782,3904,4026,4148,4270,4392,4514,4636,4758,4880,5002,5124,5246,5368,5490,5612,5734,5856,5978,6100,6222,6344,6466,6588,6710,6832,6954,7076,7198,7320,7442,7564,7686,7808,7930,8052,8174,8296,8418,8540,8662,8784,8906,9028,9150,9272,9394,9516,9638,9760,9882,10004,10126,10248,10370,10492,10614,10736,10858,10980]
[80,"BX 5U2",1440,null,null,null,null,null,null,null,null,null,null,null,null,null,null,null,1984,3936,123,246,369,492,615,738,861,984,1107,1230,1353,1476,1599,1722,1845,1968,2091,2214,2337,2460,2583,2706,2829,2952,3075,3198,3321,3444,3567,3690,3813,3936,4059,4182,4305,4428,4551,4674,4797,4920,5043,5166,5289,5412,5535,5658,5781,5904,6027,6150,6273,6396,6519,6642,6765,6888,7011,7134,7257,7380,7503,7626,7749,7872,7995,8118,8241,8364,8487,8610,8733,8856,8979,9102,9225,9348,9471,9594,9717,9840,9963,10086,10209,10332,10455,10578,10701,10824,10947,11070]
[81,"BX 5U2",1440,null,null,null,null,null,null,null,null,null,null,null,null,null,null,null,2000,3968,124,248,372,496,620,744,868,992,1116,1240,1364,1488,1612,1736,1860,1984,2108,2232,2356,2480,2604,2728,2852,2976,3100,3224,3348,3472,3596,3720,3844,3968,4092,4216,4340,4464,4588,4712,4836,4960,5084,5208,5332,5456,5580,5704,5828,5952,6076,6200,6324,6448,6572,6696,6820,6944,7068,7192,7316,7440,7564,7688,7812,7936,8060,8184,8308,8432,8556,8680,8804,8928,9052,9176,9300,9424,9548,9672,9796,9920,10044,10168,10292,10416,10540,10664,10788,10912,11036,11160]
[82,"BX 5U2",1440,null,null,null,null,null,null,null,null,null,null,null,null,null,null,null,2016,4000,125,250,375,500,625,750,875,1000,1125,1250,1375,1500,1625,1750,1875,2000,2125,2250,2375,2500,2625,2750,2875,3000,3125,3250,3375,3500,3625,3750,3875,4000,4125,4250,4375,4500,4625,4750,4875,5000,5125,5250,5375,5500,5625,5750,5875,6000,6125,6250,6375,6500,6625,6750,6875,7000,7125,7250,7375,7500,7625,7750,7875,8000,8125,8250,8375,8500,8625,8750,8875,9000,9125,9250,9375,9500,9625,9750,9875,10000,10125,10250,10375,10500,10625,10750,10875,11000,11125,11250]
[83,"BX 5U2",1440,null,null,null,null,null,null,null,null,null,null,null,null,null,null,null,2032,4032,126,252,378,504,630,756,882,1008,1134,1260,1386,1512,1638,1764,1890,2016,2142,2268,2394,2520,2646,2772,2898,3024,3150,3276,3402,3528,3654,3780,3906,4032,4158,4284,4410,4536,4662,4788,4914,5040,5166,5292,5418,5544,5670,5796,5922,6048,6174,6300,6426,6552,6678,6804,6930,7056,7182,7308,7434,7560,7686,7812,7938,8064,8190,8316,8442,8568,8694,8820,8946,9072,9198,9324,9450,9576,9702,9828,9954,10080,10206,10332,10458,10584,10710,10836,10962,11088,11214,11340]
[84,"BX 5U2",1440,null,null,null,null,null,null,null,null,null,null,null,null,null,null,null,2048,4064,127,254,381,508,635,762,889,1016,1143,1270,1397,1524,1651,1778,1905,2032,2159,2286,2413,2540,2667,2794,2921,3048,3175,3302,3429,3556,3683,3810,3937,4064,4191,4318,4445,4572,4699,4826,4953,5080,5207,5334,5461,5588,5715,5842,5969,6096,6223,6350,6477,6604,6731,6858,6985,7112,7239,7366,7493,7620,7747,7874,8001,8128,8255,8382,8509,8636,8763,8890,9017,9144,9271,9398,9525,9652,9779,9906,10033,10160,10287,10414,10541,10668,10795,10922,11049,11176,11303,11430]
[85,"BX 5U2",1440,null,null,null,null,null,null,null,null,null,null,null,null,null,null,null,2064,4096,128,256,384,512,640,768,896,1024,1152,1280,1408,1536,1664,1792,1920,2048,2176,2304,2432,2560,2688,2816,2944,3072,3200,3328,3456,3584,3712,3840,3968,4096,4224,4352,4480,4608,4736,4864,4992,5120,5248,5376,5504,5632,5760,5888,6016,6144,6272,6400,6528,6656,6784,6912,7040,7168,7296,7424,7552,7680,7808,7936,8064,8192,8320,8448,8576,8704,8832,8960,9088,9216,9344,9472,9600,9728,9856,9984,10112,10240,10368,10496,10624,10752,10880,11008,11136,11264,11392,11520]
[86,"BX 5U2",1440,null,null,null,null,null,null,null,null,null,null,null,null,null,null,null,2080,4128,129,258,387,516,645,774,903,1032,1161,1290,1419,1548,1677,1806,1935,2064,2193,2322,2451,2580,2709,2838,2967,3096,3225,3354,3483,3612,3741,3870,3999,4128,4257,4386,4515,4644,4773,4902,5031,5160,5289,5418,5547,5676,5805,5934,6063,6192,6321,6450,6579,6708,6837,6966,7095,7224,7353,7482,7611,7740,7869,7998,8127,8256,8385,8514,8643,8772,8901,9030,9159,9288,9417,9546,9675,9804,9933,10062,10191,10320,10449,10578,10707,10836,10965,11094,11223,11352,11481,11610]
[87,"BX 5U2",1440,null,null,null,null,null,null,null,null,null,null,null,null,null,null,null,2096,4160,130,260,390,520,650,780,910,1040,1170,1300,1430,1560,1690,1820,1950,2080,2210,2340,2470,2600,2730,2860,2990,3120,3250,3380,3510,3640,3770,3900,4030,4160,4290,4420,4550,4680,4810,4940,5070,5200,5330,5460,5590,5720,5850,5980,6110,6240,6370,6500,6630,6760,6890,7020,7150,7280,7410,7540,7670,7800,7930,8060,8190,8320,8450,8580,8710,8840,8970,9100,9230,9360,9490,9620,9750,9880,10010,10140,10270,10400,10530,10660,10790,10920,11050,11180,11310,11440,11570,11700]
[88,"BX 5U2",1440,null,null,null,null,null,null,null,null,null,null,null,null,null,null,null,2112,4192,131,262,393,524,655,786,917,1048,1179,1310,1441,1572,1703,1834,1965,2096,2227,2358,2489,2620,2751,2882,3013,3144,3275,3406,3537,3668,3799,3930,4061,4192,4323,4454,4585,4716,4847,4978,5109,5240,5371,5502,5633,5764,5895,6026,6157,6288,6419,6550,6681,6812,6943,7074,7205,7336,7467,7598,7729,7860,7991,8122,8253,8384,8515,8646,8777,8908,9039,9170,9301,9432,9563,9694,9825,9956,10087,10218,10349,10480,10611,10742,10873,11004,11135,11266,11397,11528,11659,11790]
[89,"BX 5U2",1440,null,null,null,null,null,null,null,null,null,null,null,null,null,null,null,2128,4224,132,264,396,528,660,792,924,1056,1188,1320,1452,1584,1716,1848,1980,2112,2244,2376,2508,2640,2772,2904,3036,3168,3300,3432,3564,3696,3828,3960,4092,4224,4356,4488,4620,4752,4884,5016,5148,5280,5412,5544,5676,5808,5940,6072,6204,6336,6468,6600,6732,6864,6996,7128,7260,7392,7524,7656,7788,7920,8052,8184,8316,8448,8580,8712,8844,8976,9108,9240,9372,9504,9636,9768,9900,10032,10164,10296,10428,10560,10692,10824,10956,11088,11220,11352,11484,11616,11748,11880]
[90,"BX 5U2",1440,null,null,null,null,null,null,null,null,null,null,null,null,null,null,null,2144,4256,133,266,399,532,665,798,931,1064,1197,1330,1463,1596,1729,1862,1995,2128,2261,2394,2527,2660,2793,2926,3059,3192,3325,3458,3591,3724,3857,3990,4123,4256,4389,4522,4655,4788,4921,5054,5187,5320,5453,5586,5719,5852,5985,6118,6251,6384,6517,6650,6783,6916,7049,7182,7315,7448,7581,7714,7847,7980,8113,8246,8379,8512,8645,8778,8911,9044,9177,9310,9443,9576,9709,9842,9975,10108,10241,10374,10507,10640,10773,10906,11039,11172,11305,11438,11571,11704,11837,11970]
[91,"BX 5U2",1440,null,null,null,null,null,null,null,null,null,null,null,null,null,null,null,2160,4288,134,268,402,536,670,804,938,1072,1206,1340,1474,1608,1742,1876,2010,2144,2278,2412,2546,2680,2814,2948,3082,3216,3350,3484,3618,3752,3886,4020,4154,4288,4422,4556,4690,4824,4958,5092,5226,5360,5494,5628,5762,5896,6030,6164,6298,6432,6566,6700,6834,6968,7102,7236,7370,7504,7638,7772,7906,8040,8174,8308,8442,8576,8710,8844,8978,9112,9246,9380,9514,9648,9782,9916,10050,10184,10318,10452,10586,10720,10854,10988,11122,11256,11390,11524,11658,11792,11926,12060]
[92,"BX 5U2",1440,null,null,null,null,null,null,null,null,null,null,null,null,null,null,null,2176,4320,135,270,405,540,675,810,945,1080,1215,1350,1485,1620,1755,1890,2025,2160,2295,2430,2565,2700,2835,2970,3105,3240,3375,3510,3645,3780,3915,4050,4185,4320,4455,4590,4725,4860,4995,5130,5265,5400,5535,5670,5805,5940,6075,6210,6345,6480,6615,6750,6885,7020,7155,7290,7425,7560,7695,7830,7965,8100,8235,8370,8505,8640,8775,8910,9045,9180,9315,9450,9585,9720,9855,9990,10125,10260,10395,10530,10665,10800,10935,11070,11205,11340,11475,11610,11745,11880,12015,12150]
[93,"BX 5U2",1440,null,null,null,null,null,null,null,null,null,null,null,null,null,null,null,2192,4352,136,272,408,544,680,816,952,1088,1224,1360,1496,1632,1768,1904,2040,2176,2312,2448,2584,2720,2856,2992,3128,3264,3400,3536,3672,3808,3944,4080,4216,4352,4488,4624,4760,4896,5032,5168,5304,5440,5576,5712,5848,5984,6120,6256,6392,6528,6664,6800,6936,7072,7208,7344,7480,7616,7752,7888,8024,8160,8296,8432,8568,8704,8840,8976,9112,9248,9384,9520,9656,9792,9928,10064,10200,10336,10472,10608,10744,10880,11016,11152,11288,11424,11560,11696,11832,11968,12104,12240]
[94,"BX 5U2",1440,null,null,null,null,null,null,null,null,null,null,null,null,null,null,null,2208,4384,137,274,411,548,685,822,959,1096,1233,1370,1507,1644,1781,1918,2055,2192,2329,2466,2603,2740,2877,3014,3151,3288,3425,3562,3699,3836,3973,4110,4247,4384,4521,4658,4795,4932,5069,5206,5343,5480,5617,5754,5891,6028,6165,6302,6439,6576,6713,6850,6987,7124,7261,7398,7535,7672,7809,7946,8083,8220,8357,8494,8631,8768,8905,9042,9179,9316,9453,9590,9727,9864,10001,10138,10275,10412,10549,10686,10823,10960,11097,11234,11371,11508,11645,11782,11919,12056,12193,12330]
[95,"BX 5U2",1440,null,null,null,null,null,null,null,null,null,null,null,null,null,null,null,2224,4416,138,276,414,552,690,828,966,1104,1242,1380,1518,1656,1794,1932,2070,2208,2346,2484,2622,2760,2898,3036,3174,3312,3450,3588,3726,3864,4002,4140,4278,4416,4554,4692,4830,4968,5106,5244,5382,5520,5658,5796,5934,6072,6210,6348,6486,6624,6762,6900,7038,7176,7314,7452,7590,7728,7866,8004,8142,8280,8418,8556,8694,8832,8970,9108,9246,9384,9522,9660,9798,9936,10074,10212,10350,10488,10626,10764,10902,11040,11178,11316,11454,11592,11730,11868,12006,12144,12282,12420]
[96,"BX 5U2",1440,null,null,null,null,null,null,null,null,null,null,null,null,null,null,null,2240,4448,139,278,417,556,695,834,973,1112,1251,1390,1529,1668,1807,1946,2085,2224,2363,2502,2641,2780,2919,3058,3197,3336,3475,3614,3753,3892,4031,4170,4309,4448,4587,4726,4865,5004,5143,5282,5421,5560,5699,5838,5977,6116,6255,6394,6533,6672,6811,6950,7089,7228,7367,7506,7645,7784,7923,8062,8201,8340,8479,8618,8757,8896,9035,9174,9313,9452,9591,9730,9869,10008,10147,10286,10425,10564,10703,10842,10981,11120,11259,11398,11537,11676,11815,11954,12093,12232,12371,12510]
[97,"BX 5U2",1440,null,null,null,null,null,null,null,null,null,null,null,null,null,null,null,2256,4480,140,280,420,560,700,840,980,1120,1260,1400,1540,1680,1820,1960,2100,2240,2380,2520,2660,2800,2940,3080,3220,3360,3500,3640,3780,3920,4060,4200,4340,4480,4620,4760,4900,5040,5180,5320,5460,5600,5740,5880,6020,6160,6300,6440,6580,6720,6860,7000,7140,7280,7420,7560,7700,7840,7980,8120,8260,8400,8540,8680,8820,8960,9100,9240,9380,9520,9660,9800,9940,10080,10220,10360,10500,10640,10780,10920,11060,11200,11340,11480,11620,11760,11900,12040,12180,12320,12460,12600]
[98,"BX 5U2",1440,null,null,null,null,null,null,null,null,null,null,null,null,null,null,null,2272,4512,141,282,423,564,705,846,987,1128,1269,1410,1551,1692,1833,1974,2115,2256,2397,2538,2679,2820,2961,3102,3243,3384,3525,3666,3807,3948,4089,4230,4371,4512,4653,4794,4935,5076,5217,5358,5499,5640,5781,5922,6063,6204,6345,6486,6627,6768,6909,7050,7191,7332,7473,7614,7755,7896,8037,8178,8319,8460,8601,8742,8883,9024,9165,9306,9447,9588,9729,9870,10011,10152,10293,10434,10575,10716,10857,10998,11139,11280,11421,11562,11703,11844,11985,12126,12267,12408,12549,12690]
[99,"BX 5U2",1440,null,null,null,null,null,null,null,null,null,null,null,null,null,null,null,2288,4544,142,284,426,568,710,852,994,1136,1278,1420,1562,1704,1846,1988,2130,2272,2414,2556,2698,2840,2982,3124,3266,3408,3550,3692,3834,3976,4118,4260,4402,4544,4686,4828,4970,5112,5254,5396,5538,5680,5822,5964,6106,6248,6390,6532,6674,6816,6958,7100,7242,7384,7526,7668,7810,7952,8094,8236,8378,8520,8662,8804,8946,9088,9230,9372,9514,9656,9798,9940,10082,10224,10366,10508,10650,10792,10934,11076,11218,11360,11502,11644,11786,11928,12070,12212,12354,12496,12638,12780]
[100,"BX 5U2",1440,null,null,null,null,null,null,null,null,null,null,null,null,null,null,null,2304,4576,143,286,429,572,715,858,1001,1144,1287,1430,1573,1716,1859,2002,2145,2288,2431,2574,2717,2860,3003,3146,3289,3432,3575,3718,3861,4004,4147,4290,4433,4576,4719,4862,5005,5148,5291,5434,5577,5720,5863,6006,6149,6292,6435,6578,6721,6864,7007,7150,7293,7436,7579,7722,7865,8008,8151,8294,8437,8580,8723,8866,9009,9152,9295,9438,9581,9724,9867,10010,10153,10296,10439,10582,10725,10868,11011,11154,11297,11440,11583,11726,11869,12012,12155,12298,12441,12584,12727,12870]
[101,"BX 5U2",1440,null,null,null,null,null,null,null,null,null,null,null,null,null,null,null,2320,4608,144,288,432,576,720,864,1008,1152,1296,1440,1584,1728,1872,2016,2160,2304,2448,2592,2736,2880,3024,3168,3312,3456,3600,3744,3888,4032,4176,4320,4464,4608,4752,4896,5040,5184,5328,5472,5616,5760,5904,6048,6192,6336,6480,6624,6768,6912,7056,7200,7344,7488,7632,7776,7920,8064,8208,8352,8496,8640,8784,8928,9072,9216,9360,9504,9648,9792,9936,10080,10224,10368,10512,10656,10800,10944,11088,11232,11376,11520,11664,11808,11952,12096,12240,12384,12528,12672,12816,12960]
[102,"BX 5U2",1440,null,null,null,null,null,null,null,null,null,null,null,null,null,null,null,2336,4640,145,290,435,580,725,870,1015,1160,1305,1450,1595,1740,1885,2030,2175,2320,2465,2610,2755,2900,3045,3190,3335,3480,3625,3770,3915,4060,4205,4350,4495,4640,4785,4930,5075,5220,5365,5510,5655,5800,5945,6090,6235,6380,6525,6670,6815,6960,7105,7250,7395,7540,7685,7830,7975,8120,8265,8410,8555,8700,8845,8990,9135,9280,9425,9570,9715,9860,10005,10150,10295,10440,10585,10730,10875,11020,11165,11310,11455,11600,11745,11890,12035,12180,12325,12470,12615,12760,12905,13050]
[103,"BX 5U2",1440,null,null,null,null,null,null,null,null,null,null,null,null,null,null,null,2352,4672,146,292,438,584,730,876,1022,1168,1314,1460,1606,1752,1898,2044,2190,2336,2482,2628,2774,2920,3066,3212,3358,3504,3650,3796,3942,4088,4234,4380,4526,4672,4818,4964,5110,5256,5402,5548,5694,5840,5986,6132,6278,6424,6570,6716,6862,7008,7154,7300,7446,7592,7738,7884,8030,8176,8322,8468,8614,8760,8906,9052,9198,9344,9490,9636,9782,9928,10074,10220,10366,10512,10658,10804,10950,11096,11242,11388,11534,11680,11826,11972,12118,12264,12410,12556,12702,12848,12994,13140]
[104,"BX 5U2",1440,null,null,null,null,null,null,null,null,null,null,null,null,null,null,null,2368,4704,147,294,441,588,735,882,1029,1176,1323,1470,1617,1764,1911,2058,2205,2352,2499,2646,2793,2940,3087,3234,3381,3528,3675,3822,3969,4116,4263,4410,4557,4704,4851,4998,5145,5292,5439,5586,5733,5880,6027,6174,6321,6468,6615,6762,6909,7056,7203,7350,7497,7644,7791,7938,8085,8232,8379,8526,8673,8820,8967,9114,9261,9408,9555,9702,9849,9996,10143,10290,10437,10584,10731,10878,11025,11172,11319,11466,11613,11760,11907,12054,12201,12348,12495,12642,12789,12936,13083,13230]
[105,"BX 5U2",1440,null,null,null,null,null,null,null,null,null,null,null,null,null,null,null,2384,4736,148,296,444,592,740,888,1036,1184,1332,1480,1628,1776,1924,2072,2220,2368,2516,2664,2812,2960,3108,3256,3404,3552,3700,3848,3996,4144,4292,4440,4588,4736,4884,5032,5180,5328,5476,5624,5772,5920,6068,6216,6364,6512,6660,6808,6956,7104,7252,7400,7548,7696,7844,7992,8140,8288,8436,8584,8732,8880,9028,9176,9324,9472,9620,9768,9916,10064,10212,10360,10508,10656,10804,10952,11100,11248,11396,11544,11692,11840,11988,12136,12284,12432,12580,12728,12876,13024,13172,13320]
[106,"BX 5U2",1440,null,null,null,null,null,null,null,null,null,null,null,null,null,null,null,2400,4768,149,298,447,596,745,894,1043,1192,1341,1490,1639,1788,1937,2086,2235,2384,2533,2682,2831,2980,3129,3278,3427,3576,3725,3874,4023,4172,4321,4470,4619,4768,4917,5066,5215,5364,5513,5662,5811,5960,6109,6258,6407,6556,6705,6854,7003,7152,7301,7450,7599,7748,7897,8046,8195,8344,8493,8642,8791,8940,9089,9238,9387,9536,9685,9834,9983,10132,10281,10430,10579,10728,10877,11026,11175,11324,11473,11622,11771,11920,12069,12218,12367,12516,12665,12814,12963,13112,13261,13410]
[107,"BX 5U2",1440,null,null,null,null,null,null,null,null,null,null,null,null,null,null,null,2416,4800,150,300,450,600,750,900,1050,1200,1350,1500,1650,1800,1950,2100,2250,2400,2550,2700,2850,3000,3150,3300,3450,3600,3750,3900,4050,4200,4350,4500,4650,4800,4950,5100,5250,5400,5550,5700,5850,6000,6150,6300,6450,6600,6750,6900,7050,7200,7350,7500,7650,7800,7950,8100,8250,8400,8550,8700,8850,9000,9150,9300,9450,9600,9750,9900,10050,10200,10350,10500,10650,10800,10950,11100,11250,11400,11550,11700,11850,12000,12150,12300,12450,12600,12750,12900,13050,13200,13350,13500]
[108,"BX 5U2",1440,null,null,null,null,null,null,null,null,null,null,null,null,null,null,null,2432,4832,151,302,453,604,755,906,1057,1208,1359,1510,1661,1812,1963,2114,2265,2416,2567,2718,2869,3020,3171,3322,3473,3624,3775,3926,4077,4228,4379,4530,4681,4832,4983,5134,5285,5436,5587,5738,5889,6040,6191,6342,6493,6644,6795,6946,7097,7248,7399,7550,7701,7852,8003,8154,8305,8456,8607,8758,8909,9060,9211,9362,9513,9664,9815,9966,10117,10268,10419,10570,10721,10872,11023,11174,11325,11476,11627,11778,11929,12080,12231,12382,12533,12684,12835,12986,13137,13288,13439,13590]
[109,"BX 5U2",1440,null,null,null,null,null,null,null,null,null,null,null,null,null,null,null,2448,4864,152,304,456,608,760,912,1064,1216,1368,1520,1672,1824,1976,2128,2280,2432,2584,2736,2888,3040,3192,3344,3496,3648,3800,3952,4104,4256,4408,4560,4712,4864,5016,5168,5320,5472,5624,5776,5928,6080,6232,6384,6536,6688,6840,6992,7144,7296,7448,7600,7752,7904,8056,8208,8360,8512,8664,8816,8968,9120,9272,9424,9576,9728,9880,10032,10184,10336,10488,10640,10792,10944,11096,11248,11400,11552,11704,11856,12008,12160,12312,12464,12616,12768,12920,13072,13224,13376,13528,13680]
[110,"BX 5U2",1440,null,null,null,null,null,null,null,null,null,null,null,null,null,null,null,2464,4896,153,306,459,612,765,918,1071,1224,1377,1530,1683,1836,1989,2142,2295,2448,2601,2754,2907,3060,3213,3366,3519,3672,3825,3978,4131,4284,4437,4590,4743,4896,5049,5202,5355,5508,5661,5814,5967,6120,6273,6426,6579,6732,6885,7038,7191,7344,7497,7650,7803,7956,8109,8262,8415,8568,8721,8874,9027,9180,9333,9486,9639,9792,9945,10098,10251,10404,10557,10710,10863,11016,11169,11322,11475,11628,11781,11934,12087,12240,12393,12546,12699,12852,13005,13158,13311,13464,13617,13770]
[111,"BX 5U2",1440,null,null,null,null,null,null,null,null,null,null,null,null,null,null,null,2480,4928,154,308,462,616,770,924,1078,1232,1386,1540,1694,1848,2002,2156,2310,2464,2618,2772,2926,3080,3234,3388,3542,3696,3850,4004,4158,4312,4466,4620,4774,4928,5082,5236,5390,5544,5698,5852,6006,6160,6314,6468,6622,6776,6930,7084,7238,7392,7546,7700,7854,8008,8162,8316,8470,8624,8778,8932,9086,9240,9394,9548,9702,9856,10010,10164,10318,10472,10626,10780,10934,11088,11242,11396,11550,11704,11858,12012,12166,12320,12474,12628,12782,12936,13090,13244,13398,13552,13706,13860]
[112,"BX 5U2",1440,null,null,null,null,null,null,null,null,null,null,null,null,null,null,null,2496,4960,155,310,465,620,775,930,1085,1240,1395,1550,1705,1860,2015,2170,2325,2480,2635,2790,2945,3100,3255,3410,3565,3720,3875,4030,4185,4340,4495,4650,4805,4960,5115,5270,5425,5580,5735,5890,6045,6200,6355,6510,6665,6820,6975,7130,7285,7440,7595,7750,7905,8060,8215,8370,8525,8680,8835,8990,9145,9300,9455,9610,9765,9920,10075,10230,10385,10540,10695,10850,11005,11160,11315,11470,11625,11780,11935,12090,12245,12400,12555,12710,12865,13020,13175,13330,13485,13640,13795,13950]
[113,"BX 5U2",1440,null,null,null,null,null,null,null,null,null,null,null,null,null,null,null,2512,4992,156,312,468,624,780,936,1092,1248,1404,1560,1716,1872,2028,2184,2340,2496,2652,2808,2964,3120,3276,3432,3588,3744,3900,4056,4212,4368,4524,4680,4836,4992,5148,5304,5460,5616,5772,5928,6084,6240,6396,6552,6708,6864,7020,7176,7332,7488,7644,7800,7956,8112,8268,8424,8580,8736,8892,9048,9204,9360,9516,9672,9828,9984,10140,10296,10452,10608,10764,10920,11076,11232,11388,11544,11700,11856,12012,12168,12324,12480,12636,12792,12948,13104,13260,13416,13572,13728,13884,14040]
[114,"BX 5U2",1440,null,null,null,null,null,null,null,null,null,null,null,null,null,null,null,2528,5024,157,314,471,628,785,942,1099,1256,1413,1570,1727,1884,2041,2198,2355,2512,2669,2826,2983,3140,3297,3454,3611,3768,3925,4082,4239,4396,4553,4710,4867,5024,5181,5338,5495,5652,5809,5966,6123,6280,6437,6594,6751,6908,7065,7222,7379,7536,7693,7850,8007,8164,8321,8478,8635,8792,8949,9106,9263,9420,9577,9734,9891,10048,10205,10362,10519,10676,10833,10990,11147,11304,11461,11618,11775,11932,12089,12246,12403,12560,12717,12874,13031,13188,13345,13502,13659,13816,13973,14130]
[115,"BX 5U2",1440,null,null,null,null,null,null,null,null,null,null,null,null,null,null,null,2544,5056,158,316,474,632,790,948,1106,1264]
[116,"BX 5U2",1440,null,null,null,null,null,null,null,null,null,null,null,null,null,null,null,2560,5088,159,318,477,636,795,954,1113,1272]
[117,"BX 5U2",1440,null,null,null,null,null,null,null,null,null,null,null,null,null,null,null,2576,5120,160,320,480,640,800,960,1120,1280]
[118,"BX 5U2",1440,null,null,null,null,null,null,null,null,null,null,null,null,null,null,null,2592,5152,161,322,483,644,805,966,1127,1288]
[119,"BX 5U2",1440,null,null,null,null,null,null,null,null,null,null,null,null,null,null,null,2608,5184,162,324,486,648,810,972,1134,1296]
[120,"BX 5U2",1440,null,null,null,null,null,null,null,null,null,null,null,null,null,null,null,2624,5216,163,326,489,652,815,978,1141,1304]
[121,"BX 5U2",1440,null,null,null,null,null,null,null,null,null,null,null,null,null,null,null,2640,5248,164,328,492,656,820,984,1148,1312]
[122,"BX 5U2",1440,null,null,null,null,null,null,null,null,null,null,null,null,null,null,null,2656,5280,165,330,495,660,825,990,1155,1320]
[123,"BX 5U2",1440,null,null,null,null,null,null,null,null,null,null,null,null,null,null,null,2672,5312,166,332,498,664,830,996,1162,1328]
[124,"BX 5U2",1440,null,null,null,null,null,null,null,null,null,null,null,null,null,null,null,2688,5344,167,334,501,668,835,1002,1169,1336]
[125,"BX 5U2",1440,null,null,null,null,null,null,null,null,null,null,null,null,null,null,null,2704,5376,168,336,504,672,840,1008,1176,1344]
[126,"BX 5U2",1440,null,null,null,null,null,null,null,null,null,null,null,null,null,null,null,2720,5408,169,338,507,676,845,1014,1183,1352]
[127,"BX 5U2",1440,null,null,null,null,null,null,null,null,null,null,null,null,null,null,null,2736,5440,170,340,510,680,850,1020,1190,1360]
[128,"BX 5U2",1440,null,null,null,null,null,null,null,null,null,null,null,null,null,null,null,2752,5472,171,342,513,684,855,1026,1197,1368]
[129,"BX 5U3",{"$f":"D212","v":1920},{"$f":"E212*E3","v":1920},30,null,null,null,null,null,null,null,null,null,null,null,null,null,2768,5504,172,344,516,688,860,1032,1204,1376]
[130,"BX 5U3",{"$f":"C212","v":1920},null,null,null,null,null,null,null,null,null,null,null,null,null,null,null,2784,5536,173,346,519,692,865,1038,1211,1384]
[131,"BX 5U3",1920,null,null,null,null,null,null,null,null,null,null,null,null,null,null,null,2800,5568,174,348,522,696,870,1044,1218,1392]
[132,"BX 5U3",1920,null,null,null,null,null,null,null,null,null,null,null,null,null,null,null,2816,5600,175,350,525,700,875,1050,1225,1400]
[133,"BX 5U3",1920,null,null,null,null,null,null,null,null,null,null,null,null,null,null,null,2832,5632,176,352,528,704,880,1056,1232,1408]
[134,"BX 5U3",1920,null,null,null,null,null,null,null,null,null,null,null,null,null,null,null,2848,5664,177,354,531,708,885,1062,1239,1416]
[135,"BX 5U3",1920,null,null,null,null,null,null,null,null,null,null,null,null,null,null,null,null,5696,178,356,534,712,890,1068,1246,1424]
[136,"BX 5U3",1920,null,null,null,null,null,null,null,null,null,null,null,null,null,null,null,null,5728,179,358,537,716,895,1074,1253,1432]
[137,"BX 5U3",1920,null,null,null,null,null,null,null,null,null,null,null,null,null,null,null,null,5760,180,360,540,720,900,1080,1260,1440]
[138,"BX 5U3",1920,null,null,null,null,null,null,null,null,null,null,null,null,null,null,null,null,5792,181,362,543,724,905,1086,1267,1448]
[139,"BX 5U3",1920,null,null,null,null,null,null,null,null,null,null,null,null,null,null,null,null,5824,182,364,546,728,910,1092,1274,1456]
[140,"BX 5U3",1920,null,null,null,null,null,null,null,null,null,null,null,null,null,null,null,null,5856,183,366,549,732,915,1098,1281,1464]
[141,"BX 5U3",1920,null,null,null,null,null,null,null,null,null,null,null,null,null,null,null,null,5888,184,368,552,736,920,1104,1288,1472]
[142,"BX 5U3",1920,null,null,null,null,null,null,null,null,null,null,null,null,null,null,null,null,5920,185,370,555,740,925,1110,1295,1480]
[143,"BX 5U3",1920,null,null,null,null,null,null,null,null,null,null,null,null,null,null,null,null,5952,186,372,558,744,930,1116,1302,1488]
[144,"BX 5U3",1920,null,null,null,null,null,null,null,null,null,null,null,null,null,null,null,null,5984,187,374,561,748,935,1122,1309,1496]
[145,"BX 5U3",1920,null,null,null,null,null,null,null,null,null,null,null,null,null,null,null,null,6016,188,376,564,752,940,1128,1316,1504]
[146,"BX 5U3",1920,null,null,null,null,null,null,null,null,null,null,null,null,null,null,null,null,6048,189,378,567,756,945,1134,1323,1512]
[147,"BX 5U3",1920,null,null,null,null,null,null,null,null,null,null,null,null,null,null,null,null,6080,190,380,570,760,950,1140,1330,1520]
[148,"BX 5U3",1920,null,null,null,null,null,null,null,null,null,null,null,null,null,null,null,null,6112,191,382,573,764,955,1146,1337,1528]
[149,"BX 5U3",1920,null,null,null,null,null,null,null,null,null,null,null,null,null,null,null,null,6144,192,384,576,768,960,1152,1344,1536]
[150,"BX 5U3",1920,null,null,null,null,null,null,null,null,null,null,null,null,null,null,null,null,6176,193,386,579,772,965,1158,1351,1544]
[151,"BX 5U3",1920,null,null,null,null,null,null,null,null,null,null,null,null,null,null,null,null,6208,194,388,582,776,970,1164,1358,1552]
[152,"BX 5U3",1920,null,null,null,null,null,null,null,null,null,null,null,null,null,null,null,null,6240,195,390,585,780,975,1170,1365,1560]
[153,"BX 5U3",1920,null,null,null,null,null,null,null,null,null,null,null,null,null,null,null,null,6272,196,392,588,784,980,1176,1372,1568]
[154,"BX 5U3",1920,null,null,null,null,null,null,null,null,null,null,null,null,null,null,null,null,6304,197,394,591,788,985,1182,1379,1576]
[155,"BX 5U3",1920,null,null,null,null,null,null,null,null,null,null,null,null,null,null,null,null,6336,198,396,594,792,990,1188,1386,1584]
[156,"BX 5U3",1920,null,null,null,null,null,null,null,null,null,null,null,null,null,null,null,null,6368,199,398,597,796,995,1194,1393,1592]
[157,"BX 5U3",1920,null,null,null,null,null,null,null,null,null,null,null,null,null,null,null,null,6400,200,400,600,800,1000,1200,1400,1600]
[158,"BX 5U3",1920,null,null,null,null,null,null,null,null,null,null,null,null,null,null,null,null,6432,201,402,603,804,1005,1206,1407,1608]
[159,"BX 5U3",1920,null,null,null,null,null,null,null,null,null,null,null,null,null,null,null,null,6464,202,404,606,808,1010,1212,1414,1616]
[160,"BX 5U3",1920,null,null,null,null,null,null,null,null,null,null,null,null,null,null,null,null,6496,203,406,609,812,1015,1218,1421,1624]
[161,"BX 5U3",1920,null,null,null,null,null,null,null,null,null,null,null,null,null,null,null,null,6528,204,408,612,816,1020,1224,1428,1632]
[162,"BX 5U3",1920,null,null,null,null,null,null,null,null,null,null,null,null,null,null,null,null,6560,205,410,615,820,1025,1230,1435,1640]
[163,"BX 5U3",1920,null,null,null,null,null,null,null,null,null,null,null,null,null,null,null,null,6592,206,412,618,824,1030,1236,1442,1648]
[164,"BX 5U3",1920,null,null,null,null,null,null,null,null,null,null,null,null,null,null,null,null,6624,207,414,621,828,1035,1242,1449,1656]
[165,"BX 5U3",1920,null,null,null,null,null,null,null,null,null,null,null,null,null,null,null,null,6656,208,416,624,832,1040,1248,1456,1664]
[166,"BX 5U3",1920,null,null,null,null,null,null,null,null,null,null,null,null,null,null,null,null,6688,209,418,627,836,1045,1254,1463,1672]
[167,"BX 5U3",1920,null,null,null,null,null,null,null,null,null,null,null,null,null,null,null,null,6720,210,420,630,840,1050,1260,1470,1680]
[168,"BX 5U3",1920,null,null,null,null,null,null,null,null,null,null,null,null,null,null,null,null,6752,211,422,633,844,1055,1266,1477,1688]
[169,"BX 5U3",1920,null,null,null,null,null,null,null,null,null,null,null,null,null,null,null,null,6784,212,424,636,848,1060,1272,1484,1696]
[170,"BX 5U3",1920,null,null,null,null,null,null,null,null,null,null,null,null,null,null,null,null,6816,213,426,639,852,1065,1278,1491,1704]
[171,"BX 5U3",1920,null,null,null,null,null,null,null,null,null,null,null,null,null,null,null,null,6848,214,428,642,856,1070,1284,1498,1712]
[172,"BX 5U3",1920,null,null,null,null,null,null,null,null,null,null,null,null,null,null,null,null,6880,215,430,645,860,1075,1290,1505,1720]
[173,"BX 5U3",1920,null,null,null,null,null,null,null,null,null,null,null,null,null,null,null,null,6912,216,432,648,864,1080,1296,1512,1728]
[174,"BX 5U3",1920,null,null,null,null,null,null,null,null,null,null,null,null,null,null,null,null,6944,217,434,651,868,1085,1302,1519,1736]
[175,"BX 5U3",1920,null,null,null,null,null,null,null,null,null,null,null,null,null,null,null,null,6976,218,436,654,872,1090,1308,1526,1744]
[176,"BX 5U3",1920,null,null,null,null,null,null,null,null,null,null,null,null,null,null,null,null,7008,219,438,657,876,1095,1314,1533,1752]
[177,"BX 5U3",1920,null,null,null,null,null,null,null,null,null,null,null,null,null,null,null,null,7040,220,440,660,880,1100,1320,1540,1760]
[178,"BX 5U3",1920,null,null,null,null,null,null,null,null,null,null,null,null,null,null,null,null,7072,221,442,663,884,1105,1326,1547,1768]
[179,"BX 5U3",1920,null,null,null,null,null,null,null,null,null,null,null,null,null,null,null,null,7104,222,444,666,888,1110,1332,1554,1776]
[180,"BX 5U3",1920,null,null,null,null,null,null,null,null,null,null,null,null,null,null,null,null,7136,223,446,669,892,1115,1338,1561,1784]
[181,"BX 5U3",1920,null,null,null,null,null,null,null,null,null,null,null,null,null,null,null,null,7168,224,448,672,896,1120,1344,1568,1792]
[182,"BX 5U3",1920,null,null,null,null,null,null,null,null,null,null,null,null,null,null,null,null,7200,225,450,675,900,1125,1350,1575,1800]
[183,"BX 5U3",1920,null,null,null,null,null,null,null,null,null,null,null,null,null,null,null,null,7232,226,452,678,904,1130,1356,1582,1808]
[184,"BX 5U3",1920,null,null,null,null,null,null,null,null,null,null,null,null,null,null,null,null,7264,227,454,681,908,1135,1362,1589,1816]
[185,"BX 5U3",1920,null,null,null,null,null,null,null,null,null,null,null,null,null,null,null,null,7296,228,456,684,912,1140,1368,1596,1824]
[186,"BX 5U3",1920,null,null,null,null,null,null,null,null,null,null,null,null,null,null,null,null,7328,229,458,687,916,1145,1374,1603,1832]
[187,"BX 5U3",1920,null,null,null,null,null,null,null,null,null,null,null,null,null,null,null,null,7360,230,460,690,920,1150,1380,1610,1840]
[188,"BX 5U3",1920,null,null,null,null,null,null,null,null,null,null,null,null,null,null,null,null,7392,231,462,693,924,1155,1386,1617,1848]
[189,"BX 5U3",1920,null,null,null,null,null,null,null,null,null,null,null,null,null,null,null,null,7424,232,464,696,928,1160,1392,1624,1856]
[190,"BX 5U3",1920,null,null,null,null,null,null,null,null,null,null,null,null,null,null,null,null,7456,233,466,699,932,1165,1398,1631,1864]
[191,"BX 5U3",1920,null,null,null,null,null,null,null,null,null,null,null,null,null,null,null,null,7488,234,468,702,936,1170,1404,1638,1872]
[192,"BX 5U3",1920,null,null,null,null,null,null,null,null,null,null,null,null,null,null,null,null,7520,235,470,705,940,1175,1410,1645,1880]
[193,"BX 5U3",1920,null,null,null,null,null,null,null,null,null,null,null,null,null,null,null,null,7552,236,472,708,944,1180,1416,1652,1888]
[194,"BX 5U3",{"$f":"C276","v":1920},null,null,null,null,null,null,null,null,null,null,null,null,null,null,null,null,7584,237,474,711,948,1185,1422,1659,1896]
[195,"BX 5U3",1920,null,null,null,null,null,null,null,null,null,null,null,null,null,null,null,null,7616,238,476,714,952,1190,1428,1666,1904]
[196,"BX 5U3",1920,null,null,null,null,null,null,null,null,null,null,null,null,null,null,null,null,7648,239,478,717,956,1195,1434,1673,1912]
[197,"BX 5U3",1920,null,null,null,null,null,null,null,null,null,null,null,null,null,null,null,null,7680,240,480,720,960,1200,1440,1680,1920]
[198,"BX 5U3",1920,null,null,null,null,null,null,null,null,null,null,null,null,null,null,null,null,7712,241,482,723,964,1205,1446,1687,1928]
[199,"BX 5U3",1920,null,null,null,null,null,null,null,null,null,null,null,null,null,null,null,null,7744,242,484,726,968,1210,1452,1694,1936]
[200,"BX 5U3",1920,null,null,null,null,null,null,null,null,null,null,null,null,null,null,null,null,7776,243,486,729,972,1215,1458,1701,1944]
[201,"BX 5U3",1920,null,null,null,null,null,null,null,null,null,null,null,null,null,null,null,null,7808,244,488,732,976,1220,1464,1708,1952]
[202,"BX 5U3",1920,null,null,null,null,null,null,null,null,null,null,null,null,null,null,null,null,7840,245,490,735,980,1225,1470,1715,1960]
[203,"BX 5U3",1920,null,null,null,null,null,null,null,null,null,null,null,null,null,null,null,null,7872,246,492,738,984,1230,1476,1722,1968]
[204,"BX 5U3",1920,null,null,null,null,null,null,null,null,null,null,null,null,null,null,null,null,7904,247,494,741,988,1235,1482,1729,1976]
[205,"BX 5U3",1920,null,null,null,null,null,null,null,null,null,null,null,null,null,null,null,null,7936,248,496,744,992,1240,1488,1736,1984]
[206,"BX 5U3",1920,null,null,null,null,null,null,null,null,null,null,null,null,null,null,null,null,7968,249,498,747,996,1245,1494,1743,1992]
[207,"BX 5U3",1920,null,null,null,null,null,null,null,null,null,null,null,null,null,null,null,null,8000,250,500,750,1000,1250,1500,1750,2000]
[208,"BX 5U3",1920,null,null,null,null,null,null,null,null,null,null,null,null,null,null,null,null,8032,251,502,753,1004,1255,1506,1757,2008]
[209,"BX 5U3",1920,null,null,null,null,null,null,null,null,null,null,null,null,null,null,null,null,8064,252,504,756,1008,1260,1512,1764,2016]
[210,"BX 5U3",1920,null,null,null,null,null,null,null,null,null,null,null,null,null,null,null,null,8096,253,506,759,1012,1265,1518,1771,2024]
[211,"BX 5U3",1920,null,null,null,null,null,null,null,null,null,null,null,null,null,null,null,null,8128,254,508,762,1016,1270,1524,1778,2032]
[212,"BX 5U3",1920,null,null,null,null,null,null,null,null,null,null,null,null,null,null,null,null,8160,255,510,765,1020,1275,1530,1785,2040]
[213,"BX 5U3",1920,null,null,null,null,null,null,null,null,null,null,null,null,null,null,null,null,8192,256,512,768,1024,1280,1536,1792,2048]
[214,"BX 5U3",1920]
[215,"BX 5U3",1920]
[216,"BX 5U3",1920]
[217,"BX 5U3",1920]
[218,"BX 5U3",1920]
[219,"BX 5U3",1920]
[220,"BX 5U3",1920]
[221,"BX 5U3",1920]
[222,"BX 5U3",1920]
[223,"BX 5U3",1920]
[224,"BX 5U3",1920]
[225,"BX 5U3",1920]
[226,"BX 5U3",1920]
[227,"BX 5U3",1920]
[228,"BX 5U3",1920]
[229,"BX 5U3",1920]
[230,"BX 5U3",1920]
[231,"BX 5U3",1920]
[232,"BX 5U3",1920]
[233,"BX 5U3",1920]
[234,"BX 5U3",1920]
[235,"BX 5U3",1920]
[236,"BX 5U3",1920]
[237,"BX 5U3",1920]
[238,"BX 5U3",1920]
[239,"BX 5U3",1920]
[240,"BX 5U3",1920]
[241,"BX 5U3",1920]
[242,"BX 5U3",1920]
[243,"BX 5U3",1920]
[244,"BX 5U3",1920]
[245,"BX 5U3",1920]
[246,"BX 5U3",1920]
[247,"BX 5U3",1920]
[248,"BX 5U3",1920]
[249,"BX 5U3",1920]
[250,"BX 5U3",1920]
[251,"BX 5U3",1920]
[252,"BX 5U3",1920]
[253,"BX 5U3",1920]
[254,"BX 5U3",1920]
[255,"BX 5U3",1920]
[256,"BX 5U3",1920]
[257,"BX 5U4",{"$f":"D340","v":2304},{"$f":"E340*E3","v":2304},36]
[258,"BX 5U4",{"$f":"C340","v":2304}]
[259,"BX 5U4",{"$f":"C341","v":2304},null,950,16,60]
[260,"BX 5U4",2304,null,2880,32,{"$f":"E343/F343","v":90},{"$f":"G343*G342","v":5400}]
[261,"BX 5U4",2304]
[262,"BX 5U4",2304]
[263,"BX 5U4",2304]
[264,"BX 5U4",2304]
[265,"BX 5U4",2304]
[266,"BX 5U4",2304]
[267,"BX 5U4",2304]
[268,"BX 5U4",2304]
[269,"BX 5U4",2304]
[270,"BX 5U4",2304]
[271,"BX 5U4",2304]
[272,"BX 5U4",2304]
[273,"BX 5U4",2304]
[274,"BX 5U4",2304]
[275,"BX 5U4",2304]
[276,"BX 5U4",2304]
[277,"BX 5U4",2304]
[278,"BX 5U4",2304]
[279,"BX 5U4",2304]
[280,"BX 5U4",2304]
[281,"BX 5U4",2304]
[282,"BX 5U4",2304]
[283,"BX 5U4",2304]
[284,"BX 5U4",2304]
[285,"BX 5U4",2304]
[286,"BX 5U4",2304]
[287,"BX 5U4",2304]
[288,"BX 5U4",2304]
[289,"BX 5U4",2304]
[290,"BX 5U4",2304]
[291,"BX 5U4",2304]
[292,"BX 5U4",2304]
[293,"BX 5U4",2304]
[294,"BX 5U4",2304]
[295,"BX 5U4",2304]
[296,"BX 5U4",2304]
[297,"BX 5U4",2304]
[298,"BX 5U4",2304]
[299,"BX 5U4",2304]
[300,"BX 5U4",2304]
[301,"BX 5U4",2304]
[302,"BX 5U4",2304]
[303,"BX 5U4",2304]
[304,"BX 5U4",2304]
[305,"BX 5U4",2304]
[306,"BX 5U4",2304]
[307,"BX 5U4",2304]
[308,"BX 5U4",2304]
[309,"BX 5U4",2304]
[310,"BX 5U4",2304]
[311,"BX 5U4",2304]
[312,"BX 5U4",2304]
[313,"BX 5U4",2304]
[314,"BX 5U4",2304]
[315,"BX 5U4",2304]
[316,"BX 5U4",2304]
[317,"BX 5U4",2304]
[318,"BX 5U4",2304]
[319,"BX 5U4",2304]
[320,"BX 5U4",2304]
[321,"BX 5U4",2304]
[322,"BX 5U4",2304]
[323,"BX 5U4",{"$f":"C405","v":2304}]
[324,"BX 5U4",2304]
[325,"BX 5U4",2304]
[326,"BX 5U4",2304]
[327,"BX 5U4",2304]
[328,"BX 5U4",2304]
[329,"BX 5U4",2304]
[330,"BX 5U4",2304]
[331,"BX 5U4",2304]
[332,"BX 5U4",2304]
[333,"BX 5U4",2304]
[334,"BX 5U4",2304]
[335,"BX 5U4",2304]
[336,"BX 5U4",2304]
[337,"BX 5U4",{"$f":"C419","v":2304}]
[338,"BX 5U4",{"$f":"C420","v":2304}]
[339,"BX 5U4",{"$f":"C421","v":2304}]
[340,"BX 5U4",2304]
[341,"BX 5U4",2304]
[342,"BX 5U4",2304]
[343,"BX 5U4",2304]
[344,"BX 5U4",2304]
[345,"BX 5U4",2304]
[346,"BX 5U4",2304]
[347,"BX 5U4",2304]
[348,"BX 5U4",2304]
[349,"BX 5U4",2304]
[350,"BX 5U4",2304]
[351,"BX 5U4",2304]
[352,"BX 5U4",2304]
[353,"BX 5U4",2304]
[354,"BX 5U4",2304]
[355,"BX 5U4",2304]
[356,"BX 5U4",2304]
[357,"BX 5U4",2304]
[358,"BX 5U4",2304]
[359,"BX 5U4",2304]
[360,"BX 5U4",2304]
[361,"BX 5U4",2304]
[362,"BX 5U4",2304]
[363,"BX 5U4",2304]
[364,"BX 5U4",2304]
[365,"BX 5U4",2304]
[366,"BX 5U4",2304]
[367,"BX 5U4",2304]
[368,"BX 5U4",2304]
[369,"BX 5U4",2304]
[370,"BX 5U4",2304]
[371,"BX 5U4",2304]
[372,"BX 5U4",2304]
[373,"BX 5U4",2304]
[374,"BX 5U4",2304]
[375,"BX 5U4",2304]
[376,"BX 5U4",2304]
[377,"BX 5U4",2304]
[378,"BX 5U4",2304]
[379,"BX 5U4",2304]
[380,"BX 5U4",2304]
[381,"BX 5U4",2304]
[382,"BX 5U4",2304]
[383,"BX 5U4",2304]
[384,"BX 5U4",2304]
[385,"BX 5U4",2304]
[386,"BX 5U4",2304]
[387,"BX 5U4",2304]
[388,"BX 5U4",2304]
[389,"BX 5U4",2304]
[390,"BX 5U4",2304]
[391,"BX 5U4",2304]
[392,"BX 5U4",2304]
[393,"BX 5U4",2304]
[394,"BX 5U4",2304]
[395,"BX 5U4",2304]
[396,"BX 5U4",2304]
[397,"BX 5U4",2304]
[398,"BX 5U4",2304]
[399,"BX 5U4",2304]
[400,"BX 5U4",2304]
[401,"BX 5U4",2304]
[402,"BX 5U4",2304]
[403,"BX 5U4",{"$f":"C485","v":2304}]
[404,"BX 5U4",2304]
[405,"BX 5U4",2304]
[406,"BX 5U4",2304]
[407,"BX 5U4",2304]
[408,"BX 5U4",2304]
[409,"BX 5U4",2304]
[410,"BX 5U4",2304]
[411,"BX 5U4",2304]
[412,"BX 5U4",2304]
[413,"BX 5U4",2304]
[414,"BX 5U4",2304]
[415,"BX 5U4",2304]
[416,"BX 5U4",2304]
[417,"BX 5U4",2304]
[418,"BX 5U4",2304]
[419,"BX 5U4",2304]
[420,"BX 5U4",2304]
[421,"BX 5U4",2304]
[422,"BX 5U4",2304]
[423,"BX 5U4",2304]
[424,"BX 5U4",2304]
[425,"BX 5U4",2304]
[426,"BX 5U4",2304]
[427,"BX 5U4",2304]
[428,"BX 5U4",2304]
[429,"BX 5U4",2304]
[430,"BX 5U4",2304]
[431,"BX 5U4",2304]
[432,"BX 5U4",2304]
[433,"BX 5U4",2304]
[434,"BX 5U4",2304]
[435,"BX 5U4",2304]
[436,"BX 5U4",2304]
[437,"BX 5U4",2304]
[438,"BX 5U4",2304]
[439,"BX 5U4",2304]
[440,"BX 5U4",2304]
[441,"BX 5U4",2304]
[442,"BX 5U4",2304]
[443,"BX 5U4",2304]
[444,"BX 5U4",2304]
[445,"BX 5U4",2304]
[446,"BX 5U4",2304]
[447,"BX 5U4",2304]
[448,"BX 5U4",2304]
[449,"BX 5U4",2304]
[450,"BX 5U4",2304]
[451,"BX 5U4",2304]
[452,"BX 5U4",2304]
[453,"BX 5U4",2304]
[454,"BX 5U4",2304]
[455,"BX 5U4",2304]
[456,"BX 5U4",2304]
[457,"BX 5U4",2304]
[458,"BX 5U4",2304]
[459,"BX 5U4",2304]
[460,"BX 5U4",2304]
[461,"BX 5U4",2304]
[462,"BX 5U4",2304]
[463,"BX 5U4",2304]
[464,"BX 5U4",2304]
[465,"BX 5U4",2304]
[466,"BX 5U4",2304]
[467,"BX 5U4",{"$f":"C549","v":2304}]
[468,"BX 5U4",2304]
[469,"BX 5U4",2304]
[470,"BX 5U4",2304]
[471,"BX 5U4",2304]
[472,"BX 5U4",2304]
[473,"BX 5U4",2304]
[474,"BX 5U4",2304]
[475,"BX 5U4",2304]
[476,"BX 5U4",2304]
[477,"BX 5U4",2304]
[478,"BX 5U4",2304]
[479,"BX 5U4",2304]
[480,"BX 5U4",2304]
[481,"BX 5U4",2304]
[482,"BX 5U4",2304]
[483,"BX 5U4",2304]
[484,"BX 5U4",2304]
[485,"BX 5U4",2304]
[486,"BX 5U4",2304]
[487,"BX 5U4",2304]
[488,"BX 5U4",2304]
[489,"BX 5U4",2304]
[490,"BX 5U4",2304]
[491,"BX 5U4",2304]
[492,"BX 5U4",2304]
[493,"BX 5U4",2304]
[494,"BX 5U4",2304]
[495,"BX 5U4",2304]
[496,"BX 5U4",2304]
[497,"BX 5U4",2304]
[498,"BX 5U4",2304]
[499,"BX 5U4",2304]
[500,"BX 5U4",2304]
[501,"BX 5U4",2304]
[502,"BX 5U4",2304]
[503,"BX 5U4",2304]
[504,"BX 5U4",2304]
[505,"BX 5U4",2304]
[506,"BX 5U4",2304]
[507,"BX 5U4",2304]
[508,"BX 5U4",2304]
[509,"BX 5U4",2304]
[510,"BX 5U4",2304]
[511,"BX 5U4",2304]
[512,"BX 5U4",2304]
[513,"BX 5U4",2304]
[514,"BX 5U4",2304]
[515,"BX 5U4",2304]
[516,"BX 5U4",2304]
[517,"BX 5U4",2304]
[518,"BX 5U4",2304]
[519,"BX 5U4",2304]
[520,"BX 5U4",2304]
[521,"BX 5U4",2304]
[522,"BX 5U4",2304]
[523,"BX 5U4",2304]
[524,"BX 5U4",2304]
[525,"BX 5U4",2304]
[526,"BX 5U4",2304]
[527,"BX 5U4",2304]
[528,"BX 5U4",2304]
[529,"BX 5U4",2304]
[530,"BX 5U4",2304]
[531,"BX 5U4",{"$f":"C613","v":2304}]
[532,"BX 5U4",2304]
[533,"BX 5U4",2304]
[534,"BX 5U4",2304]
[535,"BX 5U4",2304]
[536,"BX 5U4",2304]
[537,"BX 5U4",2304]
[538,"BX 5U4",2304]
[539,"BX 5U4",2304]
[540,"BX 5U4",2304]
[541,"BX 5U4",2304]
[542,"BX 5U4",2304]
[543,"BX 5U4",2304]
[544,"BX 5U4",2304]
[545,"BX 5U4",2304]
[546,"BX 5U4",2304]
[547,"BX 5U4",2304]
[548,"BX 5U4",2304]
[549,"BX 5U4",2304]
[550,"BX 5U4",2304]
[551,"BX 5U4",2304]
[552,"BX 5U4",2304]
[553,"BX 5U4",2304]
[554,"BX 5U4",2304]
[555,"BX 5U4",2304]
[556,"BX 5U4",2304]
[557,"BX 5U4",2304]
[558,"BX 5U4",2304]
[559,"BX 5U4",2304]
[560,"BX 5U4",2304]
[561,"BX 5U4",2304]
[562,"BX 5U4",2304]
[563,"BX 5U4",2304]
[564,"BX 5U4",2304]
[565,"BX 5U4",2304]
[566,"BX 5U4",2304]
[567,"BX 5U4",2304]
[568,"BX 5U4",2304]
[569,"BX 5U4",2304]
[570,"BX 5U4",2304]
[571,"BX 5U4",2304]
[572,"BX 5U4",2304]
[573,"BX 5U4",2304]
[574,"BX 5U4",2304]
[575,"BX 5U4",2304]
[576,"BX 5U4",2304]
[577,"BX 5U4",2304]
[578,"BX 5U4",2304]
[579,"BX 5U4",2304]
[580,"BX 5U4",2304]
[581,"BX 5U4",2304]
[582,"BX 5U4",2304]
[583,"BX 5U4",2304]
[584,"BX 5U4",2304]
[585,"BX 5U4",2304]
[586,"BX 5U4",2304]
[587,"BX 5U4",2304]
[588,"BX 5U4",2304]
[589,"BX 5U4",2304]
[590,"BX 5U4",2304]
[591,"BX 5U4",2304]
[592,"BX 5U4",2304]
[593,"BX 5U4",2304]
[594,"BX 5U4",2304]
[595,"BX 5U4",{"$f":"C677","v":2304}]
[596,"BX 5U4",2304]
[597,"BX 5U4",2304]
[598,"BX 5U4",2304]
[599,"BX 5U4",2304]
[600,"BX 5U4",2304]
[601,"BX 5U4",2304]
[602,"BX 5U4",2304]
[603,"BX 5U4",2304]
[604,"BX 5U4",2304]
[605,"BX 5U4",2304]
[606,"BX 5U4",2304]
[607,"BX 5U4",2304]
[608,"BX 5U4",2304]
[609,"BX 5U4",2304]
[610,"BX 5U4",2304]
[611,"BX 5U4",2304]
[612,"BX 5U4",2304]
[613,"BX 5U4",2304]
[614,"BX 5U4",2304]
[615,"BX 5U4",2304]
[616,"BX 5U4",2304]
[617,"BX 5U4",2304]
[618,"BX 5U4",2304]
[619,"BX 5U4",2304]
[620,"BX 5U4",2304]
[621,"BX 5U4",2304]
[622,"BX 5U4",2304]
[623,"BX 5U4",2304]
[624,"BX 5U4",2304]
[625,"BX 5U4",2304]
[626,"BX 5U4",2304]
[627,"BX 5U4",2304]
[628,"BX 5U4",2304]
[629,"BX 5U4",2304]
[630,"BX 5U4",2304]
[631,"BX 5U4",2304]
[632,"BX 5U4",2304]
[633,"BX 5U4",2304]
[634,"BX 5U4",2304]
[635,"BX 5U4",2304]
[636,"BX 5U4",2304]
[637,"BX 5U4",2304]
[638,"BX 5U4",2304]
[639,"BX 5U4",2304]
[640,"BX 5U4",2304]
[641,"BX 5U4",2304]
[642,"BX 5U4",2304]
[643,"BX 5U4",2304]
[644,"BX 5U4",2304]
[645,"BX 5U4",2304]
[646,"BX 5U4",2304]
[647,"BX 5U4",2304]
[648,"BX 5U4",2304]
[649,"BX 5U4",2304]
[650,"BX 5U4",2304]
[651,"BX 5U4",2304]
[652,"BX 5U4",2304]
[653,"BX 5U4",2304]
[654,"BX 5U4",2304]
[655,"BX 5U4",2304]
[656,"BX 5U4",2304]
[657,"BX 5U4",2304]
[658,"BX 5U4",2304]
[659,"BX 5U4",{"$f":"C741","v":2304}]
[660,"BX 5U4",2304]
[661,"BX 5U4",2304]
[662,"BX 5U4",2304]
[663,"BX 5U4",2304]
[664,"BX 5U4",2304]
[665,"BX 5U4",2304]
[666,"BX 5U4",2304]
[667,"BX 5U4",2304]
[668,"BX 5U4",2304]
[669,"BX 5U4",2304]
[670,"BX 5U4",2304]
[671,"BX 5U4",2304]
[672,"BX 5U4",2304]
[673,"BX 5U4",2304]
[674,"BX 5U4",2304]
[675,"BX 5U4",2304]
[676,"BX 5U4",2304]
[677,"BX 5U4",2304]
[678,"BX 5U4",2304]
[679,"BX 5U4",2304]
[680,"BX 5U4",2304]
[681,"BX 5U4",2304]
[682,"BX 5U4",2304]
[683,"BX 5U4",2304]
[684,"BX 5U4",2304]
[685,"BX 5U4",2304]
[686,"BX 5U4",2304]
[687,"BX 5U4",2304]
[688,"BX 5U4",2304]
[689,"BX 5U4",2304]
[690,"BX 5U4",2304]
[691,"BX 5U4",2304]
[692,"BX 5U4",2304]
[693,"BX 5U4",2304]
[694,"BX 5U4",2304]
[695,"BX 5U4",2304]
[696,"BX 5U4",2304]
[697,"BX 5U4",2304]
[698,"BX 5U4",2304]
[699,"BX 5U4",2304]
[700,"BX 5U4",2304]
[701,"BX 5U4",2304]
[702,"BX 5U4",2304]
[703,"BX 5U4",2304]
[704,"BX 5U4",2304]
[705,"BX 5U4",2304]
[706,"BX 5U4",2304]
[707,"BX 5U4",2304]
[708,"BX 5U4",2304]
[709,"BX 5U4",2304]
[710,"BX 5U4",2304]
[711,"BX 5U4",2304]
[712,"BX 5U4",2304]
[713,"BX 5U4",2304]
[714,"BX 5U4",2304]
[715,"BX 5U4",2304]
[716,"BX 5U4",2304]
[717,"BX 5U4",2304]
[718,"BX 5U4",2304]
[719,"BX 5U4",2304]
[720,"BX 5U4",2304]
[721,"BX 5U4",2304]
[722,"BX 5U4",2304]
[723,"BX 5U4",{"$f":"C805","v":2304}]
[724,"BX 5U4",2304]
[725,"BX 5U4",2304]
[726,"BX 5U4",2304]
[727,"BX 5U4",2304]
[728,"BX 5U4",2304]
[729,"BX 5U4",2304]
[730,"BX 5U4",2304]
[731,"BX 5U4",2304]
[732,"BX 5U4",2304]
[733,"BX 5U4",2304]
[734,"BX 5U4",2304]
[735,"BX 5U4",2304]
[736,"BX 5U4",2304]
[737,"BX 5U4",2304]
[738,"BX 5U4",2304]
[739,"BX 5U4",2304]
[740,"BX 5U4",2304]
[741,"BX 5U4",2304]
[742,"BX 5U4",2304]
[743,"BX 5U4",2304]
[744,"BX 5U4",2304]
[745,"BX 5U4",2304]
[746,"BX 5U4",2304]
[747,"BX 5U4",2304]
[748,"BX 5U4",2304]
[749,"BX 5U4",2304]
[750,"BX 5U4",2304]
[751,"BX 5U4",2304]
[752,"BX 5U4",2304]
[753,"BX 5U4",2304]
[754,"BX 5U4",2304]
[755,"BX 5U4",2304]
[756,"BX 5U4",2304]
[757,"BX 5U4",2304]
[758,"BX 5U4",2304]
[759,"BX 5U4",2304]
[760,"BX 5U4",2304]
[761,"BX 5U4",2304]
[762,"BX 5U4",2304]
[763,"BX 5U4",2304]
[764,"BX 5U4",2304]
[765,"BX 5U4",2304]
[766,"BX 5U4",2304]
[767,"BX 5U4",2304]
[768,"BX 5U4",2304]
[769,"BX 5U4",2304]
[770,"BX 5U4",2304]
[771,"BX 5U4",2304]
[772,"BX 5U4",2304]
[773,"BX 5U4",2304]
[774,"BX 5U4",2304]
[775,"BX 5U4",2304]
[776,"BX 5U4",2304]
[777,"BX 5U4",2304]
[778,"BX 5U4",2304]
[779,"BX 5U4",2304]
[780,"BX 5U4",2304]
[781,"BX 5U4",2304]
[782,"BX 5U4",2304]
[783,"BX 5U4",2304]
[784,"BX 5U4",2304]
[785,"BX 5U4",2304]
[786,"BX 5U4",2304]
[787,"BX 5U4",{"$f":"C869","v":2304}]
[788,"BX 5U4",2304]
[789,"BX 5U4",2304]
[790,"BX 5U4",2304]
[791,"BX 5U4",2304]
[792,"BX 5U4",2304]
[793,"BX 5U4",2304]
[794,"BX 5U4",2304]
[795,"BX 5U4",2304]
[796,"BX 5U4",2304]
[797,"BX 5U4",2304]
[798,"BX 5U4",2304]
[799,"BX 5U4",2304]
[800,"BX 5U4",2304]
[801,"BX 5U4",2304]
[802,"BX 5U4",2304]
[803,"BX 5U4",2304]
[804,"BX 5U4",2304]
[805,"BX 5U4",2304]
[806,"BX 5U4",2304]
[807,"BX 5U4",2304]
[808,"BX 5U4",2304]
[809,"BX 5U4",2304]
[810,"BX 5U4",2304]
[811,"BX 5U4",2304]
[812,"BX 5U4",2304]
[813,"BX 5U4",2304]
[814,"BX 5U4",2304]
[815,"BX 5U4",2304]
[816,"BX 5U4",2304]
[817,"BX 5U4",2304]
[818,"BX 5U4",2304]
[819,"BX 5U4",2304]
[820,"BX 5U4",2304]
[821,"BX 5U4",2304]
[822,"BX 5U4",2304]
[823,"BX 5U4",2304]
[824,"BX 5U4",2304]
[825,"BX 5U4",2304]
[826,"BX 5U4",2304]
[827,"BX 5U4",2304]
[828,"BX 5U4",2304]
[829,"BX 5U4",2304]
[830,"BX 5U4",2304]
[831,"BX 5U4",2304]
[832,"BX 5U4",2304]
[833,"BX 5U4",2304]
[834,"BX 5U4",2304]
[835,"BX 5U4",2304]
[836,"BX 5U4",2304]
[837,"BX 5U4",2304]
[838,"BX 5U4",2304]
[839,"BX 5U4",2304]
[840,"BX 5U4",2304]
[841,"BX 5U4",2304]
[842,"BX 5U4",2304]
[843,"BX 5U4",2304]
[844,"BX 5U4",2304]
[845,"BX 5U4",2304]
[846,"BX 5U4",2304]
[847,"BX 5U4",2304]
[848,"BX 5U4",2304]
[849,"BX 5U4",2304]
[850,"BX 5U4",2304]
[851,"BX 5U4",{"$f":"C933","v":2304}]
[852,"BX 5U4",2304]
[853,"BX 5U4",2304]
[854,"BX 5U4",2304]
[855,"BX 5U4",2304]
[856,"BX 5U4",2304]
[857,"BX 5U4",2304]
[858,"BX 5U4",2304]
[859,"BX 5U4",2304]
[860,"BX 5U4",2304]
[861,"BX 5U4",2304]
[862,"BX 5U4",2304]
[863,"BX 5U4",2304]
[864,"BX 5U4",2304]
[865,"BX 5U4",2304]
[866,"BX 5U4",2304]
[867,"BX 5U4",2304]
[868,"BX 5U4",2304]
[869,"BX 5U4",2304]
[870,"BX 5U4",2304]
[871,"BX 5U4",2304]
[872,"BX 5U4",2304]
[873,"BX 5U4",2304]
[874,"BX 5U4",2304]
[875,"BX 5U4",2304]
[876,"BX 5U4",2304]
[877,"BX 5U4",2304]
[878,"BX 5U4",2304]
[879,"BX 5U4",2304]
[880,"BX 5U4",2304]
[881,"BX 5U4",2304]
[882,"BX 5U4",2304]
[883,"BX 5U4",2304]
[884,"BX 5U4",2304]
[885,"BX 5U4",2304]
[886,"BX 5U4",2304]
[887,"BX 5U4",2304]
[888,"BX 5U4",2304]
[889,"BX 5U4",2304]
[890,"BX 5U4",2304]
[891,"BX 5U4",2304]
[892,"BX 5U4",2304]
[893,"BX 5U4",2304]
[894,"BX 5U4",2304]
[895,"BX 5U4",2304]
[896,"BX 5U4",2304]
[897,"BX 5U4",2304]
[898,"BX 5U4",2304]
[899,"BX 5U4",2304]
[900,"BX 5U4",2304]
[901,"BX 5U4",2304]
[902,"BX 5U4",2304]
[903,"BX 5U4",2304]
[904,"BX 5U4",2304]
[905,"BX 5U4",2304]
[906,"BX 5U4",2304]
[907,"BX 5U4",2304]
[908,"BX 5U4",2304]
[909,"BX 5U4",2304]
[910,"BX 5U4",2304]
[911,"BX 5U4",2304]
[912,"BX 5U4",2304]
[913,"BX 5U4",2304]
[914,"BX 5U4",2304]
[915,"BX 5U4",{"$f":"C997","v":2304}]
[916,"BX 5U4",2304]
[917,"BX 5U4",2304]
[918,"BX 5U4",2304]
[919,"BX 5U4",2304]
[920,"BX 5U4",2304]
[921,"BX 5U4",2304]
[922,"BX 5U4",2304]
[923,"BX 5U4",2304]
[924,"BX 5U4",2304]
[925,"BX 5U4",2304]
[926,"BX 5U4",2304]
[927,"BX 5U4",2304]
[928,"BX 5U4",2304]
[929,"BX 5U4",2304]
[930,"BX 5U4",2304]
[931,"BX 5U4",2304]
[932,"BX 5U4",2304]
[933,"BX 5U4",2304]
[934,"BX 5U4",2304]
[935,"BX 5U4",2304]
[936,"BX 5U4",2304]
[937,"BX 5U4",2304]
[938,"BX 5U4",2304]
[939,"BX 5U4",2304]
[940,"BX 5U4",2304]
[941,"BX 5U4",2304]
[942,"BX 5U4",2304]
[943,"BX 5U4",2304]
[944,"BX 5U4",2304]
[945,"BX 5U4",2304]
[946,"BX 5U4",2304]
[947,"BX 5U4",2304]
[948,"BX 5U4",2304]
[949,"BX 5U4",2304]
[950,"BX 5U4",2304]
[951,"BX 5U4",2304]
[952,"BX 5U4",2304]
[953,"BX 5U4",2304]
[954,"BX 5U4",2304]
[955,"BX 5U4",2304]
[956,"BX 5U4",2304]
[957,"BX 5U4",2304]
[958,"BX 5U4",2304]
[959,"BX 5U4",2304]
[960,"BX 5U4",2304]
[961,"BX 5U4",2304]
[962,"BX 5U4",2304]
[963,"BX 5U4",2304]
[964,"BX 5U4",2304]
[965,"BX 5U4",2304]
[966,"BX 5U4",2304]
[967,"BX 5U4",2304]
[968,"BX 5U4",2304]
[969,"BX 5U4",2304]
[970,"BX 5U4",2304]
[971,"BX 5U4",2304]
[972,"BX 5U4",2304]
[973,"BX 5U4",2304]
[974,"BX 5U4",2304]
[975,"BX 5U4",2304]
[976,"BX 5U4",2304]
[977,"BX 5U4",2304]
[978,"BX 5U4",2304]
[979,"BX 5U4",{"$f":"C1061","v":2304}]
[980,"BX 5U4",2304]
[981,"BX 5U4",2304]
[982,"BX 5U4",2304]
[983,"BX 5U4",2304]
[984,"BX 5U4",2304]
[985,"BX 5U4",2304]
[986,"BX 5U4",2304]
[987,"BX 5U4",2304]
[988,"BX 5U4",2304]
[989,"BX 5U4",2304]
[990,"BX 5U4",2304]
[991,"BX 5U4",2304]
[992,"BX 5U4",2304]
[993,"BX 5U4",2304]
[994,"BX 5U4",2304]
[995,"BX 5U4",2304]
[996,"BX 5U4",2304]
[997,"BX 5U4",2304]
[998,"BX 5U4",2304]
[999,"BX 5U4",2304]
[1000,"BX 5U4",2304]

{"sheet":"Таблички","index":2,"n_rows":32,"n_cols":26,"rows_kept":32,"cut":false,"hidden":true,"merged":[[19,20,19,21],[5,6,6,6],[5,7,6,19],[9,20,9,25],[10,2,10,3],[10,4,10,6],[10,20,10,21],[10,23,11,23],[7,6,8,18],[5,5,6,5],[0,1,1,3],[3,1,3,3],[5,1,6,1],[5,2,5,3],[5,4,6,4],[24,1,25,2],[13,2,13,3],[16,2,16,3],[17,2,17,3],[18,2,18,3],[19,2,19,3]]}
[null,"Рекламно производственная компания \"Белый Сокол\""]
[]
[]
[null,"Нестандартные таблички от 1 м2"]
[]
[null,"Количество","Размер в см.",null,"Площадь м2"]
[null,null,"Ширина","Высота"]
[null,1,30,20,{"$f":"C8*D8/10000","v":0.06}]
[]
[null,null,null,null,null,null,null,null,null,null,null,null,null,null,null,null,null,null,null,null,"Стандартные таблички"]
[null,"Материал:","Профиль",null,"Карманы 1",null,null,null,"Карманы 2",null,null,"Карманы 3",null,null,null,null,null,null,null,null,"Стенды",null,null,"Кол-во"]
[null,null,null,null,null,null,null,null,null,null,null,null,null,null,null,null,null,null,null,null,"Карманы","Размеры"]
[null,null,null,null,null,null,null,null,null,null,null,null,null,null,null,null,null,null,null,null,1,"30х45",null,null,{"$f":"FALSE","v":false},{"$f":"IF(Y13,300)*X13","v":0}]
[null,"Рама","Печать. Плоттер.",null,null,"Количество",null,null,"Количество",null,null,"Количество",null,null,null,null,null,null,null,null,2,"60х50",null,null,{"$f":"FALSE","v":false},{"$f":"IF(Y14,650)*X14","v":0}]
[null,null,null,null,null,8,null,null,1,null,null,1,null,null,null,null,null,null,null,null,3,"80х50",null,null,{"$f":"FALSE","v":false},{"$f":"IF(Y15,900)*X15","v":0}]
[null,null,null,null,null,null,null,null,null,null,null,null,null,null,null,null,null,null,null,null,4,"60х80",null,null,{"$f":"FALSE","v":false},{"$f":"IF(Y16,1120)*X16","v":0}]
[null,"Монтаж","Доставка",null,null,null,null,null,null,null,null,null,null,null,null,null,null,null,null,null,6,"80х80",null,1,{"$f":"FALSE","v":false},{"$f":"IF(Y17,1560)*X17","v":0}]
[null,null,"Легковой автомобиль",null,null,null,null,null,null,null,null,null,null,null,null,null,null,null,null,null,8,"105х85",null,null,{"$f":"FALSE","v":false},{"$f":"IF(Y18,1940)*X18","v":0}]
[null,null,null,null,null,null,null,null,null,null,null,null,null,null,null,null,null,null,null,null,10,"130х85",null,0,{"$f":"FALSE","v":false},{"$f":"IF(Y19,2258)*X19","v":0}]
[null,null,"Грузовая ГАЗель",null,null,null,null,null,null,null,null,null,null,null,null,null,null,null,null,null,"Итого",null,null,null,null,{"$f":"SUM(Z13:Z19)","v":0}]
[null,null,null,null,null,null,null,null,null,null,null,null,null,null,null,null,null,null,null,null,null,null,{"$f":"IF(Z20>10000,\"Возможна скидка до 15%\",\"Скидки НЕТ\")","v":"Скидки НЕТ"}]
[null,null,null,"профиль","рама","печать","Доставка легк.","Доставка груз.","Монтаж","Карманы 1","Карманы 2","Карманы 3"]
[null,null,{"$f":"ФТабл.!E4*E8","v":118.9032},{"$f":"IF(ФТабл.!K3=1,ФТабл.!G3*1,IF(ФТабл.!K3=2,ФТабл.!I12,IF(ФТабл.!K3=3,ФТабл.!I13,IF(ФТабл.!K3=4,ФТабл.!I14))))*B8","v":150},{"$f":"IF(ФТабл.!O3=1,ФТабл.!I10=0,IF(ФТабл.!O3=2,ФТабл.!I10*ФТабл.!N6))*B8","v":250},{"$f":"VLOOKUP(ФТабл.!T3,ФТабл.!P3:S10,4,0)*E8","v":2.04},{"$f":"IF(ФТабл.!C33=1,ФТабл.!C34,IF(ФТабл.!C33=2,ФТабл.!C35,IF(ФТабл.!C33=3,ФТабл.!C36,IF(ФТабл.!C33=4,ФТабл.!C37,IF(ФТабл.!C33=5,ФТабл.!C38,IF(ФТабл.!C33=6,ФТабл.!C39,IF(ФТабл.!C33=7,ФТабл.!C40)))))))","v":800},{"$f":"IF(ФТабл.!D33=1,ФТабл.!D34,IF(ФТабл.!D33=2,ФТабл.!D35,IF(ФТабл.!D33=3,ФТабл.!D36,IF(ФТабл.!D33=4,ФТабл.!D37,IF(ФТабл.!D33=5,ФТабл.!D38,IF(ФТабл.!D33=6,ФТабл.!D39,IF(ФТабл.!D33=7,ФТабл.!D40)))))))","v":1800},{"$f":"IF(ФТабл.!D25=1,ФТабл.!C26,IF(ФТабл.!D25=2,ФТабл.!C27,IF(ФТабл.!D25=3,ФТабл.!C28,IF(ФТабл.!D25=4,ФТабл.!E29,IF(ФТабл.!D25=5,ФТабл.!E30)))))*B8","v":800},{"$f":"ФТабл.!N33*Таблички!F15","v":3200},{"$f":"ФТабл.!R33*Таблички!I15","v":400},{"$f":"ФТабл.!U33*Таблички!L15","v":250}]
[null,"Стоимость",{"$f":"C23+D23+E23+F23+G23+H23+ФТабл.!E22+I23+J23+K23+L23","v":7770.9431999999997},{"$f":"C23/E8","v":1981.72}]
[null,{"$f":"IF(C24>20000,\"Возможна скидка до 20%\",\"Возможна скидка до 10%\")","v":"Возможна скидка до 10%"},null,null,"доделать"]
[null,null,null,null,"рама в зависимости от размера разная цена"]
[null,null,null,null,"Баннера"]
[]
[null,null,"Бланк заказа'!A1"]
[]
[]
[null,"пвх"]

{"sheet":"Буквы","index":3,"n_rows":44,"n_cols":11,"rows_kept":44,"cut":false,"hidden":true,"merged":[[6,4,6,6],[7,4,7,6],[1,0,1,10],[2,0,2,10],[3,1,3,2],[3,4,3,6],[4,0,5,0],[4,1,5,1],[4,2,5,2],[4,3,5,3],[4,4,4,6],[4,7,5,7],[4,8,5,8],[4,9,5,9],[4,10,5,10],[5,4,5,6],[8,9,8,10],[10,0,10,1],[11,0,11,3],[11,5,11,7],[13,0,13,3],[14,0,14,3],[14,4,15,4],[14,5,15,5],[14,6,15,6],[15,0,15,3],[22,0,22,8],[23,0,23,5],[24,0,24,5],[25,0,25,7],[16,0,16,3],[17,0,17,3],[18,0,18,3],[19,0,19,2],[20,0,20,5],[21,0,21,5]]}
[]
["Коммерческое предложение на изготовление объемных букв"]
[]
["Буквы",null,null,"Вид букв"]
[null,"Кол-во букв","Высота буквы (ширина)","Цена за 1 см высоты буквы (руб.)","Тип шрифта ",null,null,"\"Золотой\" или \"серебряный\" профиль (наценка - 20%)","Neon 2 нити или LED (15%). Толщина линии буквы от 15 до 30 см.","Сумма","Покраска"]
[null,null,null,null,"(наценка на шрифт: сложный и рукописный – 15%, с засечками – 20%)"]
[null,15,110,{"$f":"ФБуквы!D33","v":144.05234616000001},null,null,null,null,null,{"$f":"ФБуквы!E33+ФБуквы!H33+ФБуквы!I33","v":237686.37116400001}]
[null,1,158,{"$f":"VLOOKUP(ФБуквы!B14,ФБуквы!A20:G28,4,0)","v":144.05234616000001},null,null,null,null,null,{"$f":"ФБуквы!E34+ФБуквы!H34+ФБуквы!I34","v":22760.270693280003}]
[]
[null,null,null,null,null,null,null,"Скидка, %",0,"Итого:",{"$f":"SUM(J7:J8)+SUM(K7:K8)","v":260446.64185728002}]
["Комплектация",null,null,null,null,null,null,null,null,"Итого со скидкой",{"$f":"K10*(100-I10)/100","v":260446.64185728002}]
[]
[null,null,null,null,"Кол-во","Цена за 1 ед.","Сумма"]
[]
[null,null,null,null,null,null,null,null,"Доделать"]
["Cпециальный высоковольтный кабель для питания неоновых трубок Италия"]
["Жесткая упаковка",null,null,null,null,null,null,"если нужно","Светодиоды Объёмная буква"]
[]
["Доставка по Самаре",null,null,null,null,null,null,"если нужно"]
["Монтаж",null,null,null,null,null,null,"если нужно"]
["Итого с комплектацией (руб.):",null,null,null,null,null,{"$f":"K11+SUM(G14:G20)","v":260446.64185728002}]
[]
["Срок изготовления:  12 раб.дн. (с момента поступления денежных средств на расчетный счет)"]
["Цены указаны с учетом НДС"]
["Транспортные расходы в расчет стоимости не включены"]
["Коммерческое предложение действительно в течение 10 дней"]
[]
[]
[]
[]
[]
[]
[]
[]
[]
[]
[]
[]
[]
["Добавить"]
["Неон в 2 нити"]
[]
["Просто объёмные буквы"]
["Объёмные буквы светодиоды, неон"]

{"sheet":"Печать","index":4,"n_rows":42,"n_cols":26,"rows_kept":42,"cut":false,"hidden":true,"merged":[[0,1,1,3],[2,1,2,3],[4,1,5,1],[4,2,4,3],[4,4,5,4],[4,5,5,5],[20,20,20,21],[4,6,5,6],[4,7,5,19],[8,2,8,3],[8,20,8,21],[8,23,9,23],[25,1,26,2],[8,4,8,6],[10,4,10,6],[12,2,12,3],[17,2,17,3],[18,2,18,3],[19,2,19,3],[20,2,20,3]]}
[null,"Рекламно производственная компания \"Белый Сокол\""]
[]
[null,"Баннеры"]
[]
[null,"Количество","Размер в см.",null,"Площадь м2"]
[null,null,"Ширина","Высота"]
[null,1,980,260,{"$f":"C7*D7/10000","v":25.48}]
[]
[null,"Материал:",null,null,"Проклейка",null,null,null,null,null,null,null,null,null,null,null,null,null,null,null,"Стенды",null,null,"Кол-во"]
[null,null,null,null,null,null,null,null,null,null,null,null,null,null,null,null,null,null,null,null,"Карманы","Размеры"]
[null,null,null,null," Люверсы, см",null,null,null,null,null,null,null,null,null,null,null,null,null,null,null,1,"30х45",null,null,{"$f":"FALSE","v":false},{"$f":"IF(Y11,300)*X11","v":0}]
[null,"Рама"]
[null,null,null,null,null,null,null,null,null,null,null,null,null,null,null,null,null,null,null,null,2,"60х50",null,null,{"$f":"FALSE","v":false},{"$f":"IF(Y13,650)*X13","v":0}]
[null,"Профиль",null,null,null,null,null,null,null,null,null,null,null,null,null,null,null,null,null,null,3,"80х50",null,null,{"$f":"FALSE","v":false},{"$f":"IF(Y14,900)*X14","v":0}]
[]
[null,null,null,null,null,null,null,null,null,null,null,null,null,null,null,null,null,null,null,null,4,"60х80",null,null,{"$f":"FALSE","v":false},{"$f":"IF(Y16,1120)*X16","v":0}]
[null,"Монтаж"]
[null,null,"Доставка",null,null,null,null,null,null,null,null,null,null,null,null,null,null,null,null,null,6,"80х80",null,1,{"$f":"FALSE","v":false},{"$f":"IF(Y18,1560)*X18","v":0}]
[null,null,"Легковой автомобиль",null,null,null,null,null,null,null,null,null,null,null,null,null,null,null,null,null,8,"105х85",null,null,{"$f":"FALSE","v":false},{"$f":"IF(Y19,1940)*X19","v":0}]
[null,null,null,null,null,null,null,null,null,null,null,null,null,null,null,null,null,null,null,null,10,"130х85",null,0,{"$f":"FALSE","v":false},{"$f":"IF(Y20,2258)*X20","v":0}]
[null,null,"Грузовая ГАЗель",null,null,null,null,null,null,null,null,null,null,null,null,null,null,null,null,null,"Итого",null,null,null,null,{"$f":"SUM(Z11:Z20)","v":0}]
[null,null,null,null,null,null,null,null,null,null,null,null,null,null,null,null,null,null,null,null,null,null,{"$f":"IF(Z21>10000,\"Возможна скидка до 15%\",\"Скидки НЕТ\")","v":"Скидки НЕТ"}]
[null,null,"Материал","профиль","рама","печать","Люверсы","Проклейка","Доставка легк.","Доставка груз.","Монтаж"]
[null,null,{"$f":"VLOOKUP(ФТабл.!B61,ФТабл.!A63:G88,7,0)*E7","v":10192},{"$f":"VLOOKUP(ФТабл.!H104,ФТабл.!G105:I107,3,0)","v":0},{"$f":"IF(ФТабл.!O62=1,ФТабл.!I62=0,IF(ФТабл.!O3=2,ФТабл.!I62*ФТабл.!N65))*B7","v":6370},{"$f":"VLOOKUP(ФТабл.!B91,ФТабл.!A93:D96,4,0)*E7","v":0},{"$f":"VLOOKUP(ФТабл.!H91,ФТабл.!G93:J97,4,0)","v":2149.3333333333335},{"$f":"VLOOKUP(ФТабл.!H99,ФТабл.!G101:I102,3,0)","v":1736},{"$f":"IF(ФТабл.!C33=1,ФТабл.!C34,IF(ФТабл.!C33=2,ФТабл.!C35,IF(ФТабл.!C33=3,ФТабл.!C36,IF(ФТабл.!C33=4,ФТабл.!C37,IF(ФТабл.!C33=5,ФТабл.!C38,IF(ФТабл.!C33=6,ФТабл.!C39,IF(ФТабл.!C33=7,ФТабл.!C40)))))))","v":800},{"$f":"IF(ФТабл.!D33=1,ФТабл.!D34,IF(ФТабл.!D33=2,ФТабл.!D35,IF(ФТабл.!D33=3,ФТабл.!D36,IF(ФТабл.!D33=4,ФТабл.!D37,IF(ФТабл.!D33=5,ФТабл.!D38,IF(ФТабл.!D33=6,ФТабл.!D39,IF(ФТабл.!D33=7,ФТабл.!D40)))))))","v":1800},{"$f":"VLOOKUP(ФТабл.!B100,ФТабл.!A102:E106,5,0)","v":0}]
[null,"Стоимость",{"$f":"C24+D24+E24+F24+I24+J24+G24+H24+K24","v":23047.333333333332},{"$f":"C24/E7","v":400}]
[null,{"$f":"IF(C25>20000,\"Возможна скидка до 20%\",\"Возможна скидка до 10%\")","v":"Возможна скидка до 20%"}]
[]
[null,null,null,null,"Баннера"]
[]
[]
[]
[]
[]
[]
[]
[]
[]
[]
[]
[]
[null,"добавить"]
[null,"баннеры"]

{"sheet":"ФТабл.","index":5,"n_rows":107,"n_cols":21,"rows_kept":107,"cut":false,"hidden":true,"merged":[[30,11,30,13],[30,15,30,17],[30,18,30,20]]}
[]
[null,null,null,"м.кв.",null,null,null,"Профили",null,null,null,null,"Рама",null,null,null,"Печать"]
[1,"Оцинкованное железо",null,{"$f":"I43","v":1794.5},4,null,null,"Без профиля",null,0,2,null,"Нет",null,2,1,"Фон",200,{"$f":"R3-336","v":-136},4]
[2,"ПВХ 2 мм",null,1656.1200000000001,{"$f":"VLOOKUP(E3,A3:D17,4,0)","v":1981.72},null,null,"Клемшина (ПВХ профиль, уголок)",null,null,null,null,"С рамой",null,null,2,"540 dpi",336,0]
[3,"ПВХ 3 мм",null,1802.6399999999999,null,null,null,"Нильсен",null,null,null,null,null,null,null,3,"720 dpi",353,17]
[4,"ПВХ 4 мм",null,1981.72,null,null,null,"Уголок из алюминия",null,null,null,null,"Стоимость рамы",250,null,4,"1440 dpi",370,34]
[5,"ПВХ 5 мм.",null,2144.5200000000004,null,null,null,null,null,null,null,null,null,null,null,5,"Плоттер 2 цвета",400,64]
[6,"ПВХ 6 мм.",null,2681.7599999999998,null,null,null,null,null,null,null,null,null,null,null,6,"Плоттер 3 цвета",600,264]
[7,"ПВХ 8 мм",null,2904.5,null,null,null,"Площадь единицы продукции (кв.м)",{"$f":"Таблички!C8*Таблички!D8/10000","v":0.06},null,null,null,null,null,null,7,"Плоттер 3 - 5 цветов",800,464]
[8,"ПВХ 10 мм",null,{"$f":"I50","v":3458.0199999999995},null,null,null,"Периметр",{"$f":"((Таблички!C8*2)+(Таблички!D8*2))/100","v":1},null,null,null,null,null,null,8,"Транслюцентная плёнка",880,544]
[9,"Композитный материал",null,2914.6750000000002,null,null,null,"Общая площадь",{"$f":"Таблички!C8*Таблички!D8*Таблички!B8/10000","v":0.06}]
[10,"Сот. Поликарб. 4 мм",null,1681.1875,null,null,null,"Профиль ПВХ",{"$f":"(((Таблички!C8*2)+(Таблички!D8*2))*150)/100","v":150}]
[11,"Сот. Поликарб. 6 мм",null,2002.5515873015875,null,null,null,"Нильсен",{"$f":"((((Таблички!C8*2)+(Таблички!D8*2))*140)/100)+200","v":340}]
[12,"Сот. Поликарб. 8 мм",null,2155.25,null,null,null,"Уголок из алюминия",{"$f":"(((Таблички!C8*2)+(Таблички!D8*2))*180)/100","v":180}]
[13,"Акрил  1 мм",null,1543.8558333333333]
[14,"Акрил  2 мм",null,2716.3549999999996]
[15,"Акрил 3 мм.",null,3575.3716666666669]
[]
[null,"Пенокартон 10мм белый FOAM-X"]
[]
[]
[null,"Односторонняя",null,1,{"$f":"IF(D22=1,0,IF(D22=2,I11*700))","v":0}]
[null,"Двухсторонняя",null,null,null,null,null,null,null,null,null,null,"Карманы цена"]
[]
[null,"Монтаж",null,3]
[null,"Нет",0,null,null,null,"Выезд",800]
[null,"До 2 м (без лестницы)",{"$f":"IF(I9<1,800,IF(I9<3,1920,IF(I9<6,3840,IF(I9<10,5720))))","v":800},null,null,null,"Работа",800]
[null,"От 2 до 7 м.",{"$f":"IF(I9<1,800,IF(I9<3,1920,IF(I9<6,3840,IF(I9<10,5720))))","v":800}]
[null,"От 7 м. (с АГП)",{"$f":"IF(I9<1,800,IF(I9<3,1920,IF(I9<6,3840,IF(I9<10,5720))))","v":800},5200,{"$f":"D29+C29","v":6000}]
[null,"Альпинисты",{"$f":"IF(I9<1,800,IF(I9<10,I9*1000,IF(I9<50,I9*800)))","v":800},4000,{"$f":"D30+C30","v":4800}]
[null,null,null,null,null,null,null,null,null,null,null,1,null,null,null,2,null,null,3]
[null,null,"Выезд на монтаж",null,"Дост-ка легков",null,null,null,null,null,null,null,6,"Цена",null,null,6,"Цена",null,9,"Цена"]
[null,"Доставка",2,3,null,null,null,null,null,null,null,null,"Карманы",{"$f":"VLOOKUP(M32,L34:N45,3,0)","v":400},null,null,"Карманы",{"$f":"VLOOKUP(Q32,P34:R45,3,0)","v":400},null,"Карманы",{"$f":"VLOOKUP(T32,S34:U45,3,0)","v":250}]
[null,"Нет",0,0,null,null,null,null,null,null,null,1,"Нет",0,null,1,"Нет",0,1,"Нет",0]
[null,"Самара",800,1050,600,null,null,null,null,null,null,2,"А5",80,null,2,"А5",80,2,"А5",80]
[null,"Сухая, Мехзавод",800,1800,600,null,null,null,null,null,null,3,"А4",150,null,3,"А4",150,3,"А4",150]
[null,"Тольятти",2100,4500,1500,null,null,null,null,null,null,4,"А3",200,null,4,"А3",200,4,"А3",200]
[null,"Новокуйбышевск",1000,2000,800,null,null,null,null,null,null,5,"А2",300,null,5,"А2",300,5,"А2",300]
[null,"Сызрань",3200,6500,2200,null,null,null,null,null,null,6,"А1",400,null,6,"А1",400,6,"А1",400]
[null,"Красный Яр",1300,2600,1000,null,null,null,null,null,null,7,"А0",null,null,7,"А0",null,7,"А0"]
[null,null,null,null,null,null,null,null,null,null,null,8,"Под визитки объём",150,null,8,"Под визитки объём",150,8,"Под визитки объём",150]
[null,null,"Лист",null,"10% обрезки","Плёнка","Изготовление","Прибыль 85%","Итого:",null,null,9,"А5 объём",250,null,9,"А5 объём",250,9,"А5 объём",250]
[null,"Оцинкованное железо",null,300,{"$f":"D43+(D43*0.1)","v":330},340,300,{"$f":"(E43+F43+G43)*0.85","v":824.5},{"$f":"H43+G43+F43+E43","v":1794.5},{"$f":"I43+H43","v":2619},null,10,"А4 объём",300,null,10,"А4 объём",300,10,"А4 объём",300]
[null,"ПВХ 2 мм",{"$f":"Матер!D5","v":1450},{"$f":"C44/6.25","v":232},{"$f":"D44+(D44*0.1)","v":255.2},340,300,{"$f":"(E44+F44+G44)*0.85","v":760.92000000000007},1656.1200000000001,null,null,11,"А3 объём",450,null,11,"А3 объём",450,11,"А3 объём",450]
[null,"ПВХ 3 мм",{"$f":"Матер!D6","v":1900},304,334.4,340,300,828.24,1802.6399999999999,null,null,12,"А2 объём",600,null,12,"А2 объём",600,12,"А2 объём",600]
[null,"ПВХ 4 мм",{"$f":"Матер!D7","v":2450},392,431.2,340,300,910.52,1981.72]
[null,"ПВХ 5 мм.",{"$f":"Матер!D8","v":2950},472,519.20000000000005,340,300,985.32,2144.5200000000004]
[null,"ПВХ 6 мм.",4600,736,809.6,340,300,1232.1599999999999,2681.7599999999998]
[null,"ПВХ 8 мм",{"$f":"Матер!D9","v":5000},800,880,340,350,1334.5,2904.5]
[null,"ПВХ 10 мм",{"$f":"Матер!D10","v":6700},1072,1179.2,340,350,1588.82,3458.0199999999995]
[null,"Композитный материал",4830,{"$f":"C51/6","v":805},885.5,340,350,{"$f":"(E51+F51+G51)*0.85","v":1339.175},2914.6750000000002]
[null,"Сот. Поликарб. 4 мм",5418,{"$f":"C52/25.2","v":215},{"$f":"D52+(D52*0.25)","v":268.75},340,300,772.4375,1681.1875]
[null,"Сот. Поликарб. 6 мм",8920,{"$f":"C53/25.2","v":353.96825396825398},{"$f":"D53+(D53*0.25)","v":442.46031746031747},340,300,920.09126984126988,{"$f":"H53+G53+F53+E53","v":2002.5515873015875}]
[null,"Сот. Поликарб. 8 мм",10584,{"$f":"C54/25.2","v":420},{"$f":"D54+(D54*0.25)","v":525},340,300,990.25,{"$f":"H54+G54+F54+E54","v":2155.25}]
[null,"Акрил  1 мм",1061,{"$f":"C55/6","v":176.83333333333334},194.51666666666668,340,300,709.33916666666664,{"$f":"H55+G55+F55+E55","v":1543.8558333333333}]
[null,"Акрил  2 мм",{"$f":"Матер!D11","v":4518},{"$f":"C56/6","v":753},828.3,340,300,1248.0549999999998,{"$f":"H56+G56+F56+E56","v":2716.3549999999996}]
[null,"Акрил 3 мм.",{"$f":"Матер!D12","v":6778},{"$f":"C57/6","v":1129.6666666666667},1242.6333333333334,340,350,1642.7383333333335,{"$f":"H57+G57+F57+E57","v":3575.3716666666669}]
[null,null,null,null,null,null,null,{"$f":"(E43+F43+G43)*1.8","v":1746}]
[null,"Баннеры"]
[null,null,null,null,null,null,null,null,1]
[null,20,null,null,null,null,null,"Параметры",null,null,null,null,"Рама"]
[null,"Интерьерная печать",null,"<10","10-20",">20",null,"Площадь единицы продукции (кв.м)",{"$f":"Печать!E7","v":25.48},null,null,null,"Нет",null,2]
[1,"ИНТЕРЬЕРНАЯ ПЕЧАТЬ",0,null,null,null,null,"Периметр",{"$f":"((Печать!C7*2)+(Печать!D7*2))/100","v":24.8},null,null,null,"С рамой"]
[2,"Баннер 330 гр/м2. Лам.",260,{"$f":"C64+(C64*0.25)","v":325},{"$f":"D64-20","v":305},{"$f":"E64-15","v":290},{"$f":"(IF(I62<10,D64,IF(I62<20,E64,IF(I62<5000,F64))))","v":290},"Общая площадь",{"$f":"Печать!C7*Печать!D7*Печать!B7/10000","v":25.48}]
[3,"Баннер 440 гр/м2. Лам.",290,362.5,{"$f":"D65-20","v":342.5},{"$f":"E65-15","v":327.5},{"$f":"(IF(I62<10,D65,IF(I62<20,E65,IF(I62<5000,F65))))","v":327.5},null,null,null,null,null,"Стоимость рамы",250]
[4,"Баннер 440 гр/м2. Литой",300,375,355,340,{"$f":"(IF(I62<10,D66,IF(I62<20,E66,IF(I62<5000,F66))))","v":340}]
[5,"Баннер 510 гр/м2 Литой",330,412.5,392.5,377.5,{"$f":"(IF(I62<10,D67,IF(I62<20,E67,IF(I62<5000,F67))))","v":377.5}]
[6,"Баннер трансл 450 гр/м2",482,602.5,582.5,567.5,{"$f":"(IF(I62<10,D68,IF(I62<20,E68,IF(I62<5000,F68))))","v":567.5}]
[7,"Баннер сетка 370 гр/м2.",300,375,355,340,{"$f":"(IF(I67<10,D69,IF(I67<20,E69,IF(I67<5000,F69))))","v":375}]
[8,"Blackout, 540 гр",700,{"$f":"C70+(C70*0.25)","v":875},855,840,{"$f":"(IF(I62<10,D70,IF(I62<20,E70,IF(I62<5000,F70))))","v":840}]
[9,"Плёнка backlit",750,{"$f":"C71+(C71*0.25)","v":937.5},917.5,902.5,{"$f":"(IF(I62<10,D71,IF(I62<20,E71,IF(I62<5000,F71))))","v":902.5}]
[10,"Транслюцентный плёнка",700,875,855,840,{"$f":"(IF(I62<10,D72,IF(I62<20,E72,IF(I62<5000,F72))))","v":840}]
[11,"Холст синтетический",1300,1625,1605,1590,{"$f":"(IF(I62<10,D73,IF(I62<20,E73,IF(I62<5000,F73))))","v":1590}]
[12,"Холст натуральный лен",2000,2500,2480,2465,{"$f":"(IF(I62<10,D74,IF(I62<20,E74,IF(I62<5000,F74))))","v":2465}]
[13,"Плоттер, резка, выборка",700,875,855,840,{"$f":"(IF(I62<10,D75,IF(I62<20,E75,IF(I62<5000,F75))))","v":840}]
[14,"Плёнка Оракал",300,375,355,340,{"$f":"(IF(I62<10,D76,IF(I62<20,E76,IF(I62<5000,F76))))","v":340}]
[15,null,null,null,null,null,{"$f":"(IF(I63<10,D77,IF(I63<20,E77,IF(I63<5000,F77))))","v":0}]
[16,"ШИРОКОФОРМАТНАЯ ПЕЧАТЬ",null,"<100","100-200",">200"]
[17,"Китай 330 гр",168,{"$f":"C79+(C79*0.4)","v":235.2},{"$f":"D79-10","v":225.2},{"$f":"E79-10","v":215.2},{"$f":"(IF(I62<10,D79,IF(I62<20,E79,IF(I62<5000,F79))))","v":215.2}]
[18,"Китай , 440 гр",212,{"$f":"C80+(C80*0.4)","v":296.8},{"$f":"D80-10","v":286.8},{"$f":"E80-10","v":276.8},{"$f":"(IF(I62<10,D80,IF(I62<20,E80,IF(I62<5000,F80))))","v":276.8}]
[19,"Корея (литой), 440 гр",243,340.2,330.2,320.2,{"$f":"(IF(I62<10,D81,IF(I62<20,E81,IF(I62<5000,F81))))","v":320.2}]
[20,"Европа, 510 гр",300,420,410,400,{"$f":"(IF(I62<10,D82,IF(I62<20,E82,IF(I62<5000,F82))))","v":400}]
[21,"Blackout (двухстор), 710 гр",750,1050,1040,1030,{"$f":"(IF(I62<10,D83,IF(I62<20,E83,IF(I62<5000,F83))))","v":1030}]
[22,"Баннер транслюц. 450 гр",437,611.79999999999995,601.79999999999995,591.79999999999995,{"$f":"(IF(I62<10,D84,IF(I62<20,E84,IF(I62<5000,F84))))","v":591.79999999999995}]
[23,"Баннер сетка 370 гр/м2.",293,410.2,400.2,390.2,{"$f":"(IF(I62<10,D85,IF(I62<20,E85,IF(I62<5000,F85))))","v":390.2}]
[24,"Бумага с синей подложкой",100,140,130,120,{"$f":"(IF(I62<10,D86,IF(I62<20,E86,IF(I62<5000,F86))))","v":120}]
[25,"Транслюценная бумага",162,226.8,216.8,206.8,{"$f":"(IF(I62<10,D87,IF(I62<20,E87,IF(I62<5000,F87))))","v":206.8}]
[26,"Перфорированная пленка",687,961.8,951.8,941.8,{"$f":"(IF(I62<10,D88,IF(I62<20,E88,IF(I62<5000,F88))))","v":941.8}]
[]
[]
[null,2,null,null,null,null,null,3,null,null,"руб/шт"]
[null,"Печать",null,null,null,null,null,"Люверсы, см","Количество","цена ",26]
[1,"Нет",null,0,null,null,1,"Нет",0,0]
[2,"540 dpi",null,0,null,null,2,20,{"$f":"I63*100/H94","v":124},{"$f":"I94*K92","v":3224}]
[3,"720 dpi",null,0,null,null,3,30,{"$f":"I63*100/H95","v":82.666666666666671},{"$f":"I95*K92","v":2149.3333333333335}]
[4,"1440 dpi",null,0,null,null,4,40,{"$f":"I63*100/H96","v":62},{"$f":"I96*K92","v":1612}]
[null,null,null,null,null,null,5,50,{"$f":"I63*100/H97","v":49.6},{"$f":"I97*K92","v":1289.6000000000001}]
[]
[null,null,null,null,null,null,null,2]
[null,1,null,null,null,null,null,"Проклейка",null,"руб/м.п."]
[null,"Монтаж",null,3,null,null,1,"Нет",0,70]
[1,"Нет",0,null,null,null,2,"Да",{"$f":"I63*J101","v":1736}]
[2,"До 2 м (без лестницы)",{"$f":"IF(I62<1,800,IF(I62<5,1920,IF(I62<10,I62*400,IF(I62<50,I62*300))))","v":7644},null,{"$f":"C103","v":7644}]
[3,"От 2 до 7 м.",{"$f":"IF(I62<1,1000,IF(I62<5,2500,IF(I62<10,I62*500,IF(I6<50,I62*400))))","v":10192},null,{"$f":"C104","v":10192},null,null,1]
[4,"От 7 м. (с АГП)",{"$f":"IF(I62<1,1000,IF(I62<5,2500,IF(I62<10,I62*500,IF(I62<50,I62*400,IF(I62<100,I62*300)))))","v":10192},{"$f":"IF(I62<10,5200,IF(I62<20,6500,IF(I62<30,9100,IF(I62<50,10400))))","v":9100},{"$f":"D105+C105","v":19292},null,1,"Нет",0,"руб/м.п."]
[5,"Альпинисты",{"$f":"IF(I62<1,800,IF(I62<10,I62*1000,IF(I62<50,I62*800)))","v":20384},{"$f":"IF(I62<5,2000,IF(I62<10,3000,IF(I62<50,5000)))","v":5000},{"$f":"D106+C106","v":25384},null,2,"Профиль из оцинковки",{"$f":"I63*J106","v":8630.4},348]
[null,null,null,null,null,null,3,"Профиль из АКП",{"$f":"I64*J107","v":13377},525]

{"sheet":"ФБуквы","index":6,"n_rows":115,"n_cols":11,"rows_kept":115,"cut":false,"hidden":true,"merged":[[0,9,6,9],[15,2,15,6],[16,2,18,2],[16,3,18,3],[16,4,18,4],[16,5,18,5],[16,6,18,6],[30,1,31,1],[30,2,31,2],[30,3,31,3],[30,4,30,6],[0,8,6,8],[30,8,31,8],[28,2,28,6],[30,9,30,10],[31,4,31,6],[32,4,32,6],[33,4,33,6],[30,7,31,7]]}
[null,"Вид буквы",null,null,"Вид шрифта",null,null,null,"«золотой» и «серебряный» профиль (наценка - 20%)","Закатка пленкой (10-20%)"]
[null,"Псевдообъём"]
[null,"Псевдообъём, \"Элькамет\""]
[null,"Псевдообъём, пластиковый бок до 5 см"]
[null,{"$f":"B23","v":"1. Объёмная буква  (LED в лицо)"}]
[null,"Псевдообъём, LED контражур"]
[null,{"$f":"B25","v":"2. Акрил-Лайт "},null,null,"Простой"]
[null,{"$f":"B26","v":"3. Пластик-Лайт "},null,null,"Сложный, рукописный",null,null,1,false,false]
[null,{"$f":"B27","v":"4. ALS - лайт (ALS, Элькамет, LED)"},null,null,"Шрифт с засечками",null,null,2,{"$f":"FALSE","v":false},{"$f":"FALSE","v":false}]
[null,"Объёмные буквы (без подсветки)",null,null,null,null,null,3,{"$f":"TRUE","v":true},{"$f":"FALSE","v":false}]
[null,null,null,null,"строка 1",1,null,4,{"$f":"FALSE","v":false},{"$f":"FALSE","v":false}]
[null,"Буква с контражуром",null,null,"строка 2",1]
[null,"Код строки в виде буквы",null,null,"строка 3",1]
[null,7,null,null,"строка 4",1]
[null,null,null,1]
[null,null,"Цена* за 1 см высоты буквы в зависимости от ее вертикального размера **"]
[null,"Размер буквы","до 30 см.","От 31 до 60 см","От 61 до 90 см","От 91 до 120 см","Более 121см"]
[]
[null,"Вид буквы                           "]
[1,"Несветовая буква",8,11.23,14.5,17.66,26.24,{"$f":"IF(C33>=121,G20,IF(C33>=91,F20,IF(C33>=61,E20,IF(C33>=31,D20,IF(C33>0,C20,0)))))","v":17.66},{"$f":"IF(C34>=121,G20,IF(C34>=91,F20,IF(C34>=61,E20,IF(C34>=31,D20,IF(C34>0,C20,0)))))","v":26.24}]
[2,"Псевдообъём, \"Элькамет\"",23.38,26.6,29.8,33,40,{"$f":"IF(C33>=121,G21,IF(C33>=91,F21,IF(C33>=61,E21,IF(C33>=31,D21,IF(C33>0,C21,0)))))","v":33},{"$f":"IF(C34>=121,G21,IF(C34>=91,F21,IF(C34>=61,E21,IF(C34>=31,D21,IF(C34>0,C21,0)))))","v":40}]
[3,"Псевдообъём, пластиковый бок до 5 см.",30,27,26,25,25,{"$f":"IF(C33>=121,G22,IF(C33>=91,F22,IF(C33>=61,E22,IF(C33>=31,D22,IF(C33>0,C22,0)))))","v":25},{"$f":"IF(C34>=121,G22,IF(C34>=91,F22,IF(C34>=61,E22,IF(C34>=31,D22,IF(C34>0,C22,0)))))","v":25}]
[4,"1. Объёмная буква  (LED в лицо)",{"$f":"F74","v":126.91705700000003},{"$f":"C23","v":126.91705700000003},{"$f":"D23","v":126.91705700000003},{"$f":"E23","v":126.91705700000003},{"$f":"F23","v":126.91705700000003},{"$f":"IF(C33>=121,G23,IF(C33>=91,F23,IF(C33>=61,E23,IF(C33>=31,D23,IF(C33>0,C23,0)))))","v":126.91705700000003},{"$f":"IF(C34>=121,G23,IF(C34>=91,F23,IF(C34>=61,E23,IF(C34>=31,D23,IF(C34>0,C23,0)))))","v":126.91705700000003}]
[5,"Псевдообъём, LED контражур",85.77,89,92,95.4,104,{"$f":"IF(C33>=121,G24,IF(C33>=91,F24,IF(C33>=61,E24,IF(C33>=31,D24,IF(C33>0,C24,0)))))","v":95.4},{"$f":"IF(C34>=121,G24,IF(C34>=91,F24,IF(C34>=61,E24,IF(C34>=31,D24,IF(C34>0,C24,0)))))","v":104}]
[6,"2. Акрил-Лайт ",{"$f":"F94","v":155.90642616},{"$f":"F93","v":144.35780199999999},{"$f":"D25","v":144.35780199999999},{"$f":"E25","v":144.35780199999999},{"$f":"F25","v":144.35780199999999},{"$f":"IF(C33>=121,G25,IF(C33>=91,F25,IF(C33>=61,E25,IF(C33>=31,D25,IF(C33>0,C25,0)))))","v":144.35780199999999},{"$f":"IF(C34>=121,G25,IF(C34>=91,F25,IF(C34>=61,E25,IF(C34>=31,D25,IF(C34>0,C25,0)))))","v":144.35780199999999}]
[7,"3. Пластик-Лайт ",{"$f":"F56","v":144.05234616000001},{"$f":"F56","v":144.05234616000001},{"$f":"F56","v":144.05234616000001},{"$f":"F56","v":144.05234616000001},{"$f":"F56","v":144.05234616000001},{"$f":"IF(C33>=121,G26,IF(C33>=91,F26,IF(C33>=61,E26,IF(C33>=31,D26,IF(C33>0,C26,0)))))","v":144.05234616000001},{"$f":"IF(C34>=121,G26,IF(C34>=91,F26,IF(C34>=61,E26,IF(C34>=31,D26,IF(C34>0,C26,0)))))","v":144.05234616000001}]
[8,"4. ALS - лайт (ALS, Элькамет, LED)",{"$f":"F115","v":167.40529416000001}]
[9,"Объёмные буквы (без подсветки)",49,48,50,51,55,{"$f":"IF(C33>=121,G28,IF(C33>=91,F28,IF(C33>=61,E28,IF(C33>=31,D28,IF(C33>0,C28,0)))))","v":51},{"$f":"IF(C34>=121,G28,IF(C34>=91,F28,IF(C34>=61,E28,IF(C34>=31,D28,IF(C34>0,C28,0)))))","v":55}]
[null,"Дополнительная нитка неона (цены указаны с 1-ой ниткой неона)","От 0,6 за 1 см высоты буквы"]
[null,null,null,null,null,null,null,"наценка","наценка"]
[null,"Кол-во букв","Высота буквы (ширина)","Цена за 1 см высоты буквы ($)","Тип шрифта (сумма с наценкой на шрифт)",null,null,"«золотой» и «серебряный» профиль (наценка - 20%)","Закатка пленкой (10-20%)","Дополнительные нитки неона  (0,6 $ за 1 см высоты)"]
[null,null,null,null,"(наценка на шрифт: сложный и рукописный – 15%, с засечками – 20%)",null,null,null,null,"Кол-во","Сумма за доп. неон"]
[null,{"$f":"Буквы!B7","v":15},{"$f":"Буквы!C7","v":110},{"$f":"VLOOKUP(B14,A20:C28,3,0)","v":144.05234616000001},{"$f":"IF(ФБуквы!F11=1,Буквы!B7*Буквы!C7*Буквы!D7,IF(ФБуквы!F11=2,Буквы!B7*Буквы!C7*Буквы!D7*1.15,IF(ФБуквы!F11=3,Буквы!B7*Буквы!C7*Буквы!D7*1.2)))","v":237686.37116400001},null,null,{"$f":"IF(I8=TRUE,B33*C33*D33*0.2,0)","v":0},{"$f":"IF(J8=TRUE,B33*C33*D33*0.15,0)","v":0}]
[null,{"$f":"Буквы!B8","v":1},{"$f":"Буквы!C8","v":158},{"$f":"IF(B14=1,I20,IF(B14=2,I21,IF(B14=3,I22,IF(B14=4,I23,IF(B14=5,I24,IF(B14=6,I25,IF(B14=7,I26,IF(B14=8,I28))))))))","v":144.05234616000001},{"$f":"IF(ФБуквы!F12=1,Буквы!B8*Буквы!C8*Буквы!D8,IF(ФБуквы!F12=2,Буквы!B8*Буквы!C8*Буквы!D8*1.15,IF(ФБуквы!F12=3,Буквы!B8*Буквы!C8*Буквы!D8*1.2)))","v":22760.270693280003},null,null,{"$f":"IF(I9=TRUE,B34*C34*D34*0.2,0)","v":0},{"$f":"IF(J9=TRUE,B34*C34*D34*0.1,0)","v":0}]
[]
[]
[null,"Первые буквы"]
[null,"Пластик-лайт"]
[null,"ПВХ 10 мм",{"$f":"(C33*C33/10000)+(C33*C33/10000*10%)","v":1.331},{"$f":"C39*B33","v":19.965},{"$f":"D39*Матер!E10","v":22294.25}]
[null,"ПВХ 3 мм",{"$f":"C33*5*0.08/100","v":0.44},{"$f":"B33*C40","v":6.6},{"$f":"D40*Матер!E6","v":2090}]
[null,"Акрил 3 мм",{"$f":"(C33*C33/10000)+(C33*C33/10000*10%)","v":1.331},{"$f":"B33*C41","v":19.965},{"$f":"D41*Матер!E12","v":22553.795000000002}]
[null,"Плёнка 641",{"$f":"C40","v":0.44},{"$f":"C42*B33","v":6.6},{"$f":"D42*Матер!D41","v":1537.8}]
[null,"Плёнка 8500",{"$f":"C41","v":1.331},{"$f":"C43*B33","v":19.965},{"$f":"D43*Матер!D44","v":12078.825000000001}]
[null,"Лента, модули",{"$f":"C33*3.5/100","v":3.85},{"$f":"C33*3/10*B33","v":495},{"$f":"D44*Матер!D73","v":18315}]
[null,"БП",{"$f":"D44*0.86/100","v":4.2569999999999997},{"$f":"CEILING(C45,1)","v":5},null,{"$f":"D45*1800","v":9000},"На каждые 100 ватт 1800 руб"]
[null,"Космофен",null,null,{"$f":"C33*6*B33*115/10/100","v":1138.5}]
[null,"Крепёж",null,null,{"$f":"C33*6/100*0.3*B33*4","v":118.79999999999998}]
[null,"Итого материалы",null,null,{"$f":"SUM(E39:E47)","v":80126.97}]
[null,"Материалы + прибыль",null,0.8,{"$f":"E48+E48*D49","v":144228.546}]
[null,"Транспорт",null,null,{"$f":"E49*0.05","v":7211.4273000000003}]
[null,"Фреза",{"$f":"(C33*5/100*B33)*4","v":330},{"$f":"40*1.8","v":72},{"$f":"D51*C51","v":23760}]
[null,"Субподряд"]
[null,"Сборка",null,null,{"$f":"'ЗП буквы'!E3-'ЗП буквы'!E3*20%","v":22440}]
[null,"Сборка + прибыль",null,1,{"$f":"E53+E53*D54","v":44880}]
[null,"Итого",null,null,{"$f":"E54+E51+E50+E49","v":220079.97330000001},{"$f":"E55/B33/C33","v":133.38180200000002}]
[null,"Итого +БП",null,0.08,{"$f":"E55+(E55*D56)","v":237686.37116400001},{"$f":"E56/B33/C33","v":144.05234616000001}]
[]
[]
[null,"LED в лицо по периметру"]
[null,{"$f":"B39","v":"ПВХ 10 мм"},1.331,19.965,22294.25]
[null,"ПВХ 3 мм",0.44,6.6,2090]
[null,"Акрил 3 мм",1.331,19.965,22553.795000000002]
[null,"Плёнка 641",0.44,6.6,1537.8]
[null,"Пиксели ",{"$f":"C33*5*B33","v":8250},{"$f":"C64/2","v":4125},{"$f":"D64*6","v":24750}]
[null,{"$f":"B45","v":"БП"},{"$f":"D64*0.05/100","v":2.0625},{"$f":"CEILING(C65,1)","v":3},null,{"$f":"D65*1800","v":5400}]
[null,{"$f":"B46","v":"Космофен"},{"$f":"C46","v":0},0,1138.5]
[null,{"$f":"B47","v":"Крепёж"},0,0,118.79999999999998]
[null,{"$f":"B48","v":"Итого материалы"},{"$f":"C48","v":0},{"$f":"D48","v":0},{"$f":"SUM(E60:E67)","v":74483.145000000004}]
[null,{"$f":"B49","v":"Материалы + прибыль"},{"$f":"C49","v":0},0.8,{"$f":"E68+E68*D69","v":134069.66100000002}]
[null,"Транспорт",{"$f":"C50","v":0},{"$f":"D50","v":0},{"$f":"E69*0.05","v":6703.4830500000016}]
[null,{"$f":"B51","v":"Фреза"},{"$f":"C51","v":330},{"$f":"D51","v":72},{"$f":"E51","v":23760}]
[null,{"$f":"B53","v":"Сборка"},{"$f":"C53","v":0},{"$f":"D53","v":0},{"$f":"E53","v":22440}]
[null,{"$f":"B54","v":"Сборка + прибыль"},{"$f":"C54","v":0},1,{"$f":"E72+E72*D73","v":44880}]
[null,{"$f":"B55","v":"Итого"},{"$f":"C55","v":0},{"$f":"D55","v":0},{"$f":"E73+E69+E70+E71","v":209413.14405000003},{"$f":"E74/B33/C33","v":126.91705700000003}]
[null,"Итого +БП",null,0.08,{"$f":"E74+(E74*D75)","v":226166.19557400004},{"$f":"E75/C33/B33","v":137.07042156000003}]
[]
[]
[null,"Акрил-лайт"]
[null,{"$f":"B39","v":"ПВХ 10 мм"},{"$f":"C39","v":1.331},{"$f":"D39","v":19.965},{"$f":"E39","v":22294.25},{"$f":"F39","v":0}]
[null,"Акрил 3 мм",{"$f":"C40","v":0.44},{"$f":"D40","v":6.6},{"$f":"D40*Матер!E12","v":7455.8},{"$f":"F40","v":0}]
[null,{"$f":"B41","v":"Акрил 3 мм"},{"$f":"C41","v":1.331},{"$f":"D41","v":19.965},{"$f":"E41","v":22553.795000000002},{"$f":"F41","v":0}]
[null,"Плёнка 8500",{"$f":"C43","v":1.331},{"$f":"D43","v":19.965},{"$f":"D82*Матер!D44","v":12078.825000000001},{"$f":"F42","v":0}]
[null,{"$f":"B44","v":"Лента, модули"},{"$f":"C44","v":3.85},495,{"$f":"E44","v":18315},{"$f":"F44","v":0}]
[null,"БП",4.2569999999999997,5,null,{"$f":"F45","v":9000},{"$f":"G45","v":"На каждые 100 ватт 1800 руб"}]
[null,"Космофен",0,0,{"$f":"E46","v":1138.5},0]
[null,"Крепёж",0,0,{"$f":"E47","v":118.79999999999998},0]
[null,"Итого материалы",0,0,{"$f":"SUM(E79:E86)","v":83954.97},0]
[null,"Материалы + прибыль",0,0.8,{"$f":"E87+E87*D88","v":151118.946},0]
[null,"Транспорт",0,0,{"$f":"E50","v":7211.4273000000003},0]
[null,"Фреза",330,72,{"$f":"E51","v":23760},0]
[null,{"$f":"B53","v":"Сборка"},{"$f":"C53","v":0},0.2,{"$f":"'ЗП буквы'!E3","v":28050},{"$f":"F53","v":0}]
[null,{"$f":"B54","v":"Сборка + прибыль"},0,1,{"$f":"E91+E91*D92","v":56100},{"$f":"F54","v":0}]
[null,"Итого",0,0,{"$f":"E92+E89+E88+E90","v":238190.37330000001},{"$f":"E93/C33/B33","v":144.35780199999999}]
[null,"Итого +БП",null,0.08,{"$f":"E93+(E93*D94)","v":257245.603164},{"$f":"E94/C33/B33","v":155.90642616}]
[]
[]
[null,"Als лайт"]
[null,{"$f":"B39","v":"ПВХ 10 мм"},{"$f":"C33*C33/10000","v":1.21},{"$f":"C39*B33","v":19.965},{"$f":"D39*Матер!E10","v":22294.25},{"$f":"F39","v":0}]
[null,"ALS",{"$f":"C33*6/100","v":6.6},{"$f":"C99*B33","v":99},{"$f":"D99*Матер!E100","v":23760},{"$f":"F40","v":0}]
[null,"Элькамет ",{"$f":"C33*6/100","v":6.6},{"$f":"C99*B33","v":99},{"$f":"D100*Матер!E99","v":16830}]
[null,{"$f":"B41","v":"Акрил 3 мм"},{"$f":"(C33*C33/10000)+(C33*C33/10000*10%)","v":1.331},{"$f":"B33*C41","v":19.965},{"$f":"D41*Матер!E12","v":22553.795000000002},{"$f":"F41","v":0}]
[null,{"$f":"B42","v":"Плёнка 641"},{"$f":"C42","v":0.44},{"$f":"D42","v":6.6},{"$f":"E42","v":1537.8},{"$f":"F42","v":0}]
[null,{"$f":"B44","v":"Лента, модули"},3.85,495,18315,0]
[null,"БП",4.2569999999999997,5,0,9000,{"$f":"G45","v":"На каждые 100 ватт 1800 руб"}]
[null,"Космофен",0,0,1138.5,0]
[null,"Крепёж",0,0,118.79999999999998,0]
[null,{"$f":"B48","v":"Итого материалы"},{"$f":"C48","v":0},{"$f":"D48","v":0},{"$f":"SUM(E98:E106)","v":106548.145},{"$f":"F48","v":0}]
[null,{"$f":"B49","v":"Материалы + прибыль"},0,0.8,{"$f":"E107+E107*D108","v":191786.66100000002},0]
[null,"Транспорт",0,0,7211.4273000000003,0]
[null,"Фреза",{"$f":"(C33*5/100*B33)*2","v":165},72,{"$f":"D110*C110","v":11880},0]
[null,"Субподряд",0,0,0,0]
[null,"Сборка",0,0,{"$f":"'ЗП буквы'!E3-'ЗП буквы'!E3*20%","v":22440},0]
[null,"Сборка + прибыль",0,1,{"$f":"E112+E112*D113","v":44880},0]
[null,"Итого",0,0,{"$f":"E108+E109+E110+E113","v":255758.08830000003},{"$f":"E114/B33/C33","v":155.00490200000002}]
[null,"Итого +БП",0,0.08,{"$f":"E114+E114*D115","v":276218.73536400002},{"$f":"E115/B33/C33","v":167.40529416000001}]

{"sheet":"Короба","index":7,"n_rows":26,"n_cols":26,"rows_kept":26,"cut":false,"hidden":true,"merged":[[0,1,1,3],[3,1,3,3],[5,1,6,1],[5,2,5,3],[5,4,6,4],[21,2,21,3],[21,20,21,21],[5,6,6,6],[5,7,6,19],[10,2,10,3],[18,2,18,3],[19,2,19,3],[20,2,20,3],[5,5,6,5]]}
[null,"Рекламно производственная компания \"Белый Сокол\""]
[]
[]
[null,"Нестандартные короба от 1 м2"]
[]
[null,"Количество","Размер в см.",null,"Площадь м2"]
[null,null,"Ширина","Высота"]
[null,1,250,70,{"$f":"C8*D8/10000","v":1.75}]
[]
[]
[null,"Подсветка","Для светодиодного короба"]
[null,null,"Глубина"]
[]
[null,"Лицевая часть"]
[]
[]
[]
[null,null,null,null,null,null,null,null,null,null,null,null,null,null,null,null,null,null,null,null,4,"60х80",null,null,{"$f":"FALSE","v":false},{"$f":"IF(Y18,1120)*X18","v":0}]
[null,"Монтаж","Доставка",null,null,null,null,null,null,null,null,null,null,null,null,null,null,null,null,null,6,"80х80",null,1,{"$f":"FALSE","v":false},{"$f":"IF(Y19,1560)*X19","v":0}]
[null,null,"Легковой автомобиль",null,null,null,null,null,null,null,null,null,null,null,null,null,null,null,null,null,8,"105х85",null,null,{"$f":"FALSE","v":false},{"$f":"IF(Y20,1940)*X20","v":0}]
[null,null,null,null,null,null,null,null,null,null,null,null,null,null,null,null,null,null,null,null,10,"130х85",null,0,{"$f":"FALSE","v":false},{"$f":"IF(Y21,2258)*X21","v":0}]
[null,null,"Грузовая ГАЗель",null,null,null,null,null,null,null,null,null,null,null,null,null,null,null,null,null,"Итого",null,null,null,null,{"$f":"SUM(Z18:Z21)","v":0}]
[null,null,null,null,null,null,null,null,null,null,null,null,null,null,null,null,null,null,null,null,null,null,{"$f":"IF(Z22>10000,\"Возможна скидка до 15%\",\"Скидки НЕТ\")","v":"Скидки НЕТ"}]
[null,null,"Стоимость короба",null,"Лицевая","Глубина","Доставка легк.","Доставка груз.","Монтаж"]
[null,null,{"$f":"IF(ФКороба!C10=1,ФКороба!C11,IF(ФКороба!C10=2,ФКороба!C12))+F25+E25","v":23075},null,{"$f":"ФКороба!D24","v":350},{"$f":"ФКороба!D31","v":1900},{"$f":"IF(ФТабл.!C33=1,ФТабл.!C34,IF(ФТабл.!C33=2,ФТабл.!C35,IF(ФТабл.!C33=3,ФТабл.!C36,IF(ФТабл.!C33=4,ФТабл.!C37,IF(ФТабл.!C33=5,ФТабл.!C38,IF(ФТабл.!C33=6,ФТабл.!C39,IF(ФТабл.!C33=7,ФТабл.!C40)))))))","v":800},{"$f":"IF(ФТабл.!D33=1,ФТабл.!D34,IF(ФТабл.!D33=2,ФТабл.!D35,IF(ФТабл.!D33=3,ФТабл.!D36,IF(ФТабл.!D33=4,ФТабл.!D37,IF(ФТабл.!D33=5,ФТабл.!D38,IF(ФТабл.!D33=6,ФТабл.!D39,IF(ФТабл.!D33=7,ФТабл.!D40)))))))","v":1800},{"$f":"IF(ФКороба!C16=1,ФКороба!C17,IF(ФКороба!C16=2,ФКороба!C18,IF(ФКороба!C16=3,ФКороба!C19,IF(ФКороба!C16=4,ФКороба!E20,IF(ФКороба!C16=5,ФКороба!E21)))))","v":0}]
[null,"Стоимость",{"$f":"(C25+D25+G25+H25+I25)*B8","v":25675},{"$f":"C25/ФКороба!G3","v":13185.714285714286}]

{"sheet":"ФКороба","index":8,"n_rows":33,"n_cols":7,"rows_kept":33,"cut":false,"hidden":true,"merged":[]}
[]
[null,"Короб",3,null,null,"Площадь"]
[null,"Односторонний",{"$f":"IF(C2=1,1,IF(C2=2,1.2,IF(C2=3,1.4)))","v":1.4},null,null,"Единичного",{"$f":"Короба!C8*Короба!D8/10000","v":1.75}]
[null,"+ боковое свечение",null,null,null,"Общая",{"$f":"Короба!D8*Короба!C8*Короба!B8/10000","v":1.75}]
[null,"Двухсторонний"]
[null,"Композитный короб"]
[]
[]
[]
[null,"Подсветка",2]
[null,"Люминисцентные лампы",{"$f":"IF(G3<2,6500,IF(G3<5,6000,IF(G3<10,5500,IF(G3>=10,5000))))*G3*C3","v":15924.999999999998}]
[null,"Светодиоды",{"$f":"IF(G3<10,8500,IF(G3>10,9000))*G3*C3","v":20825}]
[null,"Неон"]
[]
[]
[null,"Монтаж",1]
[null,"Нет",0]
[null,"До 2 м (без лестницы)",{"$f":"IF(G3<1,600,IF(G3>=1,G3*800))","v":1400}]
[null,"От 2 до 7 м.",{"$f":"IF(G3<1,800,IF(G3>=1,G3*1000))","v":1750}]
[null,"От 7 м. (с АГП)",{"$f":"IF(G3<1,1000,IF(G3>=1,G3*1200))","v":2100},{"$f":"IF(G3<4,3200,IF(G3<10,6400,IF(G3<20,12800)))","v":3200},{"$f":"D20+C20","v":5300}]
[null,"Альпинисты",{"$f":"IF(G3<1,1000,IF(G3>=1,G3*1200))","v":2100},{"$f":"IF(G3<3,2000,IF(G3<5,4000,IF(G3<10,8000)))","v":2000},{"$f":"D21+C21","v":4100}]
[]
[null,"Материалы",2]
[null,"Композит",{"$f":"G3*2500","v":4375},{"$f":"IF(C23=1,C24,IF(C23=2,C25,IF(C23=3,C26,IF(C23=4,C27))))","v":350}]
[null,"Акрил",{"$f":"G3*200","v":350}]
[null,"Сотовый поликарбонат",0]
[null,"Баннерная ткань",0]
[]
[null,"Глубина короба",3]
[null,"ЛАМПЫ",0]
[null,"250-300 мм",0,{"$f":"IF(C29=1,C30,IF(C29=2,C31,IF(C29=3,C32,IF(C29=4,C33))))","v":1900}]
[null,"200 мм",1900]
[null,"100-150 мм",4000]

{"sheet":"Бланк заказа","index":9,"n_rows":54,"n_cols":8,"rows_kept":54,"cut":false,"hidden":true,"merged":[[4,1,4,2],[4,3,4,7],[1,1,2,2],[1,6,1,7],[2,6,2,7],[3,1,3,2],[3,3,3,7],[22,1,22,2],[5,1,5,2],[5,3,5,7],[6,1,6,2],[6,3,6,7],[7,1,7,2],[7,3,7,7],[8,2,16,7],[17,1,18,2],[17,3,18,7],[19,1,20,7],[21,1,21,2],[34,1,34,5],[34,6,34,7],[23,1,23,2],[24,1,24,2],[25,1,25,2],[25,3,25,7],[27,1,27,2],[28,1,28,2],[29,1,29,2],[30,1,30,2],[30,3,30,7],[31,1,31,2],[31,3,31,7],[35,2,35,4],[35,5,35,6],[36,2,36,6],[37,2,37,4],[38,1,40,1],[38,2,38,5],[39,2,39,5],[40,2,40,5],[41,1,43,1],[41,2,41,5],[42,2,42,5],[43,2,43,5],[44,1,46,1],[44,2,44,5],[45,2,45,5],[46,2,46,5],[53,1,55,1],[53,2,53,5],[54,2,54,5],[55,2,55,5],[47,1,49,1],[47,2,47,5],[48,2,48,5],[49,2,49,5],[50,1,52,1],[50,2,50,5],[51,2,51,5],[52,2,52,5]]}
[]
[null,"БЛАНК-ЗАКАЗА №",null,null,null,"Дата поступления","Срок сдачи"]
[]
[null,"Заказчик"]
[null,"Конт. лицо со стороны Заказчика"]
[null,"Монтаж /да, нет/ (Адрес)"]
[null,"Менеджер",null,"Рамазанова Анфиса"]
[null,"Доставка /да, нет/ (Адрес)"]
[]
[]
[]
[]
[]
[]
[]
[]
[]
[null,"Лицо ответственное за качество"]
[]
[null,"ОПИСАНИЕ ЗАКАЗА"]
[]
[1,"Готовое изделие",null,"табличка","Вывеска","Буквы","КОРОБ","Иное"]
[null,"Размер",null,"ширина",45,"высота",453]
[null,"Материал",null,"ПВХ"]
[null,"Используемые плёнки",null,"Фон",null,"Текст"]
[null,"Примечание"]
[]
[2,"Готовое изделие",null,"табличка","Вывеска","Буквы","КОРОБ","Иное"]
[null,"Размер",null,"ширина",null,"высота"]
[null,"Материал",null,"ПВХ"]
[null,"Макет"]
[null,"Примечание"]
[]
[]
[null,"Стоимость заказа"]
[]
[null,null,"Выполненные работы."]
[null,null,"Название",null,null,null,"Количество","Сумма"]
[null,"Андрей"]
[]
[]
[null,"Антон"]
[]
[]
[null,"Максим"]
[]
[]
[null,"Михаил"]
[]
[]
[null,"Олег"]
[]
[]
[null,"Павел"]

{"sheet":"Лист3","index":10,"n_rows":26,"n_cols":27,"rows_kept":26,"cut":false,"hidden":true,"merged":[[2,10,3,10],[2,1,3,1],[2,2,3,2],[2,3,3,3],[2,4,3,4],[2,7,3,7],[2,8,3,8]]}
[]
["Буквы"]
[null,"Кол-во букв","Высота буквы (ширина)","Вид букв","Цена за 1 см. высоты буквы",null,null,"Тип шрифта (рукописный - 15%, с засечками - 20%)","\"Золотой\" или \"Серебрянный\" профиль (наценка - 20%)",null,"Сумма"]
[null,null,null,null,null,null,null,null,null,null,null,null,null,"пвх руб.",null,"Резка руб.","плёнка","накатка",null,null,null,null,null,null,"Итого","Стоимость","Прибыль"]
[null,4,30,"несветовые, псевдообъёмные",20,8,11.23,14.5,17.66,26.24,{"$f":"Z5*B5","v":961.92000000000007},null,{"$f":"C5","v":30},{"$f":"C5*M5*0.03","v":27},null,{"$f":"C5*6*0.5","v":90},{"$f":"M5*C5*0.012","v":10.8},{"$f":"M5*C5*0.025","v":22.5},null,null,null,null,null,null,{"$f":"R5+Q5+P5+N5","v":150.30000000000001},{"$f":"Y5*1.6","v":240.48000000000002},{"$f":"Z5-Y5","v":90.18}]
[null,null,null,null,null,30,60,90,120,"120-",null,null,null,null,null,null,null,null,"Элькамет","Укладка элькамета"]
[null,1,200,"несветовые, элькамет",null,23.38,26.6,29.8,33,40,{"$f":"Z7*B7","v":8320},null,{"$f":"C7","v":200},{"$f":"C7*M7*0.03","v":1200},null,{"$f":"C7*6*0.5","v":600},{"$f":"M7*C7*0.012","v":480},{"$f":"M7*C7*0.025","v":1000},{"$f":"M7*6*1","v":1200},{"$f":"C7*6*0.6","v":720},null,null,null,null,{"$f":"R7+Q7+P7+N7+S7+T7","v":5200},{"$f":"Y7*1.6","v":8320},{"$f":"Z7-Y7","v":3120}]
[null,null,null,null,null,null,null,null,null,null,null,null,null,null,null,null,null,null,null,null,null,null,"LED","Установка LED"]
[null,1,200,"с элькаметом, LED в лицо",null,83.38,86.6,89.8,93,{"$f":"K9/C9","v":101.6},{"$f":"Z9*B9","v":20320},null,{"$f":"C9","v":200},{"$f":"C9*M9*0.03","v":1200},null,{"$f":"C9*6*0.5","v":600},{"$f":"M9*C9*0.012","v":480},{"$f":"M9*C9*0.025","v":1000},{"$f":"M9*6*1","v":1200},{"$f":"C9*6*0.6","v":720},null,null,{"$f":"C9*6/1.6*5","v":3750},{"$f":"C9*6/1.6*5","v":3750},{"$f":"R9+Q9+P9+N9+S9+T9+W9+X9","v":12700},{"$f":"Y9*1.6","v":20320},{"$f":"Z9-Y9","v":7620}]
[]
[null,1,200,"с элькаметом, LED контражур ",null,85.77,89,92,95.4,104,{"$f":"Z11*B11","v":20800},null,{"$f":"C11","v":200},{"$f":"C11*M11*0.03","v":1200},null,{"$f":"C11*6*0.5","v":600},{"$f":"M11*C11*0.012","v":480},{"$f":"M11*C11*0.025","v":1000},{"$f":"M11*6*1","v":1200},{"$f":"C11*6*0.6","v":720},null,null,{"$f":"C11*6*650*0.01","v":7800},null,{"$f":"R11+Q11+P11+N11+S11+T11+W11+X11","v":13000},{"$f":"Y11*1.6","v":20800},{"$f":"Z11-Y11","v":7800}]
[]
[null,1,75,"с элькаметом, НЕОН контражур ",null,100,103.4,106.6,109.8,118.4,{"$f":"Z13*B13","v":7875},null,{"$f":"C13","v":75},{"$f":"C13*M13*0.03","v":168.75},null,{"$f":"C13*6*0.5","v":225},{"$f":"M13*C13*0.012","v":67.5},{"$f":"M13*C13*0.025","v":140.625},{"$f":"M13*6*1","v":450},{"$f":"C13*6*0.6","v":270},null,null,{"$f":"C13*4*1200*0.01","v":3600},null,{"$f":"R13+Q13+P13+N13+S13+T13+W13+X13","v":4921.875},{"$f":"Y13*1.6","v":7875},{"$f":"Z13-Y13","v":2953.125}]
[null,null,null,null,null,null,null,null,null,null,null,null,null,null,"Акрил 3 мм.",null,null,null,null,null,"ALS","Укладка ALS"]
[null,6,20,"Объёмные буквы (ALS, Элькамет)",null,111.84,118,124.3,130.56,147.19999999999999,{"$f":"Z15*B15","v":13171.2},null,{"$f":"C15","v":20},{"$f":"C15*M15*300*0.0001","v":12},{"$f":"C15*M15*630*0.0001","v":25.200000000000003},{"$f":"C15*6*0.5","v":60},{"$f":"M15*C15*0.012","v":4.8},{"$f":"M15*C15*0.025","v":10},{"$f":"M15*6*1","v":120},{"$f":"C15*6*0.6","v":72},{"$f":"C15*6*110*0.01","v":132},{"$f":"C15*6*80*0.01","v":96},{"$f":"C15*6*650*0.01","v":780},null,{"$f":"R15+Q15+(P15*2)+N15+S15+T15+W15+X15+U15+V15+O15","v":1372},{"$f":"Y15*1.6","v":2195.2000000000003},{"$f":"Z15-Y15","v":823.20000000000027}]
[null,1,60,"Толщина линии букв  15 - 30 см.",null,null,null,null,null,null,{"$f":"Z16*B16","v":7084.8},null,{"$f":"C16","v":60},{"$f":"C16*M16*300*0.0001","v":108},{"$f":"C16*M16*630*0.0001","v":226.8},{"$f":"C16*6*0.5","v":180},{"$f":"M16*C16*0.012","v":43.2},{"$f":"M16*C16*0.025","v":90},{"$f":"M16*6*1","v":360},{"$f":"C16*6*0.6","v":216},{"$f":"C16*6*110*0.01","v":396},{"$f":"C16*6*80*0.01","v":288},{"$f":"C16*6*650*0.01","v":2340},null,{"$f":"R16+Q16+(P16*2)+N16+S16+T16+W16+X16+U16+V16+O16","v":4428},{"$f":"Y16*1.6","v":7084.8},{"$f":"Z16-Y16","v":2656.8}]
[]
[]
[null,null,null,"Объёмные буквы из ПВХ"]
[]
[null,null,null,"Объёмные буквы из Акрила"]
[]
[null,null,null,"объёмные, LED"]
[null,null,null,"объёмные, НЕОН"]
[null,null,null,"объёмные, люминисцентные"]
[null,null,null,"Пенополистирол буквы"]

{"sheet":"Матер","index":11,"n_rows":126,"n_cols":8,"rows_kept":126,"cut":false,"hidden":true,"merged":[]}
["Журнал данных прайс-листа и продаж по товарам"]
[]
["Код товара","Наименование товара","Цена на дату","Розн. цена за ед.","Продано в розницу","Продано оптом","Всего продаж (шт.)","Всего продаж ($)"]
[null,"Листовой материал"]
[1,"ПВХ 2мм (2,0х3,0м)","26,01,2016",1450,{"$f":"D5/6","v":241.66666666666666}]
[2,"ПВХ 3мм (2,0х3,0м)","26,01,2016",1900,{"$f":"D6/6","v":316.66666666666669}]
[3,"ПВХ 4мм (2,0х3,0м)","26,01,2016",2450,408.33333333333331]
[4,"ПВХ 5мм (2,0х3,0м)","26,01,2019",2950,491.66666666666669]
[6,"ПВХ 8мм (2,0х3,0м)","26,01,2020",5000,833.33333333333337]
[7,"ПВХ 10мм (2,0х3,0м)","26,01,2021",6700,1116.6666666666667]
[8,"Акрил 2мм (2,0х3,0м)","26,01,2022",4518,753]
[9,"Акрил 3мм (2,0х3,0м)","26,01,2023",6778,1129.6666666666667]
[10,"Акрил 4мм (2,0х3,0м)","26,01,2024",9037,1506.1666666666667]
[11,"Акрил 5мм (2,0х3,0м)","26,01,2025",10810,1801.6666666666667]
[12,"Акрил 8мм (прозрачное) (2,0х3,0м)","26,01,2026",15994,2665.6666666666665]
[13,"Акрил 10 (прозрачное) (2,0х3,0м)","26,01,2027",19992,3332]
[14,"Аркил 10мм (2,0х3,0м) ","26,01,2028",21795,3632.5]
[15,"Аркил цветной (1,5х1,7)","26,01,2029",4007]
[16,"Монолит.Поликарб 2 мм (2,0х3,0м)","26,01,2030",4112,685.33333333333337]
[17,"Монолит.Поликарб 3мм (2,0х3,0м)","26,01,2031",6168,1028]
[18,"Монолит.Поликарб 5мм (прозрачный 2,0х3,0м)","26,01,2032",9789,1631.5]
[19,"Монолит.Поликарб 8мм (прозрачный 2,0х3,0м)","26,01,2033",15663,2610.5]
[20,"Монолит.Поликарб 10мм (прозрачный 2,0х3,0м)","26,01,2034",19579,3263.1666666666665]
[21,"Сотовый поликарб. 4мм (кв.м)","26,01,2035",215]
[22,"Сотовый поликарб. 6мм (кв.м)","26,01,2036",354]
[23,"Сотовый поликарб. 8мм (кв.м)","26,01,2037",420]
[24,"Цинк 0,5мм (кв.м)","26,01,2038",269]
[25,"Цинк 0,7мм (кв.м)","26,01,2039",340]
[26,"АКП (Простые цвета )(кв.м)","26,01,2040",805]
[27,"АКП (зеркало, камень и тд )(кв.м)","26,01,2041",1390]
[28,"ПЭТ 0,5мм (1,22х2,04м)","26,01,2042",425]
[29,"ПЭТ 0,7мм (1,22х2,04м)","26,01,2043",697]
[30,"ПЭТ 1,0мм (1,22х2,04м)","26,01,2044",1060]
[31,"Пенокартон Artfoam 3мм (1,4х1,0м)","26,01,2045",556]
[32,"Пенокартон Artfoam 5мм (1,4х1,0м)","26,01,2046",587]
[33,"Пенокартон Artfoam 10мм (1,4х1,0м)","26,01,2047",989]
[null,"Рулонный материал"]
[1,"Пленка Konflex ",null,74]
[2,"Пленка Oraget 3610",null,118]
[3,"Пленка Oracal 641 (Цвета 0-10)",null,196]
[4,"Пленка Oracal 641 (Цвета 20-72 )",null,233]
[5,"Пленка Oracal 641 (цвета металик 90-92 )",null,268]
[6,"Пленка Oracal 8300",null,516]
[7,"Пленка Oracal 8500",null,605]
[8,"Пленка Oracal 970 (автомобильная литая) 1,52м. ",null,1200]
[9,"Пленка Oracal 352 (металезированная)цвета 00-003",null,346]
[10,"Пленка Oracal 352 (металезированная)цвета 003-901",null,443]
[11,"Пленка Oracal 352 (металезированная)цвета 907-911",null,681]
[12,"Пленка ПЭТ Бэклит 260 гр",null,279]
[13,"Пленка Oracal 3110 (светоотраж) 1,24м",null,513]
[14,"Пленка монтажная  Orafol (MT-95)",null,103]
[15,"Пленка orabond ",null,330]
[16,"Пленка \"перфорированная\"",null,324]
[17,"Бумага постерная 220гр.",null,185]
[18,"Банер 440гр. ",null,96]
[19,"Банер 330гр. ",null,74]
[20,"Банер \"сетка\"",null,134]
[21,"Банер \"транслюцентный\"",null,127]
[22,"Банер 400гр.\"Литой\"",null,135]
[23,"Холст синт. Oil canvas 260гр.",null,228]
[24,"Холст нат. Troja 390гр",null,889]
[null,"Скотчи и клей"]
[1,"Космофен СА-12 (20гр)",null,115]
[2,"Космофен plus",null,224]
[3,"Космофен PMMA ",null,534]
[4,"Скотч BOMA19ммх50м",null,897]
[5,"Скотч Orafol 6ммх50мм",null,312]
[6,"Скотч Orafol 25ммх50мм",null,1058]
[7,"Скотч упаковочный прозрачный,50ммх140м",null,55]
[8,"Пленка-стрейч500м,17мкр. ",null,270]
[9,"Скотч 3М 4910F 6ммх33м",null,1008]
[10,"Светотехника и электрика"]
[null,"Светодиодный модуль LUX-3smd 35289(линза) 0,55вт ",null,37]
[null,"Светодиодный модуль LUX-2smd 3528 (линза)0,72вт",null,36]
[null,"Светодиодный модуль ELF Vivoııı 2smd (линза) 0,75Вт",null,89]
[null,"Светодиодный модуль ELF Vivoıı 2smd (линза) 0,52Вт",null,73]
[null,"Светодиодный модуль VIVO IV (линза) 1,0Вт",null,109]
[null,"Светодиодны модуль R12 торцевой 1,5вт",null,100]
[null,"Светодиодный пиксель ",null,9]
[null,"Блок питания 12V 30Ватт ip65",30,680]
[null,"Блок питания 12V 60Ватт ip65",60,1105]
[null,"Блок питания 12V 100Ватт ip65",100,1310]
[null,"Блок питания 12V 150Ватт ip65",150]
[null,"Провод ПВС 1,5х3мм",null,27]
[null,"Провод ВШПП 0,75Х2мм",null,11]
[null,"Провод ВШПП 0,5Х2мм"]
[null,"Гофра канал 20мм.",null,8]
[null,"Держатель для гофры 20мм. ",null,1.5]
[null,"Клемма Wago рычаг. 3 кон.",null,18]
[null,"Клемма Wago рычаг. 5 кон.",null,25]
[null,"Изалеционная лента"]
[null,"Светодиодная лента 3528 ip22 60штх1,0м"]
[null,"Светодиодная лента 3528 ip65 (силикон)60штх1,0м"]
[null,"Светодиодная лента 3528 ip22 120штх1,0м"]
[null,"Светодиодная лента 3528 ip22 60штх1,0м (цветная)"]
[null,"Светодиодная лента 5050 ip22 60штх1,0м (RGB)"]
[null,"Светодиодная лента 5050 ip22 60штх1,0м "]
[null,"Профели"]
[null,"Элькамет",null,680,{"$f":"D99/4","v":170}]
[null,"АЛС 2 м",null,480,{"$f":"D100/2","v":240}]
[null,"Профиль Алюминий 60 мм",null,226]
[null,"Профиль Алюминий 100 мм",null,240]
[null,"Профиль Алюминий 130 мм",null,250]
[null,"Профиль Алюминий 160 мм",null,300]
[null,"Профиль Алюминий 180 мм",null,320]
[null,"Профиль Металл 160 мм",null,315]
[null,"Профиль Металл 180 мм",null,330]
[null,"Профиль Металл 200 мм",null,400]
[null,"Профиль Композитный 100 мм",null,200]
[null,"Профиль Композитный 130 мм",null,230]
[null,"Профиль Композитный 160 мм",null,250]
[null,"Профиль Композитный 180 мм",null,260]
[null,"Уголки",null,100]
[null,"Провода, крепёж, покраска",null,200]
[null,"Профиль ALS",null,240]
[null,"Профиль Элькамет",null,170]
[null,"Лицевая акрил",null,100]
[null,"Лицевая сотовый поликарбонат",null,100]
[null,"Лицевая баннер",null,100]
[null,"Задняя часть Оцинкованная сталь",null,100]
[null,"Задняя часть Композитная панель",null,100]
[null,"Подсветка Ленты светодиодные",null,100]
[null,"Подсветка Лампы 6 мес",null,100]
[null,"Подсветка Светодиоды 1 год",null,100]
[null,"Подсветка Светодиоды 3 года",null,100]
[null,"Подсветка Светодиоды 5 лет",null,100]

{"sheet":"ЗП буквы","index":12,"n_rows":293,"n_cols":11,"rows_kept":293,"cut":false,"hidden":true,"merged":[[7,0,7,3]]}
[]
[null,"Высота","Количество","Сумма за см.","Итого","Коэффициент"]
["F",{"$f":"ФБуквы!C33","v":110},{"$f":"ФБуквы!B33","v":15},{"$f":"VLOOKUP(B3,J3:K293,2,0)","v":17},{"$f":"D3*C3*B3","v":28050},{"$f":"E3","v":28050},null,null,1,300,10]
["a",116,2,{"$f":"VLOOKUP(B4,J3:K283,2,0)","v":17},{"$f":"D4*C4*B4","v":3944},{"$f":"E4","v":3944},null,null,2,299,10]
["m",215,1,{"$f":"VLOOKUP(B5,J3:K283,2,0)","v":10},{"$f":"D5*C5*B5","v":2150},{"$f":"E5","v":2150},null,null,3,298,10]
["i",146,2,{"$f":"VLOOKUP(B6,J4:K284,2,0)","v":16},{"$f":"D6*C6*B6","v":4672},{"$f":"E6/2","v":2336},null,null,4,297,10]
["l",159,1,{"$f":"VLOOKUP(B7,J5:K285,2,0)","v":16},{"$f":"D7*C7*B7","v":2544},{"$f":"E7/3","v":848},null,null,5,296,10]
["Итого:",null,null,null,{"$f":"SUM(E3:E7)","v":41360},{"$f":"SUM(F3:F7)","v":37328},null,null,6,295,10]
[null,null,null,null,null,null,null,null,7,294,10]
[null,null,null,null,null,null,null,null,8,293,10]
[null,null,null,null,null,null,null,null,9,292,10]
[null,null,null,null,null,null,null,null,10,291,10]
[null,null,null,null,null,null,null,null,11,290,10]
[null,null,null,null,null,null,null,null,12,289,10]
[null,null,null,null,null,null,null,null,13,288,10]
[null,null,null,null,null,null,null,null,14,287,10]
[null,null,null,null,null,null,null,null,15,286,10]
["см","$","Сумма",null,null,null,null,null,16,285,10]
[300,10,{"$f":"B19*A19","v":3000},null,null,null,null,null,17,284,10]
[200,12,{"$f":"B20*A20","v":2400},null,null,null,null,null,18,283,10]
[100,15,{"$f":"B21*A21","v":1500},null,null,null,null,null,19,282,10]
[50,20,{"$f":"B22*A22","v":1000},null,null,null,null,null,20,281,10]
[20,25,{"$f":"B23*A23","v":500},null,null,null,null,null,21,280,10]
[null,null,null,null,null,null,null,null,22,279,10]
[33,30,4,{"$f":"C25*B25*A25","v":3960},null,null,null,null,23,278,10]
[27,30,3,{"$f":"C26*B26*A26","v":2430},null,null,null,null,24,277,10]
[null,null,null,{"$f":"D26+D25","v":6390},null,null,null,null,25,276,10]
[200,10,4,{"$f":"C28*B28*A28","v":8000},null,null,null,null,26,275,10]
[144,12,3,{"$f":"C29*B29*A29","v":5184},null,null,null,null,27,274,10]
[null,null,null,{"$f":"D29+D28","v":13184},null,null,null,null,28,273,10]
[null,null,null,null,null,null,null,null,29,272,10]
[43,25,13,{"$f":"C32*B32*A32","v":13975},null,null,null,null,30,271,10]
[null,null,null,null,null,null,null,null,31,270,10]
[null,null,null,null,null,null,null,null,32,269,10]
[null,null,null,null,null,null,null,null,33,268,10]
[null,null,null,null,null,null,null,null,34,267,10]
[null,null,null,null,null,null,null,null,35,266,10]
[null,null,null,null,null,null,null,null,36,265,10]
[null,null,null,null,null,null,null,null,37,264,10]
[null,null,null,null,null,null,null,null,38,263,10]
[null,null,null,null,null,null,null,null,39,262,10]
[null,null,null,null,null,null,null,null,40,261,10]
[null,null,null,null,null,null,null,null,41,260,10]
[null,null,null,null,null,null,null,null,42,259,10]
[null,null,null,null,null,null,null,null,43,258,10]
[null,null,null,null,null,null,null,null,44,257,10]
[null,null,null,null,null,null,null,null,45,256,10]
[null,null,null,null,null,null,null,null,46,255,10]
[null,null,null,null,null,null,null,null,47,254,10]
[null,null,null,null,null,null,null,null,48,253,10]
[null,null,null,null,null,null,null,null,49,252,10]
[null,null,null,null,null,null,null,null,50,251,10]
[null,null,null,null,null,null,null,null,51,250,10]
[null,null,null,null,null,null,null,null,52,249,10]
[null,null,null,null,null,null,null,null,53,248,10]
[null,null,null,null,null,null,null,null,54,247,10]
[null,null,null,null,null,null,null,null,55,246,10]
[null,null,null,null,null,null,null,null,56,245,10]
[null,null,null,null,null,null,null,null,57,244,10]
[null,null,null,null,null,null,null,null,58,243,10]
[null,null,null,null,null,null,null,null,59,242,10]
[null,null,null,null,null,null,null,null,60,241,10]
[null,null,null,null,null,null,null,null,61,240,10]
[null,null,null,null,null,null,null,null,62,239,10]
[null,null,null,null,null,null,null,null,63,238,10]
[null,null,null,null,null,null,null,null,64,237,10]
[null,null,null,null,null,null,null,null,65,236,10]
[null,null,null,null,null,null,null,null,66,235,10]
[null,null,null,null,null,null,null,null,67,234,10]
[null,null,null,null,null,null,null,null,68,233,10]
[null,null,null,null,null,null,null,null,69,232,10]
[null,null,null,null,null,null,null,null,70,231,10]
[null,null,null,null,null,null,null,null,71,230,10]
[null,null,null,null,null,null,null,null,72,229,10]
[null,null,null,null,null,null,null,null,73,228,10]
[null,null,null,null,null,null,null,null,74,227,10]
[null,null,null,null,null,null,null,null,75,226,10]
[null,null,null,null,null,null,null,null,76,225,10]
[null,null,null,null,null,null,null,null,77,224,10]
[null,null,null,null,null,null,null,null,78,223,10]
[null,null,null,null,null,null,null,null,79,222,10]
[null,null,null,null,null,null,null,null,80,221,10]
[null,null,null,null,null,null,null,null,81,220,10]
[null,null,null,null,null,null,null,null,82,219,10]
[null,null,null,null,null,null,null,null,83,218,10]
[null,null,null,null,null,null,null,null,84,217,10]
[null,null,null,null,null,null,null,null,85,216,10]
[null,null,null,null,null,null,null,null,86,215,10]
[null,null,null,null,null,null,null,null,87,214,10]
[null,null,null,null,null,null,null,null,88,213,10]
[null,null,null,null,null,null,null,null,89,212,10]
[null,null,null,null,null,null,null,null,90,211,10]
[null,null,null,null,null,null,null,null,91,210,10]
[null,null,null,null,null,null,null,null,92,209,10]
[null,null,null,null,null,null,null,null,93,208,10]
[null,null,null,null,null,null,null,null,94,207,10]
[null,null,null,null,null,null,null,null,95,206,10]
[null,null,null,null,null,null,null,null,96,205,10]
[null,null,null,null,null,null,null,null,97,204,10]
[null,null,null,null,null,null,null,null,98,203,10]
[null,null,null,null,null,null,null,null,99,202,10]
[null,null,null,null,null,null,null,null,100,201,10]
[null,null,null,null,null,null,null,null,101,200,12]
[null,null,null,null,null,null,null,null,102,199,12]
[null,null,null,null,null,null,null,null,103,198,12]
[null,null,null,null,null,null,null,null,104,197,12]
[null,null,null,null,null,null,null,null,105,196,12]
[null,null,null,null,null,null,null,null,106,195,12]
[null,null,null,null,null,null,null,null,107,194,12]
[null,null,null,null,null,null,null,null,108,193,12]
[null,null,null,null,null,null,null,null,109,192,12]
[null,null,null,null,null,null,null,null,110,191,12]
[null,null,null,null,null,null,null,null,111,190,12]
[null,null,null,null,null,null,null,null,112,189,13]
[null,null,null,null,null,null,null,null,113,188,13]
[null,null,null,null,null,null,null,null,114,187,13]
[null,null,null,null,null,null,null,null,115,186,13]
[null,null,null,null,null,null,null,null,116,185,13]
[null,null,null,null,null,null,null,null,117,184,13]
[null,null,null,null,null,null,null,null,118,183,13]
[null,null,null,null,null,null,null,null,119,182,13]
[null,null,null,null,null,null,null,null,120,181,13]
[null,null,null,null,null,null,null,null,121,180,13]
[null,null,null,null,null,null,null,null,122,179,14]
[null,null,null,null,null,null,null,null,123,178,14]
[null,null,null,null,null,null,null,null,124,177,14]
[null,null,null,null,null,null,null,null,125,176,14]
[null,null,null,null,null,null,null,null,126,175,14]
[null,null,null,null,null,null,null,null,127,174,14]
[null,null,null,null,null,null,null,null,128,173,14]
[null,null,null,null,null,null,null,null,129,172,14]
[null,null,null,null,null,null,null,null,130,171,14]
[null,null,null,null,null,null,null,null,131,170,14]
[null,null,null,null,null,null,null,null,132,169,15]
[null,null,null,null,null,null,null,null,133,168,15]
[null,null,null,null,null,null,null,null,134,167,15]
[null,null,null,null,null,null,null,null,135,166,15]
[null,null,null,null,null,null,null,null,136,165,15]
[null,null,null,null,null,null,null,null,137,164,15]
[null,null,null,null,null,null,null,null,138,163,15]
[null,null,null,null,null,null,null,null,139,162,15]
[null,null,null,null,null,null,null,null,140,161,15]
[null,null,null,null,null,null,null,null,141,160,16]
[null,null,null,null,null,null,null,null,142,159,16]
[null,null,null,null,null,null,null,null,143,158,16]
[null,null,null,null,null,null,null,null,144,157,16]
[null,null,null,null,null,null,null,null,145,156,16]
[null,null,null,null,null,null,null,null,146,155,16]
[null,null,null,null,null,null,null,null,147,154,16]
[null,null,null,null,null,null,null,null,148,153,16]
[null,null,null,null,null,null,null,null,149,152,16]
[null,null,null,null,null,null,null,null,150,151,16]
[null,null,null,null,null,null,null,null,151,150,16]
[null,null,null,null,null,null,null,null,152,149,16]
[null,null,null,null,null,null,null,null,153,148,16]
[null,null,null,null,null,null,null,null,154,147,16]
[null,null,null,null,null,null,null,null,155,146,16]
[null,null,null,null,null,null,null,null,156,145,16]
[null,null,null,null,null,null,null,null,157,144,16]
[null,null,null,null,null,null,null,null,158,143,16]
[null,null,null,null,null,null,null,null,159,142,16]
[null,null,null,null,null,null,null,null,160,141,16]
[null,null,null,null,null,null,null,null,161,140,16]
[null,null,null,null,null,null,null,null,162,139,16]
[null,null,null,null,null,null,null,null,163,138,16]
[null,null,null,null,null,null,null,null,164,137,16]
[null,null,null,null,null,null,null,null,165,136,16]
[null,null,null,null,null,null,null,null,166,135,16]
[null,null,null,null,null,null,null,null,167,134,16]
[null,null,null,null,null,null,null,null,168,133,16]
[null,null,null,null,null,null,null,null,169,132,16]
[null,null,null,null,null,null,null,null,170,131,16]
[null,null,null,null,null,null,null,null,171,130,17]
[null,null,null,null,null,null,null,null,172,129,17]
[null,null,null,null,null,null,null,null,173,128,17]
[null,null,null,null,null,null,null,null,174,127,17]
[null,null,null,null,null,null,null,null,175,126,17]
[null,null,null,null,null,null,null,null,176,125,17]
[null,null,null,null,null,null,null,null,177,124,17]
[null,null,null,null,null,null,null,null,178,123,17]
[null,null,null,null,null,null,null,null,179,122,17]
[null,null,null,null,null,null,null,null,180,121,17]
[null,null,null,null,null,null,null,null,181,120,17]
[null,null,null,null,null,null,null,null,182,119,17]
[null,null,null,null,null,null,null,null,183,118,17]
[null,null,null,null,null,null,null,null,184,117,17]
[null,null,null,null,null,null,null,null,185,116,17]
[null,null,null,null,null,null,null,null,186,115,17]
[null,null,null,null,null,null,null,null,187,114,17]
[null,null,null,null,null,null,null,null,188,113,17]
[null,null,null,null,null,null,null,null,189,112,17]
[null,null,null,null,null,null,null,null,190,111,17]
[null,null,null,null,null,null,null,null,191,110,17]
[null,null,null,null,null,null,null,null,192,109,17]
[null,null,null,null,null,null,null,null,193,108,17]
[null,null,null,null,null,null,null,null,194,107,17]
[null,null,null,null,null,null,null,null,195,106,17]
[null,null,null,null,null,null,null,null,196,105,17]
[null,null,null,null,null,null,null,null,197,104,17]
[null,null,null,null,null,null,null,null,198,103,17]
[null,null,null,null,null,null,null,null,199,102,17]
[null,null,null,null,null,null,null,null,200,101,17]
[null,null,null,null,null,null,null,null,201,100,18]
[null,null,null,null,null,null,null,null,202,99,18]
[null,null,null,null,null,null,null,null,203,98,18]
[null,null,null,null,null,null,null,null,204,97,18]
[null,null,null,null,null,null,null,null,205,96,18]
[null,null,null,null,null,null,null,null,206,95,18]
[null,null,null,null,null,null,null,null,207,94,18]
[null,null,null,null,null,null,null,null,208,93,18]
[null,null,null,null,null,null,null,null,209,92,18]
[null,null,null,null,null,null,null,null,210,91,18]
[null,null,null,null,null,null,null,null,211,90,18]
[null,null,null,null,null,null,null,null,212,89,18]
[null,null,null,null,null,null,null,null,213,88,18]
[null,null,null,null,null,null,null,null,214,87,18]
[null,null,null,null,null,null,null,null,215,86,18]
[null,null,null,null,null,null,null,null,216,85,18]
[null,null,null,null,null,null,null,null,217,84,18]
[null,null,null,null,null,null,null,null,218,83,18]
[null,null,null,null,null,null,null,null,219,82,18]
[null,null,null,null,null,null,null,null,220,81,18]
[null,null,null,null,null,null,null,null,221,80,18]
[null,null,null,null,null,null,null,null,222,79,18]
[null,null,null,null,null,null,null,null,223,78,18]
[null,null,null,null,null,null,null,null,224,77,18]
[null,null,null,null,null,null,null,null,225,76,18]
[null,null,null,null,null,null,null,null,226,75,18]
[null,null,null,null,null,null,null,null,227,74,20]
[null,null,null,null,null,null,null,null,228,73,20]
[null,null,null,null,null,null,null,null,229,72,20]
[null,null,null,null,null,null,null,null,230,71,20]
[null,null,null,null,null,null,null,null,231,70,20]
[null,null,null,null,null,null,null,null,232,69,20]
[null,null,null,null,null,null,null,null,233,68,20]
[null,null,null,null,null,null,null,null,234,67,20]
[null,null,null,null,null,null,null,null,235,66,20]
[null,null,null,null,null,null,null,null,236,65,20]
[null,null,null,null,null,null,null,null,237,64,20]
[null,null,null,null,null,null,null,null,238,63,20]
[null,null,null,null,null,null,null,null,239,62,20]
[null,null,null,null,null,null,null,null,240,61,20]
[null,null,null,null,null,null,null,null,241,60,20]
[null,null,null,null,null,null,null,null,242,59,20]
[null,null,null,null,null,null,null,null,243,58,20]
[null,null,null,null,null,null,null,null,244,57,20]
[null,null,null,null,null,null,null,null,245,56,20]
[null,null,null,null,null,null,null,null,246,55,20]
[null,null,null,null,null,null,null,null,247,54,20]
[null,null,null,null,null,null,null,null,248,53,20]
[null,null,null,null,null,null,null,null,249,52,20]
[null,null,null,null,null,null,null,null,250,51,20]
[null,null,null,null,null,null,null,null,251,50,25]
[null,null,null,null,null,null,null,null,252,49,25]
[null,null,null,null,null,null,null,null,253,48,25]
[null,null,null,null,null,null,null,null,254,47,25]
[null,null,null,null,null,null,null,null,255,46,25]
[null,null,null,null,null,null,null,null,256,45,25]
[null,null,null,null,null,null,null,null,257,44,25]
[null,null,null,null,null,null,null,null,258,43,25]
[null,null,null,null,null,null,null,null,259,42,25]
[null,null,null,null,null,null,null,null,260,41,25]
[null,null,null,null,null,null,null,null,261,40,25]
[null,null,null,null,null,null,null,null,262,39,25]
[null,null,null,null,null,null,null,null,263,38,25]
[null,null,null,null,null,null,null,null,264,37,25]
[null,null,null,null,null,null,null,null,265,36,25]
[null,null,null,null,null,null,null,null,266,35,25]
[null,null,null,null,null,null,null,null,267,34,25]
[null,null,null,null,null,null,null,null,268,33,25]
[null,null,null,null,null,null,null,null,269,32,25]
[null,null,null,null,null,null,null,null,270,31,25]
[null,null,null,null,null,null,null,null,271,30,30]
[null,null,null,null,null,null,null,null,272,29,30]
[null,null,null,null,null,null,null,null,273,28,30]
[null,null,null,null,null,null,null,null,274,27,30]
[null,null,null,null,null,null,null,null,275,26,30]
[null,null,null,null,null,null,null,null,276,25,30]
[null,null,null,null,null,null,null,null,277,24,30]
[null,null,null,null,null,null,null,null,278,23,30]
[null,null,null,null,null,null,null,null,279,22,30]
[null,null,null,null,null,null,null,null,280,21,30]
[null,null,null,null,null,null,null,null,281,20,30]
[null,null,null,null,null,null,null,null,282,19,30]
[null,null,null,null,null,null,null,null,283,18,30]
[null,null,null,null,null,null,null,null,284,17,30]
[null,null,null,null,null,null,null,null,285,16,30]
[null,null,null,null,null,null,null,null,286,15,30]
[null,null,null,null,null,null,null,null,287,14,30]
[null,null,null,null,null,null,null,null,288,13,30]
[null,null,null,null,null,null,null,null,289,12,30]
[null,null,null,null,null,null,null,null,290,11,30]
[null,null,null,null,null,null,null,null,291,10,30]

{"sheet":"Световые короба","index":13,"n_rows":45,"n_cols":14,"rows_kept":45,"cut":false,"hidden":true,"merged":[]}
[]
[null,null,null,"за ед."]
["Высота","Ширина","Площадь","Периметр"]
[100,100,{"$f":"B4*A4/10000","v":1},{"$f":"(A4*2+B4*2)/100","v":4},"Алюминий+LED","Алюминий+сотовый+лампы","Короб из ALS и Элькамета","Эконом-LED+","Эконом-LED","Металл+сотовый","Металл+акрил ","Баннер","Композит","Композит + инкрустация"]
["Периметр, м",{"$f":"((A4*2)+(B4*2))/100","v":4}]
[]
["Проф труба",null,6,200,null,null,null,null,null,{"$f":"C7*D7*C4","v":1200},{"$f":"J7","v":1200},{"$f":"C7*D7*C4","v":1200},{"$f":"L7","v":1200},{"$f":"M7","v":1200}]
["Профиль"]
[null,"1. Оцинкованная сталь",null,450,null,null,null,null,null,{"$f":"(D4*0.35)*D9","v":630},{"$f":"J9","v":630},{"$f":"J9","v":630}]
[null,"2. Алюминиевый"]
[null,null,"60 мм"]
[null,null,"100 мм"]
[null,null,"130 мм",226,{"$f":"D13*(A4*2)*(B4*2)/10000","v":904},{"$f":"E13","v":904},null,{"$f":"D13*(A4*2)*(B4*2)/10000","v":904},{"$f":"D13*(A4*2)*(B4*2)/10000","v":904}]
[null,null,"160 мм"]
[null,null,"180 мм"]
[null,"3. Композитная панель"]
[null,"4. ALS",null,240,null,null,{"$f":"B5*D17","v":960}]
[null,"5. Элькамет ",null,170,null,null,{"$f":"B5*D18","v":680}]
["Уголки",null,null,100,{"$f":"D19*4","v":400},{"$f":"E19","v":400},null,{"$f":"D19*4","v":400},{"$f":"H19","v":400}]
["Провода, крепёж, покраска",null,null,200,{"$f":"D20*C4","v":200},{"$f":"D20*C4","v":200},{"$f":"D20*C4","v":200},{"$f":"D20*C4","v":200},{"$f":"D20*C4","v":200},{"$f":"200*C4","v":200},{"$f":"200*C4","v":200},null,{"$f":"C4*200","v":200},{"$f":"C4*200","v":200}]
["Плёнка 8500",null,null,{"$f":"C4*Матер!D44","v":605},{"$f":"D21","v":605},{"$f":"E21","v":605},{"$f":"F21","v":605},{"$f":"E21","v":605},{"$f":"H21","v":605},{"$f":"I21","v":605},{"$f":"J21","v":605}]
["Лицевая"]
[null,"акрил",null,null,{"$f":"C4*Матер!E12","v":1129.6666666666667},null,{"$f":"Матер!E12*'Световые короба'!C4","v":1129.6666666666667},null,{"$f":"C4*Матер!E12","v":1129.6666666666667},null,{"$f":"C4*Матер!E12","v":1129.6666666666667}]
[null,"сотовый поликарбонат",null,null,null,{"$f":"Матер!D24*'Световые короба'!C4","v":215},null,{"$f":"Матер!D24*'Световые короба'!C4","v":215},null,{"$f":"Матер!D24*'Световые короба'!C4","v":215},{"$f":"Матер!E24*'Световые короба'!D4","v":0}]
[null,"баннер",null,625,null,null,null,null,null,null,null,{"$f":"'Световые короба калькулятор'!G78633=C4*D25","v":false}]
[null,"Композитная панель"]
[null,null,"100 мм",null,null,null,null,null,null,null,null,null,{"$f":"((A4+12)*(B4+12)/10000)*Матер!D29","v":1009.7919999999999}]
["Задняя часть",null,"130 мм"]
[null,"Оцинкованная сталь",null,null,{"$f":"C4*Матер!D28","v":340},{"$f":"E29","v":340},{"$f":"F29","v":340},{"$f":"C4*Матер!D28","v":340},{"$f":"H29","v":340},{"$f":"E29","v":340},{"$f":"F29","v":340},{"$f":"K29","v":340},{"$f":"L29","v":340},{"$f":"M29","v":340}]
[null,"Композитная панель"]
["Подсветка"]
[null,"Ленты светодиодные",null,120,null,null,null,{"$f":"(A4*(B4/10)/100)*D32","v":1200},{"$f":"H32","v":1200}]
[null,"Лампы","6 мес",null,null,1200]
[null,"Светодиоды"]
[null,null,"1 год",1300,{"$f":"C4*1300","v":1300},null,{"$f":"E35","v":1300},null,null,{"$f":"C4*1300","v":1300},{"$f":"C4*1300","v":1300},null,1300]
[null,null,"3 года",1600,null,null,null,null,null,null,null,1035]
[null,null,"5 лет"]
["Акрил 10 мм"]
["БП",null,null,null,1300,null,{"$f":"E39","v":1300},{"$f":"E39","v":1300},{"$f":"H39","v":1300},{"$f":"E39","v":1300},1300,{"$f":"1300","v":1300},1300]
["Фрезеровка",null,null,50,null,null,null,null,null,null,null,null,{"$f":"D4*3*D40","v":600}]
["Работы",null,null,null,{"$f":"C4*800","v":800},{"$f":"C4*1000","v":1000},{"$f":"C4*1600","v":1600},{"$f":"C4*800","v":800},{"$f":"C4*800","v":800},{"$f":"C4*1000","v":1000},{"$f":"C4*1000","v":1000},null,{"$f":"C4*800","v":800},1000]
["Транспорт",null,null,null,null,null,null,null,{"$f":"H42","v":0}]
[null,null,null,null,{"$f":"SUM(E8:E42)","v":6978.666666666667},{"$f":"SUM(F8:F42)","v":4864},{"$f":"SUM(G8:G42)","v":8114.666666666667},{"$f":"SUM(H8:H42)","v":5964},{"$f":"SUM(I5:I42)","v":6878.666666666667},{"$f":"SUM(J5:J42)","v":6790},{"$f":"SUM(K5:K42)","v":7704.666666666667},null,{"$f":"SUM(M5:M42)","v":6749.7919999999995},{"$f":"SUM(N5:N42)","v":2740}]
["Прибыль",null,null,0.8,{"$f":"E43*D44","v":5582.9333333333343},{"$f":"F43*D44","v":3891.2000000000003},{"$f":"G43*D44","v":6491.7333333333336},{"$f":"H43*D44","v":4771.2},{"$f":"I43*D44","v":5502.9333333333343},{"$f":"J43*D44","v":5432},{"$f":"K43*D44","v":6163.7333333333336},null,{"$f":"M43*D44","v":5399.8335999999999},{"$f":"N43*D44","v":2192}]
["Итого",null,null,null,{"$f":"E44+E43","v":12561.600000000002},{"$f":"F44+F43","v":8755.2000000000007},{"$f":"G44+G43","v":14606.400000000001},{"$f":"H44+H43","v":10735.2},{"$f":"I43+I44","v":12381.600000000002},{"$f":"J44+J43","v":12222},{"$f":"K44+K43","v":13868.400000000001},null,{"$f":"M44+M43","v":12149.625599999999},{"$f":"N44+N43","v":4932}]

{"sheet":"Световые короба калькулятор","index":14,"n_rows":96,"n_cols":17,"rows_kept":96,"cut":false,"hidden":false,"merged":[[8,3,8,4],[4,7,4,10]]}
[]
[null,null,"Расчет"]
[]
[null,null,"Высота (см)","Ширина (см)","Площадь (м2)","Периметр (м)"]
[null,null,200,500,{"$f":"D5*C5/10000","v":10},{"$f":"(C5+D5)*2/100","v":14},null,"Колонки для сметы",null,null,null,null,null,"Инструкция:"]
[]
[null,null,null,null,"Стоимость за ед.","Сумма",null,"Статья затрат","Ед.изм.","Цена за ед.","Расход",null,null,"1. Выбираем тип короба - устанавливаются значения по умолчанию"]
[]
[null,null,"Короб:","Композит",null,null,null,null,null,null,null,null,null,"2. Если нужно корректировать - корректировка выбором допустимых значений"]
[]
[null,null,"Проф труба:",null,null,{"$f":"IFERROR(VLOOKUP(MID(C11,1,LEN(C11)-1),ТаблицаСвод[#All],MATCH($D$9,ТаблицаСвод[#Headers],0),FALSE),0)","v":12000},null,{"$f":"CONCATENATE(C11,\" \",D11,\" \",D14)","v":"Проф труба:  "},null,{"$f":"E11","v":0},null,null,null,"3. Если при выборе значения сумма=0.00, то данное значение не предусмотрено для выбраного типа короба (следует из таблицы внизу)"]
[]
[null,null,"Профиль:",null,{"$f":"IFERROR(VLOOKUP(TRIM(MID(C13,1,LEN(C13)-1)&\" \"&D13&\" \"&D16),ТаблицаСвод[[#All],[Наименование Прайс]:[Баннер]],2,FALSE),0)","v":0},{"$f":"IFERROR(VLOOKUP(TRIM(MID(C13,1,LEN(C13)-1)&\" \"&D13&\" \"&D16),ТаблицаСвод[[#All],[Наименование Прайс]:[Баннер]],MATCH($D$9,ТаблицаСвод[[#Headers],[Наименование Прайс]:[Баннер]],0),FALSE),0)","v":0},null,{"$f":"CONCATENATE(C13,\" \",D13,\" \",D16)","v":"Профиль:  "},null,{"$f":"E13","v":0},null,null,null,"4. Если предварительный расчет устраивает - нажимаем кнопку \"Создать смету\""]
[null,null,"Профиль:",null,{"$f":"IFERROR(VLOOKUP(TRIM(MID(C14,1,LEN(C14)-1)&\" \"&D14&\" \"&D16),ТаблицаСвод[[#All],[Наименование Прайс]:[Баннер]],2,FALSE),0)","v":0},{"$f":"IFERROR(VLOOKUP(TRIM(MID(C14,1,LEN(C14)-1)&\" \"&D14&\" \"&D16),ТаблицаСвод[[#All],[Наименование Прайс]:[Баннер]],MATCH($D$9,ТаблицаСвод[[#Headers],[Наименование Прайс]:[Баннер]],0),FALSE),0)","v":0},null,{"$f":"CONCATENATE(C14,\" \",D14,\" \",D17)","v":"Профиль:  "},null,{"$f":"E14","v":0}]
[]
[null,null,"Толщина:",null,null,null,null,null,null,null,null,null,null,"5. На листе \"Смета\" - стирается предыдущая смета и вставляется текущая. Выдается сообщение и Вы попадаете на лист \"Смета\""]
[]
[null,null,"Уголки:",null,{"$f":"IFERROR(VLOOKUP(MID(C18,1,LEN(C18)-1),ТаблицаСвод[#All],5,FALSE),0)","v":100},{"$f":"IFERROR(VLOOKUP(MID(C18,1,LEN(C18)-1),ТаблицаСвод[#All],MATCH($D$9,ТаблицаСвод[#Headers],0),FALSE),0)","v":0},null,{"$f":"CONCATENATE(C18,\" \",D18)","v":"Уголки: "},"шт.",{"$f":"E18","v":100},4]
[]
[null,null,"Провода, крепёж, покраска:",null,{"$f":"IFERROR(VLOOKUP(MID(C20,1,LEN(C20)-1),ТаблицаСвод[#All],5,FALSE),0)","v":200},{"$f":"IFERROR(IF(VLOOKUP(MID(C20,1,LEN(C20)-1),ТаблицаСвод[#All],MATCH($D$9,ТаблицаСвод[#Headers],0),FALSE)>200,VLOOKUP(MID(C20,1,LEN(C20)-1),ТаблицаСвод[#All],MATCH($D$9,ТаблицаСвод[#Headers],0),FALSE),300),0)","v":2000},null,{"$f":"CONCATENATE(C20,\" \",D20)","v":"Провода, крепёж, покраска: "},"шт.",{"$f":"E20","v":200},1]
[]
[null,null,"Плёнка 8500:",null,{"$f":"IFERROR(VLOOKUP(MID(C22,1,LEN(C22)-1),ТаблицаСвод[#All],5,FALSE),0)","v":605},{"$f":"IFERROR(VLOOKUP(MID(C22,1,LEN(C22)-1),ТаблицаСвод[#All],MATCH($D$9,ТаблицаСвод[#Headers],0),FALSE),0)","v":0},null,{"$f":"CONCATENATE(C22,\" \",D22)","v":"Плёнка 8500: "},"шт.",{"$f":"E22","v":605},1]
[]
[null,null,"Лицевая:","Композитная панель",{"$f":"IFERROR(VLOOKUP(TRIM(MID(C24,1,LEN(C24)-1)&\" \"&D24&\" \"&D26),ТаблицаСвод[[#All],[Наименование Прайс]:[Композит + инкрустация]],2,FALSE),0)","v":625},{"$f":"IFERROR(VLOOKUP(TRIM(MID(C24,1,LEN(C24)-1)&\" \"&D24&\" \"&D26),ТаблицаСвод[[#All],[Наименование Прайс]:[Композит + инкрустация]],MATCH($D$9,ТаблицаСвод[[#Headers],[Наименование Прайс]:[Композит + инкрустация]],0),FALSE),0)","v":6920.3125},null,{"$f":"CONCATENATE(C24,\" \",D24,\" \",D26)","v":"Лицевая: Композитная панель 130 мм"},null,{"$f":"E24","v":625}]
[null,null,"% акрила:"]
[null,null,"Толщина:","130 мм"]
[]
[null,null,"Задняя часть:","Оцинкованная сталь",{"$f":"IFERROR(VLOOKUP(TRIM(MID(C28,1,LEN(C28)-1)&\" \"&D28&\" \"&D29),ТаблицаСвод[[#All],[Наименование Прайс]:[Композит + инкрустация]],2,FALSE),0)","v":340},{"$f":"IFERROR(VLOOKUP(TRIM(MID(C28,1,LEN(C28)-1)&\" \"&D28&\" \"&D29),ТаблицаСвод[[#All],[Наименование Прайс]:[Композит + инкрустация]],MATCH($D$9,ТаблицаСвод[[#Headers],[Наименование Прайс]:[Композит + инкрустация]],0),FALSE),0)","v":3400},null,{"$f":"CONCATENATE(C28,\" \",D28)","v":"Задняя часть: Оцинкованная сталь"},null,{"$f":"E28","v":340}]
[]
[null,null,"Подсветка:","Светодиоды 1 год",{"$f":"IFERROR(VLOOKUP(TRIM(MID(C30,1,LEN(C30)-1)&\" \"&D30),ТаблицаСвод[[#All],[Наименование Прайс]:[Баннер]],2,FALSE),0)","v":1300},{"$f":"IFERROR(VLOOKUP(TRIM(MID(C30,1,LEN(C30)-1)&\" \"&D30),ТаблицаСвод[[#All],[Наименование Прайс]:[Композит + инкрустация]],MATCH($D$9,ТаблицаСвод[[#Headers],[Наименование Прайс]:[Композит + инкрустация]],0),FALSE),0)","v":13000},null,{"$f":"CONCATENATE(C30,\" \",D30)","v":"Подсветка: Светодиоды 1 год"},null,{"$f":"E30","v":1300}]
[]
[null,null,"БП:",null,{"$f":"IFERROR(VLOOKUP(MID(C32,1,LEN(C32)-1),ТаблицаСвод[#All],5,FALSE),0)","v":1300},{"$f":"IFERROR(VLOOKUP(MID(C32,1,LEN(C32)-1),ТаблицаСвод[#All],MATCH($D$9,ТаблицаСвод[#Headers],0),FALSE),0)","v":1300},null,{"$f":"CONCATENATE(C32,\" \",D32)","v":"БП: "},null,{"$f":"E32","v":1300}]
[]
[null,null,"Фрезеровка:",null,{"$f":"IFERROR(VLOOKUP(MID(C34,1,LEN(C34)-1),ТаблицаСвод[#All],5,FALSE),0)","v":50},{"$f":"IFERROR(VLOOKUP(MID(C34,1,LEN(C34)-1),ТаблицаСвод[#All],MATCH($D$9,ТаблицаСвод[#Headers],0),FALSE),0)","v":2100},null,{"$f":"CONCATENATE(C34,\" \",D34)","v":"Фрезеровка: "},null,{"$f":"E34","v":50}]
[]
[null,null,"Работы:",null,{"$f":"IFERROR(VLOOKUP(MID(C36,1,LEN(C36)-1),ТаблицаСвод[#All],5,FALSE),0)","v":0},{"$f":"IFERROR(VLOOKUP(MID(C36,1,LEN(C36)-1),ТаблицаСвод[#All],MATCH($D$9,ТаблицаСвод[#Headers],0),FALSE),0)","v":8000},null,{"$f":"CONCATENATE(C36,\" \",D36)","v":"Работы: "},null,{"$f":"E36","v":0}]
[]
[null,null,"Транспорт:",null,{"$f":"IFERROR(VLOOKUP(MID(C38,1,LEN(C38)-1),ТаблицаСвод[#All],5,FALSE),0)","v":0},{"$f":"IFERROR(VLOOKUP(MID(C38,1,LEN(C38)-1),ТаблицаСвод[#All],MATCH($D$9,ТаблицаСвод[#Headers],0),FALSE),0)","v":0},null,{"$f":"CONCATENATE(C38,\" \",D38)","v":"Транспорт: "},null,{"$f":"E38","v":0}]
[]
[null,null,"Прибыль:",0.8,null,{"$f":"(F11+F13+F14+F18+F20+F22+F24+F28+F30+F32+F36+F38)*D40","v":37296.25},null,{"$f":"CONCATENATE(C40)","v":"Прибыль:"},"%",{"$f":"E40","v":0},{"$f":"D40*100","v":80}]
[]
[null,null,"ИТОГ:",null,null,{"$f":"(F11+F13+F14+F18+F20+F22+F24+F28+F30+F32+F36+F38)+F40","v":83916.5625}]
[]
[]
[]
[null,"ID","Профили","2",null,"Лицевая",null,"Подсветка","Столбец1",null,"ID","Профиль","Толщина"]
[null,1,"Оцинкованная сталь",null,null,"акрил",null,"Ленты светодиодные",null,null,1,"Алюминий","60 мм"]
[null,2,"Алюминий",null,null,"сотовый поликарбонат",null,"Лампы 6 мес",null,null,2,"Алюминий","100 мм"]
[null,3,"Металл",null,null,"баннер",null,"Светодиоды 3 года",null,null,3,"Алюминий","130 мм"]
[null,4,"Композитный",null,null,"Композитная панель",null,null,null,null,4,"Алюминий","160 мм"]
[null,5,"ALS",null,null,null,null,null,null,null,5,"Алюминий","180 мм"]
[null,6,"Элькамет",null,null,null,null,null,null,null,6,"Металл","160 мм"]
[null,null,null,null,null,null,null,null,null,null,7,"Металл","180 мм"]
[null,null,null,null,null,"Задняя часть",null,null,null,null,8,"Металл","200 мм"]
[null,null,null,null,null,"Оцинкованная сталь",null,null,null,null,9,"Композитный","100 мм"]
[null,null,null,null,null,"Композитная панель",null,null,null,null,10,"Композитный","130 мм"]
[null,null,null,null,null,null,null,null,null,null,11,"Композитный","160 мм"]
[null,null,null,null,null,null,null,null,null,null,12,"Композитный","180 мм"]
[]
[]
[null,null,"Компоненты","Материал","Толщина","Наименование Прайс","Цена прайс","Алюминий+LED","Алюминий+сотовый+лампы","Короб из ALS и Элькамета","Эконом-LED+","Эконом-LED","Металл+сотовый","Металл+акрил","Баннер","Композит","Композит + инкрустация"]
[null,null,"Проф труба",null,6,null,200,null,null,null,null,null,{"$f":"$E$5*ТаблицаСвод[[#This Row],[Толщина]]*ТаблицаСвод[[#This Row],[Цена прайс]]","v":12000},{"$f":"$E$5*ТаблицаСвод[[#This Row],[Толщина]]*ТаблицаСвод[[#This Row],[Цена прайс]]","v":12000},{"$f":"$E$5*ТаблицаСвод[[#This Row],[Толщина]]*ТаблицаСвод[[#This Row],[Цена прайс]]","v":12000},{"$f":"$E$5*ТаблицаСвод[[#This Row],[Толщина]]*ТаблицаСвод[[#This Row],[Цена прайс]]","v":12000},{"$f":"$E$5*ТаблицаСвод[[#This Row],[Толщина]]*ТаблицаСвод[[#This Row],[Цена прайс]]","v":12000}]
[null,null,"Профиль","Оцинкованная сталь",null,{"$f":"TRIM(C63&\" \"&D63&\" \"&E63)","v":"Профиль Оцинкованная сталь"},450,null,null,null,null,null,{"$f":"$F$5*ТаблицаСвод[[#This Row],[Цена прайс]]*0.35","v":2205},{"$f":"$F$5*ТаблицаСвод[[#This Row],[Цена прайс]]*0.35","v":2205},{"$f":"$F$5*ТаблицаСвод[[#This Row],[Цена прайс]]*0.35","v":2205}]
[null,null,"Профиль","Алюминий","60 мм",{"$f":"TRIM(C64&\" \"&D64&\" \"&E64)","v":"Профиль Алюминий 60 мм"},{"$f":"VLOOKUP(F64,Матер!$B$101:$D$127,3,FALSE)","v":226},{"$f":"$G64*($C$5*2)*($D$5*2)/10000","v":9040},{"$f":"$G64*($C$5*2)*($D$5*2)/10000","v":9040},null,{"$f":"$G64*($C$5*2)*($D$5*2)/10000","v":9040},9040]
[null,null,"Профиль","Алюминий","100 мм",{"$f":"TRIM(C65&\" \"&D65&\" \"&E65)","v":"Профиль Алюминий 100 мм"},{"$f":"VLOOKUP(F65,Матер!$B$101:$D$127,3,FALSE)","v":240},{"$f":"$G65*($C$5*2)*($D$5*2)/10000","v":9600},9600,null,9600,9600]
[null,null,"Профиль","Алюминий","130 мм","Профиль Алюминий 130 мм",226,9040,9040,null,9040,9040]
[null,null,"Профиль","Алюминий","160 мм","Профиль Алюминий 160 мм",{"$f":"VLOOKUP(F67,Матер!$B$101:$D$127,3,FALSE)","v":300},12000,12000,null,12000,12000]
[null,null,"Профиль","Алюминий","180 мм","Профиль Алюминий 180 мм",{"$f":"VLOOKUP(F68,Матер!$B$101:$D$127,3,FALSE)","v":320},12800,12800,null,12800,12800]
[null,null,"Профиль","Металл","160 мм","Профиль Металл 160 мм",{"$f":"VLOOKUP(F69,Матер!$B$101:$D$127,3,FALSE)","v":315},12600,12600,null,12600,12600]
[null,null,"Профиль","Металл","180 мм","Профиль Металл 180 мм",{"$f":"VLOOKUP(F70,Матер!$B$101:$D$127,3,FALSE)","v":330},13200,13200,null,13200,13200]
[null,null,"Профиль","Металл","200 мм","Профиль Металл 200 мм",{"$f":"VLOOKUP(F71,Матер!$B$101:$D$127,3,FALSE)","v":400},16000,16000,null,16000,16000]
[null,null,"Профиль","Композитный","100 мм","Профиль Композитный 100 мм",{"$f":"VLOOKUP(F72,Матер!$B$101:$D$127,3,FALSE)","v":200},8000,8000,null,8000,8000]
[null,null,"Профиль","Композитный","130 мм","Профиль Композитный 130 мм",{"$f":"VLOOKUP(F73,Матер!$B$101:$D$127,3,FALSE)","v":230},9200,9200,null,9200,9200]
[null,null,"Профиль","Композитный","160 мм","Профиль Композитный 160 мм",{"$f":"VLOOKUP(F74,Матер!$B$101:$D$127,3,FALSE)","v":250},10000,10000,null,10000,10000]
[null,null,"Профиль","Композитный","180 мм","Профиль Композитный 180 мм",{"$f":"VLOOKUP(F75,Матер!$B$101:$D$127,3,FALSE)","v":260},10400,10400,null,10400,10400]
[null,null,"Профиль","ALS",null,"Профиль ALS",{"$f":"VLOOKUP(F76,Матер!$B$101:$D$127,3,FALSE)","v":240},null,null,{"$f":"$F$5*ТаблицаСвод[[#This Row],[Цена прайс]]","v":3360}]
[null,null,"Профиль","Элькамет",null,"Профиль Элькамет",{"$f":"VLOOKUP(F77,Матер!$B$101:$D$127,3,FALSE)","v":170},null,null,{"$f":"$F$5*ТаблицаСвод[[#This Row],[Цена прайс]]","v":2380}]
[null,null,"Уголки",null,null,"Уголки",{"$f":"VLOOKUP(F78,Матер!$B$101:$D$127,3,FALSE)","v":100},{"$f":"$G78*4","v":400},{"$f":"$G78*4","v":400},null,{"$f":"$G78*4","v":400},{"$f":"$G78*4","v":400}]
[null,null,"Провода, крепёж, покраска",null,null,"Провода, крепёж, покраска",{"$f":"VLOOKUP(F79,Матер!$B$101:$D$127,3,FALSE)","v":200},{"$f":"$G79*$E$5","v":2000},{"$f":"$G79*$E$5","v":2000},2000,2000,2000,2000,2000,null,2000,2000]
[null,null,"Плёнка 8500",null,null,{"$f":"Матер!B44","v":"Пленка Oracal 8500"},{"$f":"VLOOKUP(F80,Матер!$B$1:$D$115,3,FALSE)","v":605},{"$f":"$G80*$E$5","v":6050},6050,6050,6050,6050,6050,6050]
[null,null,"Лицевая","акрил",null,"Лицевая акрил",{"$f":"D25*Матер!$E$12","v":0},null,null,null,null,null,null,null,null,{"$f":"$E$5*ТаблицаСвод[[#This Row],[Цена прайс]]*$D$25","v":0},{"$f":"$E$5*ТаблицаСвод[[#This Row],[Цена прайс]]*$D$25","v":0}]
[null,null,"Лицевая","сотовый поликарбонат",null,"Лицевая сотовый поликарбонат",{"$f":"Матер!D24","v":215},null,{"$f":"$E$5*ТаблицаСвод[[#This Row],[Цена прайс]]","v":2150},null,{"$f":"$E$5*ТаблицаСвод[[#This Row],[Цена прайс]]","v":2150},null,{"$f":"$E$5*ТаблицаСвод[[#This Row],[Цена прайс]]","v":2150}]
[null,null,"Лицевая","баннер",null,"Лицевая баннер",625,null,null,null,null,null,null,null,{"$f":"$E$5*ТаблицаСвод[[#This Row],[Цена прайс]]","v":6250}]
[null,null,"Лицевая","Композитная панель","100 мм",{"$f":"TRIM(C84&\" \"&D84&\" \"&E84)","v":"Лицевая Композитная панель 100 мм"},625,null,null,null,null,null,null,null,null,{"$f":"($C$5+12)*($D$5+12)/10000*ТаблицаСвод[[#This Row],[Цена прайс]]","v":6784}]
[null,null,"Лицевая","Композитная панель","130 мм",{"$f":"TRIM(C85&\" \"&D85&\" \"&E85)","v":"Лицевая Композитная панель 130 мм"},625,null,null,null,null,null,null,null,null,{"$f":"($C$5+15)*($D$5+15)/10000*ТаблицаСвод[[#This Row],[Цена прайс]]","v":6920.3125}]
[null,null,"Задняя часть","Оцинкованная сталь",null,"Задняя часть Оцинкованная сталь",{"$f":"Матер!D28","v":340},{"$f":"$E$5*ТаблицаСвод[[#This Row],[Цена прайс]]","v":3400},{"$f":"$E$5*ТаблицаСвод[[#This Row],[Цена прайс]]","v":3400},{"$f":"$E$5*ТаблицаСвод[[#This Row],[Цена прайс]]","v":3400},{"$f":"$E$5*ТаблицаСвод[[#This Row],[Цена прайс]]","v":3400},{"$f":"$E$5*ТаблицаСвод[[#This Row],[Цена прайс]]","v":3400},{"$f":"$E$5*ТаблицаСвод[[#This Row],[Цена прайс]]","v":3400},{"$f":"$E$5*ТаблицаСвод[[#This Row],[Цена прайс]]","v":3400},{"$f":"$E$5*ТаблицаСвод[[#This Row],[Цена прайс]]","v":3400},{"$f":"$E$5*ТаблицаСвод[[#This Row],[Цена прайс]]","v":3400},{"$f":"$E$5*ТаблицаСвод[[#This Row],[Цена прайс]]","v":3400}]
[null,null,"Задняя часть","Композитная панель",null,"Задняя часть Композитная панель",{"$f":"Матер!D29","v":805}]
[null,null,"Подсветка","Ленты светодиодные",null,"Подсветка Ленты светодиодные",120,null,null,null,{"$f":"$C$5*($D$5/10)/100*ТаблицаСвод[[#This Row],[Цена прайс]]","v":12000},{"$f":"$C$5*($D$5/10)/100*ТаблицаСвод[[#This Row],[Цена прайс]]","v":12000}]
[null,null,"Подсветка","Лампы","6 мес","Подсветка Лампы 6 мес",1200,null,{"$f":"$E$5*ТаблицаСвод[[#This Row],[Цена прайс]]","v":12000}]
[null,null,"Подсветка","Светодиоды","1 год","Подсветка Светодиоды 1 год",1300,{"$f":"$E$5*ТаблицаСвод[[#This Row],[Цена прайс]]","v":13000},null,{"$f":"$E$5*ТаблицаСвод[[#This Row],[Цена прайс]]","v":13000},null,null,{"$f":"$E$5*ТаблицаСвод[[#This Row],[Цена прайс]]","v":13000},{"$f":"$E$5*ТаблицаСвод[[#This Row],[Цена прайс]]","v":13000},null,{"$f":"$E$5*ТаблицаСвод[[#This Row],[Цена прайс]]","v":13000}]
[null,null,"Подсветка","Светодиоды","3 года","Подсветка Светодиоды 3 года",1600,null,null,null,null,null,null,null,1035]
[null,null,"Подсветка","Светодиоды","5 лет","Подсветка Светодиоды 5 лет",{"$f":"VLOOKUP(F92,Матер!$B$101:$D$127,3,FALSE)","v":100}]
[null,null,"БП",null,null,null,1300,{"$f":"ТаблицаСвод[[#This Row],[Цена прайс]]","v":1300},null,{"$f":"ТаблицаСвод[[#This Row],[Цена прайс]]","v":1300},{"$f":"ТаблицаСвод[[#This Row],[Цена прайс]]","v":1300},{"$f":"ТаблицаСвод[[#This Row],[Цена прайс]]","v":1300},{"$f":"ТаблицаСвод[[#This Row],[Цена прайс]]","v":1300},{"$f":"ТаблицаСвод[[#This Row],[Цена прайс]]","v":1300},{"$f":"ТаблицаСвод[[#This Row],[Цена прайс]]","v":1300},{"$f":"ТаблицаСвод[[#This Row],[Цена прайс]]","v":1300}]
[null,null,"Фрезеровка",null,null,null,50,null,null,null,null,null,null,null,null,{"$f":"$F$5*3*ТаблицаСвод[[#This Row],[Цена прайс]]","v":2100}]
[null,null,"Работы",null,null,null,0,{"$f":"$E$5*800","v":8000},{"$f":"$E$5*1000","v":10000},{"$f":"$E$5*1600","v":16000},{"$f":"$E$5*800","v":8000},{"$f":"$E$5*800","v":8000},{"$f":"$E$5*1000","v":10000},{"$f":"$E$5*1000","v":10000},null,{"$f":"$E$5*800","v":8000},{"$f":"$E$5*1000","v":10000}]
[null,null,"Транспорт",null,null,null,0]

{"sheet":"Смета","index":15,"n_rows":29,"n_cols":10,"rows_kept":29,"cut":false,"hidden":false,"merged":[[5,0,6,0],[5,1,6,1],[5,2,6,2],[5,3,6,3],[5,4,6,4],[1,2,2,7],[5,5,5,9],[7,1,12,1],[7,2,12,2],[7,3,12,3],[7,4,12,4]]}
[]
[null,null,"Коммерческое предложение на изготовление и монтаж рекламной накрышной установки для магазина \"Посуда Центр\" в г. Нижнем Новгороде на ТЦ \"ЖАРПТИЦА\""]
[]
[null,"Подрядчик \"Белый Сокол\""]
[]
["№ п/п","Магазин","Наименование","Кол-во, шт.","Размеры, мм","калькуляция"]
[null,null,null,null,null,"статья затрат","ед.изм.","расход ","цена за ед.","сумма"]
[1,"Посуда центр","Изготовление и монтаж накрышной установки",1,"5000x2000","Проф труба:  ",null,null,0,12000]
[2,null,null,null,null,"Провода, крепёж, покраска: ","шт.",1,200,2000]
[3,null,null,null,null,"Лицевая: акрил ",null,null,338.90000000000003,1016.7]
[4,null,null,null,null,"Задняя часть: Оцинкованная сталь",null,null,340,3400]
[5,null,null,null,null,"Работы: ",null,null,0,10000]
[6,null,null,null,null,"Прибыль:","%",80,0,22733.360000000001]
[]
[null,null,null,null,null,"ИТОГО к оплате:",null,null,null,{"$f":"SUM(J8:J13)","v":51150.06}]
[]
[]
[]
[]
[null,"Срок изготовления - 15 рабочих дней."]
[null,"Гарантия на весь спектр работ 3 года."]
[]
[]
[]
[]
[]
[]
[]
[null,"Директор",null,null,"Макаренко М.А."]

{"sheet":"Смета (образец)","index":16,"n_rows":40,"n_cols":10,"rows_kept":40,"cut":false,"hidden":true,"merged":[[5,0,6,0],[5,1,6,1],[5,2,6,2],[5,3,6,3],[5,4,6,4],[7,1,23,1],[7,2,23,2],[7,3,23,3],[7,4,23,4],[1,2,2,7],[5,5,5,9]]}
[]
[null,null,"Коммерческое предложение на изготовление и монтаж рекламной накрышной установки для магазина \"Посуда Центр\" в г. Нижнем Новгороде на ТЦ \"ЖАРПТИЦА\""]
[]
[null,"Подрядчик \"Белый Сокол\""]
[]
["№ п/п","Магазин","Наименование","Кол-во, шт.","Размеры, мм","калькуляция"]
[null,null,null,null,null,"статья затрат","ед.изм.","расход ","цена за ед.","сумма"]
[1,"Посуда Центр","Изгготовление и монтаж накрышной установки",1,"12000х2700","Акрил 3 мм","м2",17.5,1100,{"$f":"H8*I8","v":19250}]
[2,null,null,null,null,"Элькамет","м.п.",78.599999999999994,295,{"$f":"H9*I9","v":23187}]
[3,null,null,null,null,"Профиль ALS","м.п.",78.599999999999994,186,14619.599999999999]
[4,null,null,null,null,"Оцинкованная сталь крашенная","м2",15,350,5250]
[5,null,null,null,null,"ПВХ 10 мм","м2",17.5,1320,23100]
[6,null,null,null,null,"Профильная труба (50х50, угол 50х50, 25х25 мм)","м.п.",320,330,{"$f":"H13*I13","v":105600}]
[7,null,null,null,null,"Баннер транслюцентный (проклейка, люверсы)","м2",12.5,780,9750]
[8,null,null,null,null,"Светодиодные модули ELF 0,72Вт","шт",1245,45,56025]
[9,null,null,null,null,"Блоки питания 100W","шт",11,1170,12870]
[10,null,null,null,null,"Аммортизация оборудования",null,null,null,{"$f":"(SUM(J8:J16)*0.05)","v":13482.58}]
[11,null,null,null,null,"Транспортные расходы",null,null,null,30000]
[12,null,null,null,null,"З/пл основное производство",null,null,null,63715]
[13,null,null,null,null,"Спецтехника Кран и АГП",null,null,null,23000]
[14,null,null,null,null,"Монтаж",null,null,null,67000]
[15,null,null,null,null,"Сумма",null,null,null,{"$f":"SUM(J8:J21)","v":466849.18}]
[16,null,null,null,null,"Прибыль ","%",25,null,{"$f":"J22*0.25","v":116712.295}]
[17,null,null,null,null,"ИТОГО:",null,null,null,{"$f":"J22+J23","v":583561.47499999998}]
[null,null,null,null,null,"ИТОГО к оплате:",null,null,null,{"$f":"J24","v":583561.47499999998}]
[]
[]
[]
[]
[]
[null,"Срок изготовления - 15 рабочих дней."]
[null,"Гарантия на весь спектр работ 3 года."]
[]
[]
[]
[]
[]
[]
[]
[null,"Директор",null,null,"Макаренко М.А."]